Back to the "Multiple platform build/check report"
| Package 191/234 | Hostname | OS | Arch | BUILD | CHECK | BUILD BIN |
| RMAPPER 1.8.0 VJ Carey Last Changed Date: 2007-10-02 17:41:09 -0700 Last Changed Rev: 27709 | lamb1 | Linux (SUSE 10.1) | x86_64 | OK | OK | |
| wellington | Linux (SUSE 9.2) | i686 | OK | OK | ||
| liverpool | Windows Server 2003 R2 (32-bit) | x64 | OK | OK | OK | |
| pitt | Mac OS X (10.4.10) | i386 | OK | OK | [ OK ] |
| Package: RMAPPER |
| Version: 1.8.0 |
| Command: /Users/biocbuild/BBS/utils/build-universal.sh RMAPPER_1.8.0.tar.gz /Library/Frameworks/R.framework/Resources/bin/R RMAPPER.buildbin-libdir |
| RetCode: 0 |
| Time: 2.8 seconds |
| Status: OK |
| PackageFile: RMAPPER_1.8.0.tgz |
INSTALLATION WITH 'R CMD INSTALL RMAPPER_1.8.0.tar.gz'
* Installing to library 'RMAPPER.buildbin-libdir'
* Installing *source* package 'RMAPPER' ...
** R
** inst
** help
>>> Building/Updating help pages for package 'RMAPPER'
Formats: text html latex example
mapperHits-class text html latex example
readMapper text html latex example
** building package indices ...
* DONE (RMAPPER)