Back to the "Multiple platform build/check report"
Package 177/234 | Hostname | OS | Arch | BUILD | CHECK | BUILD BIN |
RBGL 1.14.0 Li Long Last Changed Date: 2007-10-02 17:41:09 -0700 Last Changed Rev: 27709 | lamb1 | Linux (SUSE 10.1) | x86_64 | OK | WARNINGS | |
wellington | Linux (SUSE 9.2) | i686 | OK | OK | ||
liverpool | Windows Server 2003 R2 (32-bit) | x64 | OK | WARNINGS | OK | |
pitt | Mac OS X (10.4.10) | i386 | OK | WARNINGS | [ OK ] |
Package: RBGL |
Version: 1.14.0 |
Command: /Users/biocbuild/BBS/utils/build-universal.sh RBGL_1.14.0.tar.gz /Library/Frameworks/R.framework/Resources/bin/R RBGL.buildbin-libdir |
RetCode: 0 |
Time: 171.8 seconds |
Status: OK |
PackageFile: RBGL_1.14.0.tgz |
INSTALLATION WITH 'R CMD INSTALL RBGL_1.14.0.tar.gz' * Installing to library 'RBGL.buildbin-libdir' * Installing *source* package 'RBGL' ... untarring boost include tree... ** libs ** arch - i386 g++-4.0 -arch i386 -isysroot /Developer/SDKs/MacOSX10.4u.sdk -no-cpp-precomp -I/Library/Frameworks/R.framework/Resources/include -I/Library/Frameworks/R.framework/Resources/include/i386 -msse3 -IboostIncl -fPIC -g -O2 -Wall -march=nocona -c bbc.cpp -o bbc.o boostIncl/boost/graph/dijkstra_shortest_paths.hpp: In function 'void boost::detail::dijkstra_dispatch2(const VertexListGraph&, typename boost::graph_traits<G>::vertex_descriptor, DistanceMap, WeightMap, IndexMap, const Params&, ColorMap) [with VertexListGraph = boost::adjacency_list<boost::vecS, boost::vecS, boost::undirectedS, boost::property<boost::vertex_index_t, int, boost::property<boost::vertex_centrality_t, double, boost::no_property> >, boost::property<boost::edge_weight_t, double, boost::property<boost::edge_centrality_t, double, boost::no_property> >, boost::no_property, boost::listS>, DistanceMap = boost::iterator_property_map<__gnu_cxx::__normal_iterator<double*, std::vector<double, std::allocator<double> > >, boost::vec_adj_list_vertex_id_map<boost::property<boost::vertex_index_t, int, boost::property<boost::vertex_centrality_t, double, boost::no_property> >, size_t>, double, double&>, WeightMap = boost::adj_list_edge_property_map<boost::undirected_tag, double, double&, size_t, boost::property<boost::edge_weight_t, double, boost::property<boost::edge_centrality_t, double, boost::no_property> >, boost::edge_weight_t>, IndexMap = boost::vec_adj_list_vertex_id_map<boost::property<boost::vertex_index_t, int, boost::property<boost::vertex_centrality_t, double, boost::no_property> >, size_t>, Params = boost::bgl_named_params<boost::detail::graph::brandes_dijkstra_visitor<const boost::adjacency_list<boost::vecS, boost::vecS, boost::undirectedS, boost::property<boost::vertex_index_t, int, boost::property<boost::vertex_centrality_t, double, boost::no_property> >, boost::property<boost::edge_weight_t, double, boost::property<boost::edge_centrality_t, double, boost::no_property> >, boost::no_property, boost::listS>, boost::adj_list_edge_property_map<boost::undirected_tag, double, double&, size_t, boost::property<boost::edge_weight_t, double, boost::property<boost::edge_centrality_t, double, boost::no_property> >, boost::edge_weight_t>, boost::iterator_property_map<__gnu_cxx::__normal_iterator<std::vector<boost::detail::edge_desc_impl<boost::undirected_tag, size_t>, std::allocator<boost::detail::edge_desc_impl<boost::undirected_tag, size_t> > >*, std::vector<std::vector<boost::detail::edge_desc_impl<boost::undirected_tag, size_t>, std::allocator<boost::detail::edge_desc_impl<boost::undirected_tag, size_t> > >, std::allocator<std::vector<boost::detail::edge_desc_impl<boost::undirected_tag, size_t>, std::allocator<boost::detail::edge_desc_impl<boost::undirected_tag, size_t> > > > > >, boost::vec_adj_list_vertex_id_map<boost::property<boost::vertex_index_t, int, boost::property<boost::vertex_centrality_t, double, boost::no_property> >, size_t>, std::vector<boost::detail::edge_desc_impl<boost::undirected_tag, size_t>, std::allocator<boost::detail::edge_desc_impl<boost::undirected_tag, size_t> > >, std::vector<boost::detail::edge_desc_impl<boost::undirected_tag, size_t>, std::allocator<boost::detail::edge_desc_impl<boost::undirected_tag, size_t> > >&>, boost::iterator_property_map<__gnu_cxx::__normal_iterator<double*, std::vector<double, std::allocator<double> > >, boost::vec_adj_list_vertex_id_map<boost::property<boost::vertex_index_t, int, boost::property<boost::vertex_centrality_t, double, boost::no_property> >, size_t>, double, double&>, boost::iterator_property_map<__gnu_cxx::__normal_iterator<size_t*, std::vector<size_t, std::allocator<size_t> > >, boost::vec_adj_list_vertex_id_map<boost::property<boost::vertex_index_t, int, boost::property<boost::vertex_centrality_t, double, boost::no_property> >, size_t>, size_t, size_t&> >, boost::graph_visitor_t, boost::bgl_named_params<boost::iterator_property_map<__gnu_cxx::__normal_iterator<double*, std::vector<double, std::allocator<double> > >, boost::vec_adj_list_vertex_id_map<boost::property<boost::vertex_index_t, int, boost::property<boost::vertex_centrality_t, double, boost::no_property> >, size_t>, double, double&>, boost::vertex_distance_t, boost::bgl_named_params<boost::vec_adj_list_vertex_id_map<boost::property<boost::vertex_index_t, int, boost::property<boost::vertex_centrality_t, double, boost::no_property> >, size_t>, boost::vertex_index_t, boost::bgl_named_params<boost::adj_list_edge_property_map<boost::undirected_tag, double, double&, size_t, boost::property<boost::edge_weight_t, double, boost::property<boost::edge_centrality_t, double, boost::no_property> >, boost::edge_weight_t>, boost::edge_weight_t, boost::no_property> > > >, ColorMap = boost::iterator_property_map<__gnu_cxx::__normal_iterator<boost::default_color_type*, std::vector<boost::default_color_type, std::allocator<boost::default_color_type> > >, boost::vec_adj_list_vertex_id_map<boost::property<boost::vertex_index_t, int, boost::property<boost::vertex_centrality_t, double, boost::no_property> >, size_t>, boost::default_color_type, boost::default_color_type&>]': boostIncl/boost/graph/dijkstra_shortest_paths.hpp:80: warning: 'bfs_vis$m_decreased' is used uninitialized in this function g++-4.0 -arch i386 -isysroot /Developer/SDKs/MacOSX10.4u.sdk -no-cpp-precomp -I/Library/Frameworks/R.framework/Resources/include -I/Library/Frameworks/R.framework/Resources/include/i386 -msse3 -IboostIncl -fPIC -g -O2 -Wall -march=nocona -c cliques.cpp -o cliques.o g++-4.0 -arch i386 -isysroot /Developer/SDKs/MacOSX10.4u.sdk -no-cpp-precomp -I/Library/Frameworks/R.framework/Resources/include -I/Library/Frameworks/R.framework/Resources/include/i386 -msse3 -IboostIncl -fPIC -g -O2 -Wall -march=nocona -c clusteringCoef.cpp -o clusteringCoef.o g++-4.0 -arch i386 -isysroot /Developer/SDKs/MacOSX10.4u.sdk -no-cpp-precomp -I/Library/Frameworks/R.framework/Resources/include -I/Library/Frameworks/R.framework/Resources/include/i386 -msse3 -IboostIncl -fPIC -g -O2 -Wall -march=nocona -c hcs.cpp -o hcs.o boostIncl/boost/graph/detail/adjacency_list.hpp: In function 'std::pair<typename Config::edge_descriptor, bool> boost::add_edge(typename Config::vertex_descriptor, typename Config::vertex_descriptor, boost::vec_adj_list_impl<G, C, B>&) [with Graph = boost::adjacency_list<boost::vecS, boost::vecS, boost::directedS, boost::no_property, boost::property<boost::edge_capacity_t, size_t, boost::property<boost::edge_residual_capacity_t, size_t, boost::property<boost::edge_reverse_t, boost::edge_connectivity(VertexListGraph&, OutputIterator)::Tr_edge_desc, boost::no_property> > >, boost::no_property, boost::listS>, Config = boost::detail::adj_list_gen<boost::adjacency_list<boost::vecS, boost::vecS, boost::directedS, boost::no_property, boost::property<boost::edge_capacity_t, size_t, boost::property<boost::edge_residual_capacity_t, size_t, boost::property<boost::edge_reverse_t, boost::edge_connectivity(VertexListGraph&, OutputIterator)::Tr_edge_desc, boost::no_property> > >, boost::no_property, boost::listS>, boost::vecS, boost::vecS, boost::directedS, boost::no_property, boost::property<boost::edge_capacity_t, size_t, boost::property<boost::edge_residual_capacity_t, size_t, boost::property<boost::edge_reverse_t, boost::edge_connectivity(VertexListGraph&, OutputIterator)::Tr_edge_desc, boost::no_property> > >, boost::no_property, boost::listS>::config, Base = boost::directed_graph_helper<boost::detail::adj_list_gen<boost::adjacency_list<boost::vecS, boost::vecS, boost::directedS, boost::no_property, boost::property<boost::edge_capacity_t, size_t, boost::property<boost::edge_residual_capacity_t, size_t, boost::property<boost::edge_reverse_t, boost::edge_connectivity(VertexListGraph&, OutputIterator)::Tr_edge_desc, boost::no_property> > >, boost::no_property, boost::listS>, boost::vecS, boost::vecS, boost::directedS, boost::no_property, boost::property<boost::edge_capacity_t, size_t, boost::property<boost::edge_residual_capacity_t, size_t, boost::property<boost::edge_reverse_t, boost::edge_connectivity(VertexListGraph&, OutputIterator)::Tr_edge_desc, boost::no_property> > >, boost::no_property, boost::listS>::config>]': boostIncl/boost/graph/detail/adjacency_list.hpp:263: warning: 'p$m_value' is used uninitialized in this function boostIncl/boost/graph/detail/adjacency_list.hpp:263: warning: 'p$D93683$m_value' is used uninitialized in this function boostIncl/boost/graph/detail/adjacency_list.hpp:263: warning: 'p$D93683$D93648$m_value$D91477$m_target' is used uninitialized in this function boostIncl/boost/graph/detail/adjacency_list.hpp:263: warning: 'p$D93683$D93648$m_value$D91477$m_source' is used uninitialized in this function boostIncl/boost/graph/edge_connectivity.hpp: In function 'typename boost::graph_traits<G>::edges_size_type boost::min_cut(VertexListGraph&, OutputIterator, OutputIterator) [with VertexListGraph = const R_adjacency_list<boost::undirectedS, double>, OutputIterator = std::back_insert_iterator<Cluster>]': boostIncl/boost/graph/edge_connectivity.hpp:32: warning: 'p' may be used uninitialized in this function g++-4.0 -arch i386 -isysroot /Developer/SDKs/MacOSX10.4u.sdk -no-cpp-precomp -I/Library/Frameworks/R.framework/Resources/include -I/Library/Frameworks/R.framework/Resources/include/i386 -msse3 -IboostIncl -fPIC -g -O2 -Wall -march=nocona -c incrConnComp.cpp -o incrConnComp.o g++-4.0 -arch i386 -isysroot /Developer/SDKs/MacOSX10.4u.sdk -no-cpp-precomp -I/Library/Frameworks/R.framework/Resources/include -I/Library/Frameworks/R.framework/Resources/include/i386 -msse3 -IboostIncl -fPIC -g -O2 -Wall -march=nocona -c interfaces.cpp -o interfaces.o boostIncl/boost/graph/detail/adjacency_list.hpp: In function 'std::pair<typename Config::edge_descriptor, bool> boost::add_edge(typename Config::vertex_descriptor, typename Config::vertex_descriptor, boost::vec_adj_list_impl<G, C, B>&) [with Graph = boost::adjacency_list<boost::vecS, boost::vecS, boost::directedS, boost::no_property, boost::property<boost::edge_capacity_t, size_t, boost::property<boost::edge_residual_capacity_t, size_t, boost::property<boost::edge_reverse_t, boost::edge_connectivity(VertexListGraph&, OutputIterator)::Tr_edge_desc, boost::no_property> > >, boost::no_property, boost::listS>, Config = boost::detail::adj_list_gen<boost::adjacency_list<boost::vecS, boost::vecS, boost::directedS, boost::no_property, boost::property<boost::edge_capacity_t, size_t, boost::property<boost::edge_residual_capacity_t, size_t, boost::property<boost::edge_reverse_t, boost::edge_connectivity(VertexListGraph&, OutputIterator)::Tr_edge_desc, boost::no_property> > >, boost::no_property, boost::listS>, boost::vecS, boost::vecS, boost::directedS, boost::no_property, boost::property<boost::edge_capacity_t, size_t, boost::property<boost::edge_residual_capacity_t, size_t, boost::property<boost::edge_reverse_t, boost::edge_connectivity(VertexListGraph&, OutputIterator)::Tr_edge_desc, boost::no_property> > >, boost::no_property, boost::listS>::config, Base = boost::directed_graph_helper<boost::detail::adj_list_gen<boost::adjacency_list<boost::vecS, boost::vecS, boost::directedS, boost::no_property, boost::property<boost::edge_capacity_t, size_t, boost::property<boost::edge_residual_capacity_t, size_t, boost::property<boost::edge_reverse_t, boost::edge_connectivity(VertexListGraph&, OutputIterator)::Tr_edge_desc, boost::no_property> > >, boost::no_property, boost::listS>, boost::vecS, boost::vecS, boost::directedS, boost::no_property, boost::property<boost::edge_capacity_t, size_t, boost::property<boost::edge_residual_capacity_t, size_t, boost::property<boost::edge_reverse_t, boost::edge_connectivity(VertexListGraph&, OutputIterator)::Tr_edge_desc, boost::no_property> > >, boost::no_property, boost::listS>::config>]': boostIncl/boost/graph/detail/adjacency_list.hpp:263: warning: 'p$m_value' is used uninitialized in this function boostIncl/boost/graph/detail/adjacency_list.hpp:263: warning: 'p$D98229$m_value' is used uninitialized in this function boostIncl/boost/graph/detail/adjacency_list.hpp:263: warning: 'p$D98229$D98194$m_value$D78339$m_target' is used uninitialized in this function boostIncl/boost/graph/detail/adjacency_list.hpp:263: warning: 'p$D98229$D98194$m_value$D78339$m_source' is used uninitialized in this function boostIncl/boost/graph/edge_connectivity.hpp: In function 'typename boost::graph_traits<G>::degree_size_type boost::edge_connectivity(VertexListGraph&, OutputIterator) [with VertexListGraph = Graph_ud, OutputIterator = std::back_insert_iterator<std::vector<BGL_edge_connectivity_U(SEXPREC*, SEXPREC*, SEXPREC*, SEXPREC*)::Edge, std::allocator<BGL_edge_connectivity_U(SEXPREC*, SEXPREC*, SEXPREC*, SEXPREC*)::Edge> > >]': boostIncl/boost/graph/edge_connectivity.hpp:32: warning: 'p' may be used uninitialized in this function g++-4.0 -arch i386 -isysroot /Developer/SDKs/MacOSX10.4u.sdk -no-cpp-precomp -I/Library/Frameworks/R.framework/Resources/include -I/Library/Frameworks/R.framework/Resources/include/i386 -msse3 -IboostIncl -fPIC -g -O2 -Wall -march=nocona -c layout.cpp -o layout.o boostIncl/boost/graph/fruchterman_reingold.hpp: In function 'void boost::fruchterman_reingold_force_directed_layout(const Graph&, PositionMap, Dim, Dim, AttractiveForce, RepulsiveForce, ForcePairs, Cooling, DisplacementMap) [with Graph = boost::adjacency_list<boost::vecS, boost::vecS, boost::undirectedS, boost::property<boost::vertex_index_t, int, boost::property<vertex_position_t, boost::simple_point<double>, boost::no_property> >, boost::property<boost::edge_weight_t, double, boost::no_property>, boost::no_property, boost::listS>, PositionMap = boost::iterator_property_map<__gnu_cxx::__normal_iterator<boost::simple_point<double>*, std::vector<boost::simple_point<double>, std::allocator<boost::simple_point<double> > > >, boost::vec_adj_list_vertex_id_map<boost::property<boost::vertex_index_t, int, boost::property<vertex_position_t, boost::simple_point<double>, boost::no_property> >, size_t>, boost::simple_point<double>, boost::simple_point<double>&>, Dim = double, AttractiveForce = boost::square_distance_attractive_force, RepulsiveForce = boost::square_distance_repulsive_force, ForcePairs = boost::grid_force_pairs<double, boost::iterator_property_map<__gnu_cxx::__normal_iterator<boost::simple_point<double>*, std::vector<boost::simple_point<double>, std::allocator<boost::simple_point<double> > > >, boost::vec_adj_list_vertex_id_map<boost::property<boost::vertex_index_t, int, boost::property<vertex_position_t, boost::simple_point<double>, boost::no_property> >, size_t>, boost::simple_point<double>, boost::simple_point<double>&> >, Cooling = boost::linear_cooling<double>, DisplacementMap = boost::iterator_property_map<__gnu_cxx::__normal_iterator<boost::simple_point<double>*, std::vector<boost::simple_point<double>, std::allocator<boost::simple_point<double> > > >, boost::vec_adj_list_vertex_id_map<boost::property<boost::vertex_index_t, int, boost::property<vertex_position_t, boost::simple_point<double>, boost::no_property> >, size_t>, boost::simple_point<double>, boost::simple_point<double>&>]': boostIncl/boost/graph/fruchterman_reingold.hpp:366: instantiated from 'static void boost::detail::fr_force_directed_layout<boost::detail::error_property_not_found>::run(const Graph&, PositionMap, Dim, Dim, AttractiveForce, RepulsiveForce, ForcePairs, Cooling, boost::detail::error_property_not_found, const boost::bgl_named_params<Param, Tag, Rest>&) [with Graph = boost::adjacency_list<boost::vecS, boost::vecS, boost::undirectedS, boost::property<boost::vertex_index_t, int, boost::property<vertex_position_t, boost::simple_point<double>, boost::no_property> >, boost::property<boost::edge_weight_t, double, boost::no_property>, boost::no_property, boost::listS>, PositionMap = boost::iterator_property_map<__gnu_cxx::__normal_iterator<boost::simple_point<double>*, std::vector<boost::simple_point<double>, std::allocator<boost::simple_point<double> > > >, boost::vec_adj_list_vertex_id_map<boost::property<boost::vertex_index_t, int, boost::property<vertex_position_t, boost::simple_point<double>, boost::no_property> >, size_t>, boost::simple_point<double>, boost::simple_point<double>&>, Dim = double, AttractiveForce = boost::square_distance_attractive_force, RepulsiveForce = boost::square_distance_repulsive_force, ForcePairs = boost::grid_force_pairs<double, boost::iterator_property_map<__gnu_cxx::__normal_iterator<boost::simple_point<double>*, std::vector<boost::simple_point<double>, std::allocator<boost::simple_point<double> > > >, boost::vec_adj_list_vertex_id_map<boost::property<boost::vertex_index_t, int, boost::property<vertex_position_t, boost::simple_point<double>, boost::no_property> >, size_t>, boost::simple_point<double>, boost::simple_point<double>&> >, Cooling = boost::linear_cooling<double>, Param = boost::square_distance_attractive_force, Tag = boost::attractive_force_t, Rest = boost::no_property]' boostIncl/boost/graph/fruchterman_reingold.hpp:392: instantiated from 'void boost::fruchterman_reingold_force_directed_layout(const Graph&, PositionMap, Dim, Dim, const boost::bgl_named_params<P, T, R>&) [with Graph = boost::adjacency_list<boost::vecS, boost::vecS, boost::undirectedS, boost::property<boost::vertex_index_t, int, boost::property<vertex_position_t, boost::simple_point<double>, boost::no_property> >, boost::property<boost::edge_weight_t, double, boost::no_property>, boost::no_property, boost::listS>, PositionMap = boost::iterator_property_map<__gnu_cxx::__normal_iterator<boost::simple_point<double>*, std::vector<boost::simple_point<double>, std::allocator<boost::simple_point<double> > > >, boost::vec_adj_list_vertex_id_map<boost::property<boost::vertex_index_t, int, boost::property<vertex_position_t, boost::simple_point<double>, boost::no_property> >, size_t>, boost::simple_point<double>, boost::simple_point<double>&>, Dim = double, Param = boost::square_distance_attractive_force, Tag = boost::attractive_force_t, Rest = boost::no_property]' boostIncl/boost/graph/fruchterman_reingold.hpp:413: instantiated from 'void boost::fruchterman_reingold_force_directed_layout(const Graph&, PositionMap, Dim, Dim) [with Graph = IndexGraph, PositionMap = boost::iterator_property_map<__gnu_cxx::__normal_iterator<boost::simple_point<double>*, std::vector<boost::simple_point<double>, std::allocator<boost::simple_point<double> > > >, boost::vec_adj_list_vertex_id_map<boost::property<boost::vertex_index_t, int, boost::property<vertex_position_t, boost::simple_point<double>, boost::no_property> >, size_t>, boost::simple_point<double>, boost::simple_point<double>&>, Dim = double]' layout.cpp:187: instantiated from here boostIncl/boost/graph/fruchterman_reingold.hpp:312: warning: suggest parentheses around assignment used as truth value boostIncl/boost/graph/detail/adjacency_list.hpp: In function 'std::pair<typename Config::edge_descriptor, bool> boost::add_edge(typename Config::vertex_descriptor, typename Config::vertex_descriptor, boost::vec_adj_list_impl<G, C, B>&) [with Graph = boost::adjacency_list<boost::vecS, boost::vecS, boost::directedS, boost::property<boost::vertex_distance_t, double, boost::no_property>, boost::property<boost::edge_weight_t, double, boost::property<boost::edge_weight2_t, double, boost::no_property> >, boost::no_property, boost::listS>, Config = boost::detail::adj_list_gen<boost::adjacency_list<boost::vecS, boost::vecS, boost::directedS, boost::property<boost::vertex_distance_t, double, boost::no_property>, boost::property<boost::edge_weight_t, double, boost::property<boost::edge_weight2_t, double, boost::no_property> >, boost::no_property, boost::listS>, boost::vecS, boost::vecS, boost::directedS, boost::property<boost::vertex_distance_t, double, boost::no_property>, boost::property<boost::edge_weight_t, double, boost::property<boost::edge_weight2_t, double, boost::no_property> >, boost::no_property, boost::listS>::config, Base = boost::directed_graph_helper<boost::detail::adj_list_gen<boost::adjacency_list<boost::vecS, boost::vecS, boost::directedS, boost::property<boost::vertex_distance_t, double, boost::no_property>, boost::property<boost::edge_weight_t, double, boost::property<boost::edge_weight2_t, double, boost::no_property> >, boost::no_property, boost::listS>, boost::vecS, boost::vecS, boost::directedS, boost::property<boost::vertex_distance_t, double, boost::no_property>, boost::property<boost::edge_weight_t, double, boost::property<boost::edge_weight2_t, double, boost::no_property> >, boost::no_property, boost::listS>::config>]': boostIncl/boost/graph/detail/adjacency_list.hpp:263: warning: 'p$m_value' is used uninitialized in this function boostIncl/boost/graph/detail/adjacency_list.hpp:263: warning: 'p$D104486$m_value' is used uninitialized in this function boostIncl/boost/graph/dijkstra_shortest_paths.hpp: In function 'void boost::dijkstra_shortest_paths(const VertexListGraph&, typename boost::graph_traits<G>::vertex_descriptor, PredecessorMap, DistanceMap, WeightMap, IndexMap, Compare, Combine, DistInf, DistZero, DijkstraVisitor) [with VertexListGraph = boost::adjacency_list<boost::vecS, boost::vecS, boost::directedS, boost::property<boost::vertex_distance_t, double, boost::no_property>, boost::property<boost::edge_weight_t, double, boost::property<boost::edge_weight2_t, double, boost::no_property> >, boost::no_property, boost::listS>, DijkstraVisitor = boost::dijkstra_visitor<boost::null_visitor>, PredecessorMap = boost::dummy_property_map, DistanceMap = boost::vec_adj_list_vertex_property_map<boost::adjacency_list<boost::vecS, boost::vecS, boost::directedS, boost::property<boost::vertex_distance_t, double, boost::no_property>, boost::property<boost::edge_weight_t, double, boost::property<boost::edge_weight2_t, double, boost::no_property> >, boost::no_property, boost::listS>, boost::adjacency_list<boost::vecS, boost::vecS, boost::directedS, boost::property<boost::vertex_distance_t, double, boost::no_property>, boost::property<boost::edge_weight_t, double, boost::property<boost::edge_weight2_t, double, boost::no_property> >, boost::no_property, boost::listS>*, double, double&, boost::vertex_distance_t>, WeightMap = boost::adj_list_edge_property_map<boost::directed_tag, double, double&, size_t, boost::property<boost::edge_weight_t, double, boost::property<boost::edge_weight2_t, double, boost::no_property> >, boost::edge_weight2_t>, IndexMap = boost::vec_adj_list_vertex_id_map<boost::property<boost::vertex_distance_t, double, boost::no_property>, size_t>, Compare = std::less<double>, Combine = boost::closed_plus<double>, DistInf = double, DistZero = double]': boostIncl/boost/graph/dijkstra_shortest_paths.hpp:80: warning: 'bfs_vis$m_decreased' is used uninitialized in this function boostIncl/boost/graph/johnson_all_pairs_shortest.hpp: In function 'bool boost::johnson_all_pairs_shortest_paths(VertexAndEdgeListGraph&, DistanceMatrix&, VertexID, Weight, DistanceZero) [with VertexAndEdgeListGraph = const boost::adjacency_list<boost::vecS, boost::vecS, boost::undirectedS, boost::property<boost::vertex_index_t, int, boost::property<vertex_position_t, boost::simple_point<double>, boost::no_property> >, boost::property<boost::edge_weight_t, double, boost::no_property>, boost::no_property, boost::listS>, DistanceMatrix = __gnu_cxx::__normal_iterator<std::vector<double, std::allocator<double> >*, std::vector<std::vector<double, std::allocator<double> >, std::allocator<std::vector<double, std::allocator<double> > > > >, VertexID = boost::vec_adj_list_vertex_id_map<boost::property<boost::vertex_index_t, int, boost::property<vertex_position_t, boost::simple_point<double>, boost::no_property> >, size_t>, Weight = boost::adj_list_edge_property_map<boost::undirected_tag, double, double&, size_t, boost::property<boost::edge_weight_t, double, boost::no_property>, boost::edge_weight_t>, DistanceZero = double]': boostIncl/boost/graph/johnson_all_pairs_shortest.hpp:108: warning: 'bvis' is used uninitialized in this function boostIncl/boost/graph/johnson_all_pairs_shortest.hpp:120: warning: 'dvis' is used uninitialized in this function g++-4.0 -arch i386 -isysroot /Developer/SDKs/MacOSX10.4u.sdk -no-cpp-precomp -I/Library/Frameworks/R.framework/Resources/include -I/Library/Frameworks/R.framework/Resources/include/i386 -msse3 -IboostIncl -fPIC -g -O2 -Wall -march=nocona -c minST.cpp -o minST.o g++-4.0 -arch i386 -isysroot /Developer/SDKs/MacOSX10.4u.sdk -no-cpp-precomp -I/Library/Frameworks/R.framework/Resources/include -I/Library/Frameworks/R.framework/Resources/include/i386 -msse3 -IboostIncl -fPIC -g -O2 -Wall -march=nocona -c mincut.cpp -o mincut.o boostIncl/boost/graph/detail/adjacency_list.hpp: In function 'std::pair<typename Config::edge_descriptor, bool> boost::add_edge(typename Config::vertex_descriptor, typename Config::vertex_descriptor, boost::vec_adj_list_impl<G, C, B>&) [with Graph = boost::adjacency_list<boost::vecS, boost::vecS, boost::directedS, boost::no_property, boost::property<boost::edge_capacity_t, size_t, boost::property<boost::edge_residual_capacity_t, size_t, boost::property<boost::edge_reverse_t, boost::edge_connectivity(VertexListGraph&, OutputIterator)::Tr_edge_desc, boost::no_property> > >, boost::no_property, boost::listS>, Config = boost::detail::adj_list_gen<boost::adjacency_list<boost::vecS, boost::vecS, boost::directedS, boost::no_property, boost::property<boost::edge_capacity_t, size_t, boost::property<boost::edge_residual_capacity_t, size_t, boost::property<boost::edge_reverse_t, boost::edge_connectivity(VertexListGraph&, OutputIterator)::Tr_edge_desc, boost::no_property> > >, boost::no_property, boost::listS>, boost::vecS, boost::vecS, boost::directedS, boost::no_property, boost::property<boost::edge_capacity_t, size_t, boost::property<boost::edge_residual_capacity_t, size_t, boost::property<boost::edge_reverse_t, boost::edge_connectivity(VertexListGraph&, OutputIterator)::Tr_edge_desc, boost::no_property> > >, boost::no_property, boost::listS>::config, Base = boost::directed_graph_helper<boost::detail::adj_list_gen<boost::adjacency_list<boost::vecS, boost::vecS, boost::directedS, boost::no_property, boost::property<boost::edge_capacity_t, size_t, boost::property<boost::edge_residual_capacity_t, size_t, boost::property<boost::edge_reverse_t, boost::edge_connectivity(VertexListGraph&, OutputIterator)::Tr_edge_desc, boost::no_property> > >, boost::no_property, boost::listS>, boost::vecS, boost::vecS, boost::directedS, boost::no_property, boost::property<boost::edge_capacity_t, size_t, boost::property<boost::edge_residual_capacity_t, size_t, boost::property<boost::edge_reverse_t, boost::edge_connectivity(VertexListGraph&, OutputIterator)::Tr_edge_desc, boost::no_property> > >, boost::no_property, boost::listS>::config>]': boostIncl/boost/graph/detail/adjacency_list.hpp:263: warning: 'p$m_value' is used uninitialized in this function boostIncl/boost/graph/detail/adjacency_list.hpp:263: warning: 'p$D91419$m_value' is used uninitialized in this function boostIncl/boost/graph/detail/adjacency_list.hpp:263: warning: 'p$D91419$D91384$m_value$D74977$m_target' is used uninitialized in this function boostIncl/boost/graph/detail/adjacency_list.hpp:263: warning: 'p$D91419$D91384$m_value$D74977$m_source' is used uninitialized in this function boostIncl/boost/graph/detail/adjacency_list.hpp: In function 'std::pair<typename Config::edge_descriptor, bool> boost::add_edge(typename Config::vertex_descriptor, typename Config::vertex_descriptor, boost::vec_adj_list_impl<G, C, B>&) [with Graph = boost::adjacency_list<boost::vecS, boost::vecS, boost::directedS, boost::no_property, boost::property<boost::edge_capacity_t, double, boost::property<boost::edge_residual_capacity_t, double, boost::property<boost::edge_reverse_t, boost::edge_connectivity(VertexListGraph&, OutputIterator)::Tr_edge_desc, boost::no_property> > >, boost::no_property, boost::listS>, Config = boost::detail::adj_list_gen<boost::adjacency_list<boost::vecS, boost::vecS, boost::directedS, boost::no_property, boost::property<boost::edge_capacity_t, double, boost::property<boost::edge_residual_capacity_t, double, boost::property<boost::edge_reverse_t, boost::edge_connectivity(VertexListGraph&, OutputIterator)::Tr_edge_desc, boost::no_property> > >, boost::no_property, boost::listS>, boost::vecS, boost::vecS, boost::directedS, boost::no_property, boost::property<boost::edge_capacity_t, double, boost::property<boost::edge_residual_capacity_t, double, boost::property<boost::edge_reverse_t, boost::edge_connectivity(VertexListGraph&, OutputIterator)::Tr_edge_desc, boost::no_property> > >, boost::no_property, boost::listS>::config, Base = boost::directed_graph_helper<boost::detail::adj_list_gen<boost::adjacency_list<boost::vecS, boost::vecS, boost::directedS, boost::no_property, boost::property<boost::edge_capacity_t, double, boost::property<boost::edge_residual_capacity_t, double, boost::property<boost::edge_reverse_t, boost::edge_connectivity(VertexListGraph&, OutputIterator)::Tr_edge_desc, boost::no_property> > >, boost::no_property, boost::listS>, boost::vecS, boost::vecS, boost::directedS, boost::no_property, boost::property<boost::edge_capacity_t, double, boost::property<boost::edge_residual_capacity_t, double, boost::property<boost::edge_reverse_t, boost::edge_connectivity(VertexListGraph&, OutputIterator)::Tr_edge_desc, boost::no_property> > >, boost::no_property, boost::listS>::config>]': boostIncl/boost/graph/detail/adjacency_list.hpp:263: warning: 'p$m_value' is used uninitialized in this function boostIncl/boost/graph/detail/adjacency_list.hpp:263: warning: 'p$D77378$m_value' is used uninitialized in this function boostIncl/boost/graph/detail/adjacency_list.hpp:263: warning: 'p$D77378$D77343$m_value$D74977$m_target' is used uninitialized in this function boostIncl/boost/graph/detail/adjacency_list.hpp:263: warning: 'p$D77378$D77343$m_value$D74977$m_source' is used uninitialized in this function boostIncl/boost/graph/edge_connectivity.hpp: In function 'typename boost::graph_traits<G>::edges_size_type boost::min_cut(VertexListGraph&, OutputIterator, OutputIterator) [with VertexListGraph = Graph_ud, OutputIterator = std::back_insert_iterator<std::vector<BGL_min_cut_U::Vertex, std::allocator<BGL_min_cut_U::Vertex> > >]': boostIncl/boost/graph/edge_connectivity.hpp:32: warning: 'p' may be used uninitialized in this function boostIncl/boost/graph/push_relabel_max_flow.hpp: In member function 'void boost::detail::push_relabel<Graph, EdgeCapacityMap, ResidualCapacityEdgeMap, ReverseEdgeMap, VertexIndexMap, FlowValue>::discharge(typename boost::graph_traits<Graph>::vertex_descriptor) [with Graph = boost::adjacency_list<boost::vecS, boost::vecS, boost::directedS, boost::no_property, boost::property<boost::edge_capacity_t, double, boost::property<boost::edge_residual_capacity_t, double, boost::property<boost::edge_reverse_t, boost::edge_connectivity(VertexListGraph&, OutputIterator)::Tr_edge_desc, boost::no_property> > >, boost::no_property, boost::listS>, EdgeCapacityMap = boost::adj_list_edge_property_map<boost::directed_tag, double, const double&, size_t, const boost::property<boost::edge_capacity_t, double, boost::property<boost::edge_residual_capacity_t, double, boost::property<boost::edge_reverse_t, boost::edge_connectivity(VertexListGraph&, OutputIterator)::Tr_edge_desc, boost::no_property> > >, boost::edge_capacity_t>, ResidualCapacityEdgeMap = boost::adj_list_edge_property_map<boost::directed_tag, double, double&, size_t, boost::property<boost::edge_capacity_t, double, boost::property<boost::edge_residual_capacity_t, double, boost::property<boost::edge_reverse_t, boost::edge_connectivity(VertexListGraph&, OutputIterator)::Tr_edge_desc, boost::no_property> > >, boost::edge_residual_capacity_t>, ReverseEdgeMap = boost::adj_list_edge_property_map<boost::directed_tag, boost::edge_connectivity(VertexListGraph&, OutputIterator)::Tr_edge_desc, const boost::edge_connectivity(VertexListGraph&, OutputIterator)::Tr_edge_desc&, size_t, const boost::property<boost::edge_capacity_t, double, boost::property<boost::edge_residual_capacity_t, double, boost::property<boost::edge_reverse_t, boost::edge_connectivity(VertexListGraph&, OutputIterator)::Tr_edge_desc, boost::no_property> > >, boost::edge_reverse_t>, VertexIndexMap = boost::vec_adj_list_vertex_id_map<boost::no_property, size_t>, FlowValue = double]': boostIncl/boost/graph/push_relabel_max_flow.hpp:340: warning: 'min_edge_iter$m_src' may be used uninitialized in this function g++-4.0 -arch i386 -isysroot /Developer/SDKs/MacOSX10.4u.sdk -no-cpp-precomp -I/Library/Frameworks/R.framework/Resources/include -I/Library/Frameworks/R.framework/Resources/include/i386 -msse3 -IboostIncl -fPIC -g -O2 -Wall -march=nocona -c ordering.cpp -o ordering.o g++-4.0 -arch i386 -isysroot /Developer/SDKs/MacOSX10.4u.sdk -no-cpp-precomp -I/Library/Frameworks/R.framework/Resources/include -I/Library/Frameworks/R.framework/Resources/include/i386 -msse3 -IboostIncl -fPIC -g -O2 -Wall -march=nocona -c shortestPath.cpp -o shortestPath.o boostIncl/boost/graph/detail/adjacency_list.hpp: In function 'std::pair<typename Config::edge_descriptor, bool> boost::add_edge(typename Config::vertex_descriptor, typename Config::vertex_descriptor, boost::vec_adj_list_impl<G, C, B>&) [with Graph = boost::adjacency_list<boost::vecS, boost::vecS, boost::directedS, boost::property<boost::vertex_distance_t, double, boost::no_property>, boost::property<boost::edge_weight_t, double, boost::property<boost::edge_weight2_t, double, boost::no_property> >, boost::no_property, boost::listS>, Config = boost::detail::adj_list_gen<boost::adjacency_list<boost::vecS, boost::vecS, boost::directedS, boost::property<boost::vertex_distance_t, double, boost::no_property>, boost::property<boost::edge_weight_t, double, boost::property<boost::edge_weight2_t, double, boost::no_property> >, boost::no_property, boost::listS>, boost::vecS, boost::vecS, boost::directedS, boost::property<boost::vertex_distance_t, double, boost::no_property>, boost::property<boost::edge_weight_t, double, boost::property<boost::edge_weight2_t, double, boost::no_property> >, boost::no_property, boost::listS>::config, Base = boost::directed_graph_helper<boost::detail::adj_list_gen<boost::adjacency_list<boost::vecS, boost::vecS, boost::directedS, boost::property<boost::vertex_distance_t, double, boost::no_property>, boost::property<boost::edge_weight_t, double, boost::property<boost::edge_weight2_t, double, boost::no_property> >, boost::no_property, boost::listS>, boost::vecS, boost::vecS, boost::directedS, boost::property<boost::vertex_distance_t, double, boost::no_property>, boost::property<boost::edge_weight_t, double, boost::property<boost::edge_weight2_t, double, boost::no_property> >, boost::no_property, boost::listS>::config>]': boostIncl/boost/graph/detail/adjacency_list.hpp:263: warning: 'p$m_value' is used uninitialized in this function boostIncl/boost/graph/detail/adjacency_list.hpp:263: warning: 'p$D96785$m_value' is used uninitialized in this function boostIncl/boost/graph/dijkstra_shortest_paths.hpp: In function 'void boost::dijkstra_shortest_paths(const VertexListGraph&, typename boost::graph_traits<G>::vertex_descriptor, PredecessorMap, DistanceMap, WeightMap, IndexMap, Compare, Combine, DistInf, DistZero, DijkstraVisitor) [with VertexListGraph = boost::adjacency_list<boost::vecS, boost::vecS, boost::directedS, boost::property<boost::vertex_distance_t, double, boost::no_property>, boost::property<boost::edge_weight_t, double, boost::property<boost::edge_weight2_t, double, boost::no_property> >, boost::no_property, boost::listS>, DijkstraVisitor = boost::dijkstra_visitor<boost::null_visitor>, PredecessorMap = boost::dummy_property_map, DistanceMap = boost::vec_adj_list_vertex_property_map<boost::adjacency_list<boost::vecS, boost::vecS, boost::directedS, boost::property<boost::vertex_distance_t, double, boost::no_property>, boost::property<boost::edge_weight_t, double, boost::property<boost::edge_weight2_t, double, boost::no_property> >, boost::no_property, boost::listS>, boost::adjacency_list<boost::vecS, boost::vecS, boost::directedS, boost::property<boost::vertex_distance_t, double, boost::no_property>, boost::property<boost::edge_weight_t, double, boost::property<boost::edge_weight2_t, double, boost::no_property> >, boost::no_property, boost::listS>*, double, double&, boost::vertex_distance_t>, WeightMap = boost::adj_list_edge_property_map<boost::directed_tag, double, double&, size_t, boost::property<boost::edge_weight_t, double, boost::property<boost::edge_weight2_t, double, boost::no_property> >, boost::edge_weight2_t>, IndexMap = boost::vec_adj_list_vertex_id_map<boost::property<boost::vertex_distance_t, double, boost::no_property>, size_t>, Compare = std::less<double>, Combine = boost::closed_plus<double>, DistInf = double, DistZero = double]': boostIncl/boost/graph/dijkstra_shortest_paths.hpp:80: warning: 'bfs_vis$m_decreased' is used uninitialized in this function boostIncl/boost/graph/johnson_all_pairs_shortest.hpp: In function 'bool boost::johnson_all_pairs_shortest_paths(VertexAndEdgeListGraph&, DistanceMatrix&, VertexID, Weight, DistanceZero) [with VertexAndEdgeListGraph = R_adjacency_list<boost::directedS, double>, DistanceMatrix = Basic2DMatrix<double>, VertexID = boost::vec_adj_list_vertex_id_map<boost::property<boost::vertex_color_t, boost::default_color_type, boost::no_property>, size_t>, Weight = boost::adj_list_edge_property_map<boost::directed_tag, double, double&, size_t, boost::property<boost::edge_weight_t, double, boost::no_property>, boost::edge_weight_t>, DistanceZero = double]': boostIncl/boost/graph/johnson_all_pairs_shortest.hpp:108: warning: 'bvis' is used uninitialized in this function boostIncl/boost/graph/johnson_all_pairs_shortest.hpp:120: warning: 'dvis' is used uninitialized in this function g++-4.0 -arch i386 -isysroot /Developer/SDKs/MacOSX10.4u.sdk -no-cpp-precomp -I/Library/Frameworks/R.framework/Resources/include -I/Library/Frameworks/R.framework/Resources/include/i386 -msse3 -IboostIncl -fPIC -g -O2 -Wall -march=nocona -c sna.cpp -o sna.o boostIncl/boost/graph/detail/adjacency_list.hpp: In function 'std::pair<typename Config::edge_descriptor, bool> boost::add_edge(typename Config::vertex_descriptor, typename Config::vertex_descriptor, boost::vec_adj_list_impl<G, C, B>&) [with Graph = boost::adjacency_list<boost::vecS, boost::vecS, boost::directedS, boost::no_property, boost::property<boost::edge_capacity_t, double, boost::property<boost::edge_residual_capacity_t, double, boost::property<boost::edge_reverse_t, lambdaSets(SEXPREC*, SEXPREC*, SEXPREC*, SEXPREC*)::Tr_edge_desc, boost::no_property> > >, boost::no_property, boost::listS>, Config = boost::detail::adj_list_gen<boost::adjacency_list<boost::vecS, boost::vecS, boost::directedS, boost::no_property, boost::property<boost::edge_capacity_t, double, boost::property<boost::edge_residual_capacity_t, double, boost::property<boost::edge_reverse_t, lambdaSets(SEXPREC*, SEXPREC*, SEXPREC*, SEXPREC*)::Tr_edge_desc, boost::no_property> > >, boost::no_property, boost::listS>, boost::vecS, boost::vecS, boost::directedS, boost::no_property, boost::property<boost::edge_capacity_t, double, boost::property<boost::edge_residual_capacity_t, double, boost::property<boost::edge_reverse_t, lambdaSets(SEXPREC*, SEXPREC*, SEXPREC*, SEXPREC*)::Tr_edge_desc, boost::no_property> > >, boost::no_property, boost::listS>::config, Base = boost::directed_graph_helper<boost::detail::adj_list_gen<boost::adjacency_list<boost::vecS, boost::vecS, boost::directedS, boost::no_property, boost::property<boost::edge_capacity_t, double, boost::property<boost::edge_residual_capacity_t, double, boost::property<boost::edge_reverse_t, lambdaSets(SEXPREC*, SEXPREC*, SEXPREC*, SEXPREC*)::Tr_edge_desc, boost::no_property> > >, boost::no_property, boost::listS>, boost::vecS, boost::vecS, boost::directedS, boost::no_property, boost::property<boost::edge_capacity_t, double, boost::property<boost::edge_residual_capacity_t, double, boost::property<boost::edge_reverse_t, lambdaSets(SEXPREC*, SEXPREC*, SEXPREC*, SEXPREC*)::Tr_edge_desc, boost::no_property> > >, boost::no_property, boost::listS>::config>]': boostIncl/boost/graph/detail/adjacency_list.hpp:263: warning: 'p$m_value' is used uninitialized in this function boostIncl/boost/graph/detail/adjacency_list.hpp:263: warning: 'p$D85174$m_value' is used uninitialized in this function boostIncl/boost/graph/detail/adjacency_list.hpp:263: warning: 'p$D85174$D85139$m_value$D83481$m_target' is used uninitialized in this function boostIncl/boost/graph/detail/adjacency_list.hpp:263: warning: 'p$D85174$D85139$m_value$D83481$m_source' is used uninitialized in this function boostIncl/boost/graph/detail/adjacency_list.hpp: In function 'std::pair<typename Config::edge_descriptor, bool> boost::add_edge(typename Config::vertex_descriptor, typename Config::vertex_descriptor, boost::vec_adj_list_impl<G, C, B>&) [with Graph = boost::adjacency_list<boost::vecS, boost::vecS, boost::directedS, boost::property<boost::vertex_distance_t, double, boost::no_property>, boost::property<boost::edge_weight_t, double, boost::property<boost::edge_weight2_t, double, boost::no_property> >, boost::no_property, boost::listS>, Config = boost::detail::adj_list_gen<boost::adjacency_list<boost::vecS, boost::vecS, boost::directedS, boost::property<boost::vertex_distance_t, double, boost::no_property>, boost::property<boost::edge_weight_t, double, boost::property<boost::edge_weight2_t, double, boost::no_property> >, boost::no_property, boost::listS>, boost::vecS, boost::vecS, boost::directedS, boost::property<boost::vertex_distance_t, double, boost::no_property>, boost::property<boost::edge_weight_t, double, boost::property<boost::edge_weight2_t, double, boost::no_property> >, boost::no_property, boost::listS>::config, Base = boost::directed_graph_helper<boost::detail::adj_list_gen<boost::adjacency_list<boost::vecS, boost::vecS, boost::directedS, boost::property<boost::vertex_distance_t, double, boost::no_property>, boost::property<boost::edge_weight_t, double, boost::property<boost::edge_weight2_t, double, boost::no_property> >, boost::no_property, boost::listS>, boost::vecS, boost::vecS, boost::directedS, boost::property<boost::vertex_distance_t, double, boost::no_property>, boost::property<boost::edge_weight_t, double, boost::property<boost::edge_weight2_t, double, boost::no_property> >, boost::no_property, boost::listS>::config>]': boostIncl/boost/graph/detail/adjacency_list.hpp:263: warning: 'p$m_value' is used uninitialized in this function boostIncl/boost/graph/detail/adjacency_list.hpp:263: warning: 'p$D97443$m_value' is used uninitialized in this function boostIncl/boost/graph/dijkstra_shortest_paths.hpp: In function 'void boost::dijkstra_shortest_paths(const VertexListGraph&, typename boost::graph_traits<G>::vertex_descriptor, PredecessorMap, DistanceMap, WeightMap, IndexMap, Compare, Combine, DistInf, DistZero, DijkstraVisitor) [with VertexListGraph = boost::adjacency_list<boost::vecS, boost::vecS, boost::directedS, boost::property<boost::vertex_distance_t, double, boost::no_property>, boost::property<boost::edge_weight_t, double, boost::property<boost::edge_weight2_t, double, boost::no_property> >, boost::no_property, boost::listS>, DijkstraVisitor = boost::dijkstra_visitor<boost::null_visitor>, PredecessorMap = boost::dummy_property_map, DistanceMap = boost::vec_adj_list_vertex_property_map<boost::adjacency_list<boost::vecS, boost::vecS, boost::directedS, boost::property<boost::vertex_distance_t, double, boost::no_property>, boost::property<boost::edge_weight_t, double, boost::property<boost::edge_weight2_t, double, boost::no_property> >, boost::no_property, boost::listS>, boost::adjacency_list<boost::vecS, boost::vecS, boost::directedS, boost::property<boost::vertex_distance_t, double, boost::no_property>, boost::property<boost::edge_weight_t, double, boost::property<boost::edge_weight2_t, double, boost::no_property> >, boost::no_property, boost::listS>*, double, double&, boost::vertex_distance_t>, WeightMap = boost::adj_list_edge_property_map<boost::directed_tag, double, double&, size_t, boost::property<boost::edge_weight_t, double, boost::property<boost::edge_weight2_t, double, boost::no_property> >, boost::edge_weight2_t>, IndexMap = boost::vec_adj_list_vertex_id_map<boost::property<boost::vertex_distance_t, double, boost::no_property>, size_t>, Compare = std::less<double>, Combine = boost::closed_plus<double>, DistInf = double, DistZero = double]': boostIncl/boost/graph/dijkstra_shortest_paths.hpp:80: warning: 'bfs_vis$m_decreased' is used uninitialized in this function boostIncl/boost/graph/johnson_all_pairs_shortest.hpp: In function 'bool boost::johnson_all_pairs_shortest_paths(VertexAndEdgeListGraph&, DistanceMatrix&, VertexID, Weight, DistanceZero) [with VertexAndEdgeListGraph = R_adjacency_list<boost::undirectedS, double>, DistanceMatrix = Basic2DMatrix<double>, VertexID = boost::vec_adj_list_vertex_id_map<boost::property<boost::vertex_color_t, boost::default_color_type, boost::no_property>, size_t>, Weight = boost::adj_list_edge_property_map<boost::undirected_tag, double, double&, size_t, boost::property<boost::edge_weight_t, double, boost::no_property>, boost::edge_weight_t>, DistanceZero = double]': boostIncl/boost/graph/johnson_all_pairs_shortest.hpp:108: warning: 'bvis' is used uninitialized in this function boostIncl/boost/graph/johnson_all_pairs_shortest.hpp:120: warning: 'dvis' is used uninitialized in this function g++-4.0 -arch i386 -isysroot /Developer/SDKs/MacOSX10.4u.sdk -no-cpp-precomp -I/Library/Frameworks/R.framework/Resources/include -I/Library/Frameworks/R.framework/Resources/include/i386 -msse3 -IboostIncl -fPIC -g -O2 -Wall -march=nocona -c transitive_closure.cpp -o transitive_closure.o g++-4.0 -arch i386 -isysroot /Developer/SDKs/MacOSX10.4u.sdk -no-cpp-precomp -I/Library/Frameworks/R.framework/Resources/include -I/Library/Frameworks/R.framework/Resources/include/i386 -msse3 -IboostIncl -fPIC -g -O2 -Wall -march=nocona -c wavefront.cpp -o wavefront.o g++-4.0 -arch i386 -isysroot /Developer/SDKs/MacOSX10.4u.sdk -dynamiclib -Wl,-macosx_version_min -Wl,10.3 -undefined dynamic_lookup -single_module -multiply_defined suppress -L/usr/local/lib -o RBGL.so bbc.o cliques.o clusteringCoef.o hcs.o incrConnComp.o interfaces.o layout.o minST.o mincut.o ordering.o shortestPath.o sna.o transitive_closure.o wavefront.o -F/Library/Frameworks/R.framework/.. -framework R ** R ** data ** inst ** preparing package for lazy loading Loading required package: graph ** help >>> Building/Updating help pages for package 'RBGL' Formats: text html latex example FileDep text html latex example RBGL.overview text html latex astarSearch text html latex example bandwidth text html latex example bccluster text html latex example bellman.ford.sp text html latex example betweenness text html latex example bfs text html latex example biConnComp text html latex example clusteringCoef text html latex example clusteringCoefAppr text html latex example coloring text html latex example connectedComp text html latex example dag.sp text html latex example dijkstra.sp text html latex example edgeConn text html latex example extractPath text html latex example floyd.warshall.all.pairs.sp text html latex example gprofile text html latex example graphGenerator text html latex example highlyConnSG text html latex example incrConnComp text html latex example is.triangulated text html latex example isomorphism text html latex example johnson.all.pairs.sp text html latex example kCliques text html latex example kCores text html latex example lambdaSets text html latex example layout text html latex example maxClique text html latex example maxFlow text html latex example minCut text html latex example mstree.kruskal text html latex example mstree.prim text html latex example ordering text html latex example removeSelfLoops text html latex example separates text html latex example sp.between text html latex example strongComp text html latex example transClosure text html latex example transitivity text html latex example tsort text html latex example wavefront text html latex example ** building package indices ... * DONE (RBGL) INSTALLATION OF ppc LIBS WITH 'R_ARCH=/ppc R CMD INSTALL --libs-only RBGL_1.14.0.tar.gz' * Installing to library 'RBGL.buildbin-libdir' * Installing *source* package 'RBGL' ... untarring boost include tree... ** libs ** arch - ppc g++-4.0 -arch ppc -isysroot /Developer/SDKs/MacOSX10.4u.sdk -no-cpp-precomp -I/Library/Frameworks/R.framework/Resources/include -I/Library/Frameworks/R.framework/Resources/include/ppc -I/usr/local/include -IboostIncl -fPIC -g -O2 -Wall -c bbc.cpp -o bbc.o boostIncl/boost/graph/dijkstra_shortest_paths.hpp: In function 'void boost::detail::dijkstra_dispatch2(const VertexListGraph&, typename boost::graph_traits<G>::vertex_descriptor, DistanceMap, WeightMap, IndexMap, const Params&, ColorMap) [with VertexListGraph = boost::adjacency_list<boost::vecS, boost::vecS, boost::undirectedS, boost::property<boost::vertex_index_t, int, boost::property<boost::vertex_centrality_t, double, boost::no_property> >, boost::property<boost::edge_weight_t, double, boost::property<boost::edge_centrality_t, double, boost::no_property> >, boost::no_property, boost::listS>, DistanceMap = boost::iterator_property_map<__gnu_cxx::__normal_iterator<double*, std::vector<double, std::allocator<double> > >, boost::vec_adj_list_vertex_id_map<boost::property<boost::vertex_index_t, int, boost::property<boost::vertex_centrality_t, double, boost::no_property> >, size_t>, double, double&>, WeightMap = boost::adj_list_edge_property_map<boost::undirected_tag, double, double&, size_t, boost::property<boost::edge_weight_t, double, boost::property<boost::edge_centrality_t, double, boost::no_property> >, boost::edge_weight_t>, IndexMap = boost::vec_adj_list_vertex_id_map<boost::property<boost::vertex_index_t, int, boost::property<boost::vertex_centrality_t, double, boost::no_property> >, size_t>, Params = boost::bgl_named_params<boost::detail::graph::brandes_dijkstra_visitor<const boost::adjacency_list<boost::vecS, boost::vecS, boost::undirectedS, boost::property<boost::vertex_index_t, int, boost::property<boost::vertex_centrality_t, double, boost::no_property> >, boost::property<boost::edge_weight_t, double, boost::property<boost::edge_centrality_t, double, boost::no_property> >, boost::no_property, boost::listS>, boost::adj_list_edge_property_map<boost::undirected_tag, double, double&, size_t, boost::property<boost::edge_weight_t, double, boost::property<boost::edge_centrality_t, double, boost::no_property> >, boost::edge_weight_t>, boost::iterator_property_map<__gnu_cxx::__normal_iterator<std::vector<boost::detail::edge_desc_impl<boost::undirected_tag, size_t>, std::allocator<boost::detail::edge_desc_impl<boost::undirected_tag, size_t> > >*, std::vector<std::vector<boost::detail::edge_desc_impl<boost::undirected_tag, size_t>, std::allocator<boost::detail::edge_desc_impl<boost::undirected_tag, size_t> > >, std::allocator<std::vector<boost::detail::edge_desc_impl<boost::undirected_tag, size_t>, std::allocator<boost::detail::edge_desc_impl<boost::undirected_tag, size_t> > > > > >, boost::vec_adj_list_vertex_id_map<boost::property<boost::vertex_index_t, int, boost::property<boost::vertex_centrality_t, double, boost::no_property> >, size_t>, std::vector<boost::detail::edge_desc_impl<boost::undirected_tag, size_t>, std::allocator<boost::detail::edge_desc_impl<boost::undirected_tag, size_t> > >, std::vector<boost::detail::edge_desc_impl<boost::undirected_tag, size_t>, std::allocator<boost::detail::edge_desc_impl<boost::undirected_tag, size_t> > >&>, boost::iterator_property_map<__gnu_cxx::__normal_iterator<double*, std::vector<double, std::allocator<double> > >, boost::vec_adj_list_vertex_id_map<boost::property<boost::vertex_index_t, int, boost::property<boost::vertex_centrality_t, double, boost::no_property> >, size_t>, double, double&>, boost::iterator_property_map<__gnu_cxx::__normal_iterator<size_t*, std::vector<size_t, std::allocator<size_t> > >, boost::vec_adj_list_vertex_id_map<boost::property<boost::vertex_index_t, int, boost::property<boost::vertex_centrality_t, double, boost::no_property> >, size_t>, size_t, size_t&> >, boost::graph_visitor_t, boost::bgl_named_params<boost::iterator_property_map<__gnu_cxx::__normal_iterator<double*, std::vector<double, std::allocator<double> > >, boost::vec_adj_list_vertex_id_map<boost::property<boost::vertex_index_t, int, boost::property<boost::vertex_centrality_t, double, boost::no_property> >, size_t>, double, double&>, boost::vertex_distance_t, boost::bgl_named_params<boost::vec_adj_list_vertex_id_map<boost::property<boost::vertex_index_t, int, boost::property<boost::vertex_centrality_t, double, boost::no_property> >, size_t>, boost::vertex_index_t, boost::bgl_named_params<boost::adj_list_edge_property_map<boost::undirected_tag, double, double&, size_t, boost::property<boost::edge_weight_t, double, boost::property<boost::edge_centrality_t, double, boost::no_property> >, boost::edge_weight_t>, boost::edge_weight_t, boost::no_property> > > >, ColorMap = boost::iterator_property_map<__gnu_cxx::__normal_iterator<boost::default_color_type*, std::vector<boost::default_color_type, std::allocator<boost::default_color_type> > >, boost::vec_adj_list_vertex_id_map<boost::property<boost::vertex_index_t, int, boost::property<boost::vertex_centrality_t, double, boost::no_property> >, size_t>, boost::default_color_type, boost::default_color_type&>]': boostIncl/boost/graph/dijkstra_shortest_paths.hpp:80: warning: 'bfs_vis$m_decreased' is used uninitialized in this function g++-4.0 -arch ppc -isysroot /Developer/SDKs/MacOSX10.4u.sdk -no-cpp-precomp -I/Library/Frameworks/R.framework/Resources/include -I/Library/Frameworks/R.framework/Resources/include/ppc -I/usr/local/include -IboostIncl -fPIC -g -O2 -Wall -c cliques.cpp -o cliques.o g++-4.0 -arch ppc -isysroot /Developer/SDKs/MacOSX10.4u.sdk -no-cpp-precomp -I/Library/Frameworks/R.framework/Resources/include -I/Library/Frameworks/R.framework/Resources/include/ppc -I/usr/local/include -IboostIncl -fPIC -g -O2 -Wall -c clusteringCoef.cpp -o clusteringCoef.o g++-4.0 -arch ppc -isysroot /Developer/SDKs/MacOSX10.4u.sdk -no-cpp-precomp -I/Library/Frameworks/R.framework/Resources/include -I/Library/Frameworks/R.framework/Resources/include/ppc -I/usr/local/include -IboostIncl -fPIC -g -O2 -Wall -c hcs.cpp -o hcs.o boostIncl/boost/graph/detail/adjacency_list.hpp: In function 'std::pair<typename Config::edge_descriptor, bool> boost::add_edge(typename Config::vertex_descriptor, typename Config::vertex_descriptor, boost::vec_adj_list_impl<G, C, B>&) [with Graph = boost::adjacency_list<boost::vecS, boost::vecS, boost::directedS, boost::no_property, boost::property<boost::edge_capacity_t, size_t, boost::property<boost::edge_residual_capacity_t, size_t, boost::property<boost::edge_reverse_t, boost::edge_connectivity(VertexListGraph&, OutputIterator)::Tr_edge_desc, boost::no_property> > >, boost::no_property, boost::listS>, Config = boost::detail::adj_list_gen<boost::adjacency_list<boost::vecS, boost::vecS, boost::directedS, boost::no_property, boost::property<boost::edge_capacity_t, size_t, boost::property<boost::edge_residual_capacity_t, size_t, boost::property<boost::edge_reverse_t, boost::edge_connectivity(VertexListGraph&, OutputIterator)::Tr_edge_desc, boost::no_property> > >, boost::no_property, boost::listS>, boost::vecS, boost::vecS, boost::directedS, boost::no_property, boost::property<boost::edge_capacity_t, size_t, boost::property<boost::edge_residual_capacity_t, size_t, boost::property<boost::edge_reverse_t, boost::edge_connectivity(VertexListGraph&, OutputIterator)::Tr_edge_desc, boost::no_property> > >, boost::no_property, boost::listS>::config, Base = boost::directed_graph_helper<boost::detail::adj_list_gen<boost::adjacency_list<boost::vecS, boost::vecS, boost::directedS, boost::no_property, boost::property<boost::edge_capacity_t, size_t, boost::property<boost::edge_residual_capacity_t, size_t, boost::property<boost::edge_reverse_t, boost::edge_connectivity(VertexListGraph&, OutputIterator)::Tr_edge_desc, boost::no_property> > >, boost::no_property, boost::listS>, boost::vecS, boost::vecS, boost::directedS, boost::no_property, boost::property<boost::edge_capacity_t, size_t, boost::property<boost::edge_residual_capacity_t, size_t, boost::property<boost::edge_reverse_t, boost::edge_connectivity(VertexListGraph&, OutputIterator)::Tr_edge_desc, boost::no_property> > >, boost::no_property, boost::listS>::config>]': boostIncl/boost/graph/detail/adjacency_list.hpp:263: warning: 'p$m_value' is used uninitialized in this function boostIncl/boost/graph/detail/adjacency_list.hpp:263: warning: 'p$D93307$m_value' is used uninitialized in this function boostIncl/boost/graph/detail/adjacency_list.hpp:263: warning: 'p$D93307$D93272$m_value$D91101$m_target' is used uninitialized in this function boostIncl/boost/graph/detail/adjacency_list.hpp:263: warning: 'p$D93307$D93272$m_value$D91101$m_source' is used uninitialized in this function boostIncl/boost/graph/edge_connectivity.hpp: In function 'typename boost::graph_traits<G>::edges_size_type boost::min_cut(VertexListGraph&, OutputIterator, OutputIterator) [with VertexListGraph = const R_adjacency_list<boost::undirectedS, double>, OutputIterator = std::back_insert_iterator<Cluster>]': boostIncl/boost/graph/edge_connectivity.hpp:32: warning: 'p' may be used uninitialized in this function g++-4.0 -arch ppc -isysroot /Developer/SDKs/MacOSX10.4u.sdk -no-cpp-precomp -I/Library/Frameworks/R.framework/Resources/include -I/Library/Frameworks/R.framework/Resources/include/ppc -I/usr/local/include -IboostIncl -fPIC -g -O2 -Wall -c incrConnComp.cpp -o incrConnComp.o g++-4.0 -arch ppc -isysroot /Developer/SDKs/MacOSX10.4u.sdk -no-cpp-precomp -I/Library/Frameworks/R.framework/Resources/include -I/Library/Frameworks/R.framework/Resources/include/ppc -I/usr/local/include -IboostIncl -fPIC -g -O2 -Wall -c interfaces.cpp -o interfaces.o boostIncl/boost/graph/detail/adjacency_list.hpp: In function 'std::pair<typename Config::edge_descriptor, bool> boost::add_edge(typename Config::vertex_descriptor, typename Config::vertex_descriptor, boost::vec_adj_list_impl<G, C, B>&) [with Graph = boost::adjacency_list<boost::vecS, boost::vecS, boost::directedS, boost::no_property, boost::property<boost::edge_capacity_t, size_t, boost::property<boost::edge_residual_capacity_t, size_t, boost::property<boost::edge_reverse_t, boost::edge_connectivity(VertexListGraph&, OutputIterator)::Tr_edge_desc, boost::no_property> > >, boost::no_property, boost::listS>, Config = boost::detail::adj_list_gen<boost::adjacency_list<boost::vecS, boost::vecS, boost::directedS, boost::no_property, boost::property<boost::edge_capacity_t, size_t, boost::property<boost::edge_residual_capacity_t, size_t, boost::property<boost::edge_reverse_t, boost::edge_connectivity(VertexListGraph&, OutputIterator)::Tr_edge_desc, boost::no_property> > >, boost::no_property, boost::listS>, boost::vecS, boost::vecS, boost::directedS, boost::no_property, boost::property<boost::edge_capacity_t, size_t, boost::property<boost::edge_residual_capacity_t, size_t, boost::property<boost::edge_reverse_t, boost::edge_connectivity(VertexListGraph&, OutputIterator)::Tr_edge_desc, boost::no_property> > >, boost::no_property, boost::listS>::config, Base = boost::directed_graph_helper<boost::detail::adj_list_gen<boost::adjacency_list<boost::vecS, boost::vecS, boost::directedS, boost::no_property, boost::property<boost::edge_capacity_t, size_t, boost::property<boost::edge_residual_capacity_t, size_t, boost::property<boost::edge_reverse_t, boost::edge_connectivity(VertexListGraph&, OutputIterator)::Tr_edge_desc, boost::no_property> > >, boost::no_property, boost::listS>, boost::vecS, boost::vecS, boost::directedS, boost::no_property, boost::property<boost::edge_capacity_t, size_t, boost::property<boost::edge_residual_capacity_t, size_t, boost::property<boost::edge_reverse_t, boost::edge_connectivity(VertexListGraph&, OutputIterator)::Tr_edge_desc, boost::no_property> > >, boost::no_property, boost::listS>::config>]': boostIncl/boost/graph/detail/adjacency_list.hpp:263: warning: 'p$m_value' is used uninitialized in this function boostIncl/boost/graph/detail/adjacency_list.hpp:263: warning: 'p$D97860$m_value' is used uninitialized in this function boostIncl/boost/graph/detail/adjacency_list.hpp:263: warning: 'p$D97860$D97825$m_value$D77980$m_target' is used uninitialized in this function boostIncl/boost/graph/detail/adjacency_list.hpp:263: warning: 'p$D97860$D97825$m_value$D77980$m_source' is used uninitialized in this function boostIncl/boost/graph/edge_connectivity.hpp: In function 'typename boost::graph_traits<G>::degree_size_type boost::edge_connectivity(VertexListGraph&, OutputIterator) [with VertexListGraph = Graph_ud, OutputIterator = std::back_insert_iterator<std::vector<BGL_edge_connectivity_U(SEXPREC*, SEXPREC*, SEXPREC*, SEXPREC*)::Edge, std::allocator<BGL_edge_connectivity_U(SEXPREC*, SEXPREC*, SEXPREC*, SEXPREC*)::Edge> > >]': boostIncl/boost/graph/edge_connectivity.hpp:32: warning: 'p' may be used uninitialized in this function g++-4.0 -arch ppc -isysroot /Developer/SDKs/MacOSX10.4u.sdk -no-cpp-precomp -I/Library/Frameworks/R.framework/Resources/include -I/Library/Frameworks/R.framework/Resources/include/ppc -I/usr/local/include -IboostIncl -fPIC -g -O2 -Wall -c layout.cpp -o layout.o boostIncl/boost/graph/fruchterman_reingold.hpp: In function 'void boost::fruchterman_reingold_force_directed_layout(const Graph&, PositionMap, Dim, Dim, AttractiveForce, RepulsiveForce, ForcePairs, Cooling, DisplacementMap) [with Graph = boost::adjacency_list<boost::vecS, boost::vecS, boost::undirectedS, boost::property<boost::vertex_index_t, int, boost::property<vertex_position_t, boost::simple_point<double>, boost::no_property> >, boost::property<boost::edge_weight_t, double, boost::no_property>, boost::no_property, boost::listS>, PositionMap = boost::iterator_property_map<__gnu_cxx::__normal_iterator<boost::simple_point<double>*, std::vector<boost::simple_point<double>, std::allocator<boost::simple_point<double> > > >, boost::vec_adj_list_vertex_id_map<boost::property<boost::vertex_index_t, int, boost::property<vertex_position_t, boost::simple_point<double>, boost::no_property> >, size_t>, boost::simple_point<double>, boost::simple_point<double>&>, Dim = double, AttractiveForce = boost::square_distance_attractive_force, RepulsiveForce = boost::square_distance_repulsive_force, ForcePairs = boost::grid_force_pairs<double, boost::iterator_property_map<__gnu_cxx::__normal_iterator<boost::simple_point<double>*, std::vector<boost::simple_point<double>, std::allocator<boost::simple_point<double> > > >, boost::vec_adj_list_vertex_id_map<boost::property<boost::vertex_index_t, int, boost::property<vertex_position_t, boost::simple_point<double>, boost::no_property> >, size_t>, boost::simple_point<double>, boost::simple_point<double>&> >, Cooling = boost::linear_cooling<double>, DisplacementMap = boost::iterator_property_map<__gnu_cxx::__normal_iterator<boost::simple_point<double>*, std::vector<boost::simple_point<double>, std::allocator<boost::simple_point<double> > > >, boost::vec_adj_list_vertex_id_map<boost::property<boost::vertex_index_t, int, boost::property<vertex_position_t, boost::simple_point<double>, boost::no_property> >, size_t>, boost::simple_point<double>, boost::simple_point<double>&>]': boostIncl/boost/graph/fruchterman_reingold.hpp:366: instantiated from 'static void boost::detail::fr_force_directed_layout<boost::detail::error_property_not_found>::run(const Graph&, PositionMap, Dim, Dim, AttractiveForce, RepulsiveForce, ForcePairs, Cooling, boost::detail::error_property_not_found, const boost::bgl_named_params<Param, Tag, Rest>&) [with Graph = boost::adjacency_list<boost::vecS, boost::vecS, boost::undirectedS, boost::property<boost::vertex_index_t, int, boost::property<vertex_position_t, boost::simple_point<double>, boost::no_property> >, boost::property<boost::edge_weight_t, double, boost::no_property>, boost::no_property, boost::listS>, PositionMap = boost::iterator_property_map<__gnu_cxx::__normal_iterator<boost::simple_point<double>*, std::vector<boost::simple_point<double>, std::allocator<boost::simple_point<double> > > >, boost::vec_adj_list_vertex_id_map<boost::property<boost::vertex_index_t, int, boost::property<vertex_position_t, boost::simple_point<double>, boost::no_property> >, size_t>, boost::simple_point<double>, boost::simple_point<double>&>, Dim = double, AttractiveForce = boost::square_distance_attractive_force, RepulsiveForce = boost::square_distance_repulsive_force, ForcePairs = boost::grid_force_pairs<double, boost::iterator_property_map<__gnu_cxx::__normal_iterator<boost::simple_point<double>*, std::vector<boost::simple_point<double>, std::allocator<boost::simple_point<double> > > >, boost::vec_adj_list_vertex_id_map<boost::property<boost::vertex_index_t, int, boost::property<vertex_position_t, boost::simple_point<double>, boost::no_property> >, size_t>, boost::simple_point<double>, boost::simple_point<double>&> >, Cooling = boost::linear_cooling<double>, Param = boost::square_distance_attractive_force, Tag = boost::attractive_force_t, Rest = boost::no_property]' boostIncl/boost/graph/fruchterman_reingold.hpp:392: instantiated from 'void boost::fruchterman_reingold_force_directed_layout(const Graph&, PositionMap, Dim, Dim, const boost::bgl_named_params<P, T, R>&) [with Graph = boost::adjacency_list<boost::vecS, boost::vecS, boost::undirectedS, boost::property<boost::vertex_index_t, int, boost::property<vertex_position_t, boost::simple_point<double>, boost::no_property> >, boost::property<boost::edge_weight_t, double, boost::no_property>, boost::no_property, boost::listS>, PositionMap = boost::iterator_property_map<__gnu_cxx::__normal_iterator<boost::simple_point<double>*, std::vector<boost::simple_point<double>, std::allocator<boost::simple_point<double> > > >, boost::vec_adj_list_vertex_id_map<boost::property<boost::vertex_index_t, int, boost::property<vertex_position_t, boost::simple_point<double>, boost::no_property> >, size_t>, boost::simple_point<double>, boost::simple_point<double>&>, Dim = double, Param = boost::square_distance_attractive_force, Tag = boost::attractive_force_t, Rest = boost::no_property]' boostIncl/boost/graph/fruchterman_reingold.hpp:413: instantiated from 'void boost::fruchterman_reingold_force_directed_layout(const Graph&, PositionMap, Dim, Dim) [with Graph = IndexGraph, PositionMap = boost::iterator_property_map<__gnu_cxx::__normal_iterator<boost::simple_point<double>*, std::vector<boost::simple_point<double>, std::allocator<boost::simple_point<double> > > >, boost::vec_adj_list_vertex_id_map<boost::property<boost::vertex_index_t, int, boost::property<vertex_position_t, boost::simple_point<double>, boost::no_property> >, size_t>, boost::simple_point<double>, boost::simple_point<double>&>, Dim = double]' layout.cpp:187: instantiated from here boostIncl/boost/graph/fruchterman_reingold.hpp:312: warning: suggest parentheses around assignment used as truth value boostIncl/boost/graph/detail/adjacency_list.hpp: In function 'std::pair<typename Config::edge_descriptor, bool> boost::add_edge(typename Config::vertex_descriptor, typename Config::vertex_descriptor, boost::vec_adj_list_impl<G, C, B>&) [with Graph = boost::adjacency_list<boost::vecS, boost::vecS, boost::directedS, boost::property<boost::vertex_distance_t, double, boost::no_property>, boost::property<boost::edge_weight_t, double, boost::property<boost::edge_weight2_t, double, boost::no_property> >, boost::no_property, boost::listS>, Config = boost::detail::adj_list_gen<boost::adjacency_list<boost::vecS, boost::vecS, boost::directedS, boost::property<boost::vertex_distance_t, double, boost::no_property>, boost::property<boost::edge_weight_t, double, boost::property<boost::edge_weight2_t, double, boost::no_property> >, boost::no_property, boost::listS>, boost::vecS, boost::vecS, boost::directedS, boost::property<boost::vertex_distance_t, double, boost::no_property>, boost::property<boost::edge_weight_t, double, boost::property<boost::edge_weight2_t, double, boost::no_property> >, boost::no_property, boost::listS>::config, Base = boost::directed_graph_helper<boost::detail::adj_list_gen<boost::adjacency_list<boost::vecS, boost::vecS, boost::directedS, boost::property<boost::vertex_distance_t, double, boost::no_property>, boost::property<boost::edge_weight_t, double, boost::property<boost::edge_weight2_t, double, boost::no_property> >, boost::no_property, boost::listS>, boost::vecS, boost::vecS, boost::directedS, boost::property<boost::vertex_distance_t, double, boost::no_property>, boost::property<boost::edge_weight_t, double, boost::property<boost::edge_weight2_t, double, boost::no_property> >, boost::no_property, boost::listS>::config>]': boostIncl/boost/graph/detail/adjacency_list.hpp:263: warning: 'p$m_value' is used uninitialized in this function boostIncl/boost/graph/detail/adjacency_list.hpp:263: warning: 'p$D104113$m_value' is used uninitialized in this function boostIncl/boost/graph/dijkstra_shortest_paths.hpp: In function 'void boost::dijkstra_shortest_paths(const VertexListGraph&, typename boost::graph_traits<G>::vertex_descriptor, PredecessorMap, DistanceMap, WeightMap, IndexMap, Compare, Combine, DistInf, DistZero, DijkstraVisitor) [with VertexListGraph = boost::adjacency_list<boost::vecS, boost::vecS, boost::directedS, boost::property<boost::vertex_distance_t, double, boost::no_property>, boost::property<boost::edge_weight_t, double, boost::property<boost::edge_weight2_t, double, boost::no_property> >, boost::no_property, boost::listS>, DijkstraVisitor = boost::dijkstra_visitor<boost::null_visitor>, PredecessorMap = boost::dummy_property_map, DistanceMap = boost::vec_adj_list_vertex_property_map<boost::adjacency_list<boost::vecS, boost::vecS, boost::directedS, boost::property<boost::vertex_distance_t, double, boost::no_property>, boost::property<boost::edge_weight_t, double, boost::property<boost::edge_weight2_t, double, boost::no_property> >, boost::no_property, boost::listS>, boost::adjacency_list<boost::vecS, boost::vecS, boost::directedS, boost::property<boost::vertex_distance_t, double, boost::no_property>, boost::property<boost::edge_weight_t, double, boost::property<boost::edge_weight2_t, double, boost::no_property> >, boost::no_property, boost::listS>*, double, double&, boost::vertex_distance_t>, WeightMap = boost::adj_list_edge_property_map<boost::directed_tag, double, double&, size_t, boost::property<boost::edge_weight_t, double, boost::property<boost::edge_weight2_t, double, boost::no_property> >, boost::edge_weight2_t>, IndexMap = boost::vec_adj_list_vertex_id_map<boost::property<boost::vertex_distance_t, double, boost::no_property>, size_t>, Compare = std::less<double>, Combine = boost::closed_plus<double>, DistInf = double, DistZero = double]': boostIncl/boost/graph/dijkstra_shortest_paths.hpp:80: warning: 'bfs_vis$m_decreased' is used uninitialized in this function boostIncl/boost/graph/johnson_all_pairs_shortest.hpp: In function 'bool boost::johnson_all_pairs_shortest_paths(VertexAndEdgeListGraph&, DistanceMatrix&, VertexID, Weight, DistanceZero) [with VertexAndEdgeListGraph = const boost::adjacency_list<boost::vecS, boost::vecS, boost::undirectedS, boost::property<boost::vertex_index_t, int, boost::property<vertex_position_t, boost::simple_point<double>, boost::no_property> >, boost::property<boost::edge_weight_t, double, boost::no_property>, boost::no_property, boost::listS>, DistanceMatrix = __gnu_cxx::__normal_iterator<std::vector<double, std::allocator<double> >*, std::vector<std::vector<double, std::allocator<double> >, std::allocator<std::vector<double, std::allocator<double> > > > >, VertexID = boost::vec_adj_list_vertex_id_map<boost::property<boost::vertex_index_t, int, boost::property<vertex_position_t, boost::simple_point<double>, boost::no_property> >, size_t>, Weight = boost::adj_list_edge_property_map<boost::undirected_tag, double, double&, size_t, boost::property<boost::edge_weight_t, double, boost::no_property>, boost::edge_weight_t>, DistanceZero = double]': boostIncl/boost/graph/johnson_all_pairs_shortest.hpp:108: warning: 'bvis' is used uninitialized in this function boostIncl/boost/graph/johnson_all_pairs_shortest.hpp:120: warning: 'dvis' is used uninitialized in this function g++-4.0 -arch ppc -isysroot /Developer/SDKs/MacOSX10.4u.sdk -no-cpp-precomp -I/Library/Frameworks/R.framework/Resources/include -I/Library/Frameworks/R.framework/Resources/include/ppc -I/usr/local/include -IboostIncl -fPIC -g -O2 -Wall -c minST.cpp -o minST.o g++-4.0 -arch ppc -isysroot /Developer/SDKs/MacOSX10.4u.sdk -no-cpp-precomp -I/Library/Frameworks/R.framework/Resources/include -I/Library/Frameworks/R.framework/Resources/include/ppc -I/usr/local/include -IboostIncl -fPIC -g -O2 -Wall -c mincut.cpp -o mincut.o boostIncl/boost/graph/detail/adjacency_list.hpp: In function 'std::pair<typename Config::edge_descriptor, bool> boost::add_edge(typename Config::vertex_descriptor, typename Config::vertex_descriptor, boost::vec_adj_list_impl<G, C, B>&) [with Graph = boost::adjacency_list<boost::vecS, boost::vecS, boost::directedS, boost::no_property, boost::property<boost::edge_capacity_t, size_t, boost::property<boost::edge_residual_capacity_t, size_t, boost::property<boost::edge_reverse_t, boost::edge_connectivity(VertexListGraph&, OutputIterator)::Tr_edge_desc, boost::no_property> > >, boost::no_property, boost::listS>, Config = boost::detail::adj_list_gen<boost::adjacency_list<boost::vecS, boost::vecS, boost::directedS, boost::no_property, boost::property<boost::edge_capacity_t, size_t, boost::property<boost::edge_residual_capacity_t, size_t, boost::property<boost::edge_reverse_t, boost::edge_connectivity(VertexListGraph&, OutputIterator)::Tr_edge_desc, boost::no_property> > >, boost::no_property, boost::listS>, boost::vecS, boost::vecS, boost::directedS, boost::no_property, boost::property<boost::edge_capacity_t, size_t, boost::property<boost::edge_residual_capacity_t, size_t, boost::property<boost::edge_reverse_t, boost::edge_connectivity(VertexListGraph&, OutputIterator)::Tr_edge_desc, boost::no_property> > >, boost::no_property, boost::listS>::config, Base = boost::directed_graph_helper<boost::detail::adj_list_gen<boost::adjacency_list<boost::vecS, boost::vecS, boost::directedS, boost::no_property, boost::property<boost::edge_capacity_t, size_t, boost::property<boost::edge_residual_capacity_t, size_t, boost::property<boost::edge_reverse_t, boost::edge_connectivity(VertexListGraph&, OutputIterator)::Tr_edge_desc, boost::no_property> > >, boost::no_property, boost::listS>, boost::vecS, boost::vecS, boost::directedS, boost::no_property, boost::property<boost::edge_capacity_t, size_t, boost::property<boost::edge_residual_capacity_t, size_t, boost::property<boost::edge_reverse_t, boost::edge_connectivity(VertexListGraph&, OutputIterator)::Tr_edge_desc, boost::no_property> > >, boost::no_property, boost::listS>::config>]': boostIncl/boost/graph/detail/adjacency_list.hpp:263: warning: 'p$m_value' is used uninitialized in this function boostIncl/boost/graph/detail/adjacency_list.hpp:263: warning: 'p$D91051$m_value' is used uninitialized in this function boostIncl/boost/graph/detail/adjacency_list.hpp:263: warning: 'p$D91051$D91016$m_value$D74618$m_target' is used uninitialized in this function boostIncl/boost/graph/detail/adjacency_list.hpp:263: warning: 'p$D91051$D91016$m_value$D74618$m_source' is used uninitialized in this function boostIncl/boost/graph/detail/adjacency_list.hpp: In function 'std::pair<typename Config::edge_descriptor, bool> boost::add_edge(typename Config::vertex_descriptor, typename Config::vertex_descriptor, boost::vec_adj_list_impl<G, C, B>&) [with Graph = boost::adjacency_list<boost::vecS, boost::vecS, boost::directedS, boost::no_property, boost::property<boost::edge_capacity_t, double, boost::property<boost::edge_residual_capacity_t, double, boost::property<boost::edge_reverse_t, boost::edge_connectivity(VertexListGraph&, OutputIterator)::Tr_edge_desc, boost::no_property> > >, boost::no_property, boost::listS>, Config = boost::detail::adj_list_gen<boost::adjacency_list<boost::vecS, boost::vecS, boost::directedS, boost::no_property, boost::property<boost::edge_capacity_t, double, boost::property<boost::edge_residual_capacity_t, double, boost::property<boost::edge_reverse_t, boost::edge_connectivity(VertexListGraph&, OutputIterator)::Tr_edge_desc, boost::no_property> > >, boost::no_property, boost::listS>, boost::vecS, boost::vecS, boost::directedS, boost::no_property, boost::property<boost::edge_capacity_t, double, boost::property<boost::edge_residual_capacity_t, double, boost::property<boost::edge_reverse_t, boost::edge_connectivity(VertexListGraph&, OutputIterator)::Tr_edge_desc, boost::no_property> > >, boost::no_property, boost::listS>::config, Base = boost::directed_graph_helper<boost::detail::adj_list_gen<boost::adjacency_list<boost::vecS, boost::vecS, boost::directedS, boost::no_property, boost::property<boost::edge_capacity_t, double, boost::property<boost::edge_residual_capacity_t, double, boost::property<boost::edge_reverse_t, boost::edge_connectivity(VertexListGraph&, OutputIterator)::Tr_edge_desc, boost::no_property> > >, boost::no_property, boost::listS>, boost::vecS, boost::vecS, boost::directedS, boost::no_property, boost::property<boost::edge_capacity_t, double, boost::property<boost::edge_residual_capacity_t, double, boost::property<boost::edge_reverse_t, boost::edge_connectivity(VertexListGraph&, OutputIterator)::Tr_edge_desc, boost::no_property> > >, boost::no_property, boost::listS>::config>]': boostIncl/boost/graph/detail/adjacency_list.hpp:263: warning: 'p$m_value' is used uninitialized in this function boostIncl/boost/graph/detail/adjacency_list.hpp:263: warning: 'p$D77019$m_value' is used uninitialized in this function boostIncl/boost/graph/detail/adjacency_list.hpp:263: warning: 'p$D77019$D76984$m_value$D74618$m_target' is used uninitialized in this function boostIncl/boost/graph/detail/adjacency_list.hpp:263: warning: 'p$D77019$D76984$m_value$D74618$m_source' is used uninitialized in this function boostIncl/boost/graph/edge_connectivity.hpp: In function 'typename boost::graph_traits<G>::edges_size_type boost::min_cut(VertexListGraph&, OutputIterator, OutputIterator) [with VertexListGraph = Graph_ud, OutputIterator = std::back_insert_iterator<std::vector<BGL_min_cut_U::Vertex, std::allocator<BGL_min_cut_U::Vertex> > >]': boostIncl/boost/graph/edge_connectivity.hpp:32: warning: 'p' may be used uninitialized in this function boostIncl/boost/graph/push_relabel_max_flow.hpp: In member function 'void boost::detail::push_relabel<Graph, EdgeCapacityMap, ResidualCapacityEdgeMap, ReverseEdgeMap, VertexIndexMap, FlowValue>::discharge(typename boost::graph_traits<Graph>::vertex_descriptor) [with Graph = boost::adjacency_list<boost::vecS, boost::vecS, boost::directedS, boost::no_property, boost::property<boost::edge_capacity_t, double, boost::property<boost::edge_residual_capacity_t, double, boost::property<boost::edge_reverse_t, boost::edge_connectivity(VertexListGraph&, OutputIterator)::Tr_edge_desc, boost::no_property> > >, boost::no_property, boost::listS>, EdgeCapacityMap = boost::adj_list_edge_property_map<boost::directed_tag, double, const double&, size_t, const boost::property<boost::edge_capacity_t, double, boost::property<boost::edge_residual_capacity_t, double, boost::property<boost::edge_reverse_t, boost::edge_connectivity(VertexListGraph&, OutputIterator)::Tr_edge_desc, boost::no_property> > >, boost::edge_capacity_t>, ResidualCapacityEdgeMap = boost::adj_list_edge_property_map<boost::directed_tag, double, double&, size_t, boost::property<boost::edge_capacity_t, double, boost::property<boost::edge_residual_capacity_t, double, boost::property<boost::edge_reverse_t, boost::edge_connectivity(VertexListGraph&, OutputIterator)::Tr_edge_desc, boost::no_property> > >, boost::edge_residual_capacity_t>, ReverseEdgeMap = boost::adj_list_edge_property_map<boost::directed_tag, boost::edge_connectivity(VertexListGraph&, OutputIterator)::Tr_edge_desc, const boost::edge_connectivity(VertexListGraph&, OutputIterator)::Tr_edge_desc&, size_t, const boost::property<boost::edge_capacity_t, double, boost::property<boost::edge_residual_capacity_t, double, boost::property<boost::edge_reverse_t, boost::edge_connectivity(VertexListGraph&, OutputIterator)::Tr_edge_desc, boost::no_property> > >, boost::edge_reverse_t>, VertexIndexMap = boost::vec_adj_list_vertex_id_map<boost::no_property, size_t>, FlowValue = double]': boostIncl/boost/graph/push_relabel_max_flow.hpp:340: warning: 'min_edge_iter$m_src' may be used uninitialized in this function g++-4.0 -arch ppc -isysroot /Developer/SDKs/MacOSX10.4u.sdk -no-cpp-precomp -I/Library/Frameworks/R.framework/Resources/include -I/Library/Frameworks/R.framework/Resources/include/ppc -I/usr/local/include -IboostIncl -fPIC -g -O2 -Wall -c ordering.cpp -o ordering.o g++-4.0 -arch ppc -isysroot /Developer/SDKs/MacOSX10.4u.sdk -no-cpp-precomp -I/Library/Frameworks/R.framework/Resources/include -I/Library/Frameworks/R.framework/Resources/include/ppc -I/usr/local/include -IboostIncl -fPIC -g -O2 -Wall -c shortestPath.cpp -o shortestPath.o boostIncl/boost/graph/detail/adjacency_list.hpp: In function 'std::pair<typename Config::edge_descriptor, bool> boost::add_edge(typename Config::vertex_descriptor, typename Config::vertex_descriptor, boost::vec_adj_list_impl<G, C, B>&) [with Graph = boost::adjacency_list<boost::vecS, boost::vecS, boost::directedS, boost::property<boost::vertex_distance_t, double, boost::no_property>, boost::property<boost::edge_weight_t, double, boost::property<boost::edge_weight2_t, double, boost::no_property> >, boost::no_property, boost::listS>, Config = boost::detail::adj_list_gen<boost::adjacency_list<boost::vecS, boost::vecS, boost::directedS, boost::property<boost::vertex_distance_t, double, boost::no_property>, boost::property<boost::edge_weight_t, double, boost::property<boost::edge_weight2_t, double, boost::no_property> >, boost::no_property, boost::listS>, boost::vecS, boost::vecS, boost::directedS, boost::property<boost::vertex_distance_t, double, boost::no_property>, boost::property<boost::edge_weight_t, double, boost::property<boost::edge_weight2_t, double, boost::no_property> >, boost::no_property, boost::listS>::config, Base = boost::directed_graph_helper<boost::detail::adj_list_gen<boost::adjacency_list<boost::vecS, boost::vecS, boost::directedS, boost::property<boost::vertex_distance_t, double, boost::no_property>, boost::property<boost::edge_weight_t, double, boost::property<boost::edge_weight2_t, double, boost::no_property> >, boost::no_property, boost::listS>, boost::vecS, boost::vecS, boost::directedS, boost::property<boost::vertex_distance_t, double, boost::no_property>, boost::property<boost::edge_weight_t, double, boost::property<boost::edge_weight2_t, double, boost::no_property> >, boost::no_property, boost::listS>::config>]': boostIncl/boost/graph/detail/adjacency_list.hpp:263: warning: 'p$m_value' is used uninitialized in this function boostIncl/boost/graph/detail/adjacency_list.hpp:263: warning: 'p$D96399$m_value' is used uninitialized in this function boostIncl/boost/graph/johnson_all_pairs_shortest.hpp: In function 'bool boost::johnson_all_pairs_shortest_paths(VertexAndEdgeListGraph&, DistanceMatrix&, VertexID, Weight, DistanceZero) [with VertexAndEdgeListGraph = R_adjacency_list<boost::directedS, double>, DistanceMatrix = Basic2DMatrix<double>, VertexID = boost::vec_adj_list_vertex_id_map<boost::property<boost::vertex_color_t, boost::default_color_type, boost::no_property>, size_t>, Weight = boost::adj_list_edge_property_map<boost::directed_tag, double, double&, size_t, boost::property<boost::edge_weight_t, double, boost::no_property>, boost::edge_weight_t>, DistanceZero = double]': boostIncl/boost/graph/johnson_all_pairs_shortest.hpp:108: warning: 'bvis' is used uninitialized in this function boostIncl/boost/graph/dijkstra_shortest_paths.hpp:80: warning: 'dvis' is used uninitialized in this function boostIncl/boost/graph/dijkstra_shortest_paths.hpp:80: warning: 'bfs_vis$m_decreased' is used uninitialized in this function g++-4.0 -arch ppc -isysroot /Developer/SDKs/MacOSX10.4u.sdk -no-cpp-precomp -I/Library/Frameworks/R.framework/Resources/include -I/Library/Frameworks/R.framework/Resources/include/ppc -I/usr/local/include -IboostIncl -fPIC -g -O2 -Wall -c sna.cpp -o sna.o boostIncl/boost/graph/detail/adjacency_list.hpp: In function 'std::pair<typename Config::edge_descriptor, bool> boost::add_edge(typename Config::vertex_descriptor, typename Config::vertex_descriptor, boost::vec_adj_list_impl<G, C, B>&) [with Graph = boost::adjacency_list<boost::vecS, boost::vecS, boost::directedS, boost::no_property, boost::property<boost::edge_capacity_t, double, boost::property<boost::edge_residual_capacity_t, double, boost::property<boost::edge_reverse_t, lambdaSets(SEXPREC*, SEXPREC*, SEXPREC*, SEXPREC*)::Tr_edge_desc, boost::no_property> > >, boost::no_property, boost::listS>, Config = boost::detail::adj_list_gen<boost::adjacency_list<boost::vecS, boost::vecS, boost::directedS, boost::no_property, boost::property<boost::edge_capacity_t, double, boost::property<boost::edge_residual_capacity_t, double, boost::property<boost::edge_reverse_t, lambdaSets(SEXPREC*, SEXPREC*, SEXPREC*, SEXPREC*)::Tr_edge_desc, boost::no_property> > >, boost::no_property, boost::listS>, boost::vecS, boost::vecS, boost::directedS, boost::no_property, boost::property<boost::edge_capacity_t, double, boost::property<boost::edge_residual_capacity_t, double, boost::property<boost::edge_reverse_t, lambdaSets(SEXPREC*, SEXPREC*, SEXPREC*, SEXPREC*)::Tr_edge_desc, boost::no_property> > >, boost::no_property, boost::listS>::config, Base = boost::directed_graph_helper<boost::detail::adj_list_gen<boost::adjacency_list<boost::vecS, boost::vecS, boost::directedS, boost::no_property, boost::property<boost::edge_capacity_t, double, boost::property<boost::edge_residual_capacity_t, double, boost::property<boost::edge_reverse_t, lambdaSets(SEXPREC*, SEXPREC*, SEXPREC*, SEXPREC*)::Tr_edge_desc, boost::no_property> > >, boost::no_property, boost::listS>, boost::vecS, boost::vecS, boost::directedS, boost::no_property, boost::property<boost::edge_capacity_t, double, boost::property<boost::edge_residual_capacity_t, double, boost::property<boost::edge_reverse_t, lambdaSets(SEXPREC*, SEXPREC*, SEXPREC*, SEXPREC*)::Tr_edge_desc, boost::no_property> > >, boost::no_property, boost::listS>::config>]': boostIncl/boost/graph/detail/adjacency_list.hpp:263: warning: 'p$m_value' is used uninitialized in this function boostIncl/boost/graph/detail/adjacency_list.hpp:263: warning: 'p$D84812$m_value' is used uninitialized in this function boostIncl/boost/graph/detail/adjacency_list.hpp:263: warning: 'p$D84812$D84777$m_value$D83119$m_target' is used uninitialized in this function boostIncl/boost/graph/detail/adjacency_list.hpp:263: warning: 'p$D84812$D84777$m_value$D83119$m_source' is used uninitialized in this function boostIncl/boost/graph/detail/adjacency_list.hpp: In function 'std::pair<typename Config::edge_descriptor, bool> boost::add_edge(typename Config::vertex_descriptor, typename Config::vertex_descriptor, boost::vec_adj_list_impl<G, C, B>&) [with Graph = boost::adjacency_list<boost::vecS, boost::vecS, boost::directedS, boost::property<boost::vertex_distance_t, double, boost::no_property>, boost::property<boost::edge_weight_t, double, boost::property<boost::edge_weight2_t, double, boost::no_property> >, boost::no_property, boost::listS>, Config = boost::detail::adj_list_gen<boost::adjacency_list<boost::vecS, boost::vecS, boost::directedS, boost::property<boost::vertex_distance_t, double, boost::no_property>, boost::property<boost::edge_weight_t, double, boost::property<boost::edge_weight2_t, double, boost::no_property> >, boost::no_property, boost::listS>, boost::vecS, boost::vecS, boost::directedS, boost::property<boost::vertex_distance_t, double, boost::no_property>, boost::property<boost::edge_weight_t, double, boost::property<boost::edge_weight2_t, double, boost::no_property> >, boost::no_property, boost::listS>::config, Base = boost::directed_graph_helper<boost::detail::adj_list_gen<boost::adjacency_list<boost::vecS, boost::vecS, boost::directedS, boost::property<boost::vertex_distance_t, double, boost::no_property>, boost::property<boost::edge_weight_t, double, boost::property<boost::edge_weight2_t, double, boost::no_property> >, boost::no_property, boost::listS>, boost::vecS, boost::vecS, boost::directedS, boost::property<boost::vertex_distance_t, double, boost::no_property>, boost::property<boost::edge_weight_t, double, boost::property<boost::edge_weight2_t, double, boost::no_property> >, boost::no_property, boost::listS>::config>]': boostIncl/boost/graph/detail/adjacency_list.hpp:263: warning: 'p$m_value' is used uninitialized in this function boostIncl/boost/graph/detail/adjacency_list.hpp:263: warning: 'p$D97073$m_value' is used uninitialized in this function boostIncl/boost/graph/johnson_all_pairs_shortest.hpp: In function 'bool boost::johnson_all_pairs_shortest_paths(VertexAndEdgeListGraph&, DistanceMatrix&, VertexID, Weight, DistanceZero) [with VertexAndEdgeListGraph = R_adjacency_list<boost::undirectedS, double>, DistanceMatrix = Basic2DMatrix<double>, VertexID = boost::vec_adj_list_vertex_id_map<boost::property<boost::vertex_color_t, boost::default_color_type, boost::no_property>, size_t>, Weight = boost::adj_list_edge_property_map<boost::undirected_tag, double, double&, size_t, boost::property<boost::edge_weight_t, double, boost::no_property>, boost::edge_weight_t>, DistanceZero = double]': boostIncl/boost/graph/johnson_all_pairs_shortest.hpp:108: warning: 'bvis' is used uninitialized in this function boostIncl/boost/graph/dijkstra_shortest_paths.hpp:80: warning: 'dvis' is used uninitialized in this function boostIncl/boost/graph/dijkstra_shortest_paths.hpp:80: warning: 'bfs_vis$m_decreased' is used uninitialized in this function g++-4.0 -arch ppc -isysroot /Developer/SDKs/MacOSX10.4u.sdk -no-cpp-precomp -I/Library/Frameworks/R.framework/Resources/include -I/Library/Frameworks/R.framework/Resources/include/ppc -I/usr/local/include -IboostIncl -fPIC -g -O2 -Wall -c transitive_closure.cpp -o transitive_closure.o g++-4.0 -arch ppc -isysroot /Developer/SDKs/MacOSX10.4u.sdk -no-cpp-precomp -I/Library/Frameworks/R.framework/Resources/include -I/Library/Frameworks/R.framework/Resources/include/ppc -I/usr/local/include -IboostIncl -fPIC -g -O2 -Wall -c wavefront.cpp -o wavefront.o g++-4.0 -arch ppc -isysroot /Developer/SDKs/MacOSX10.4u.sdk -dynamiclib -Wl,-macosx_version_min -Wl,10.3 -undefined dynamic_lookup -single_module -multiply_defined suppress -L/usr/local/lib -o RBGL.so bbc.o cliques.o clusteringCoef.o hcs.o incrConnComp.o interfaces.o layout.o minST.o mincut.o ordering.o shortestPath.o sna.o transitive_closure.o wavefront.o -F/Library/Frameworks/R.framework/.. -framework R * DONE (RBGL) tar: RBGL/libs/ppc/RBGL.so: file changed as we read it