Back to the "Multiple platform build/check report"
| Package 149/234 | Hostname | OS | Arch | BUILD | CHECK | BUILD BIN |
| OLINgui 1.12.0 Matthias Futschik Last Changed Date: 2007-10-02 17:41:09 -0700 Last Changed Rev: 27709 | lamb1 | Linux (SUSE 10.1) | x86_64 | OK | OK | |
| wellington | Linux (SUSE 9.2) | i686 | OK | OK | ||
| liverpool | Windows Server 2003 R2 (32-bit) | x64 | [ OK ] | OK | OK | |
| pitt | Mac OS X (10.4.10) | i386 | OK | OK | OK |
| Package: OLINgui |
| Version: 1.12.0 |
| Command: E:\biocbld\bbs-2.1-bioc\R\bin\R.exe CMD build OLINgui |
| RetCode: 0 |
| Time: 22.3 seconds |
| Status: OK |
| PackageFile: OLINgui_1.12.0.tar.gz |
* checking for file 'OLINgui/DESCRIPTION' ... OK
* preparing 'OLINgui':
* checking DESCRIPTION meta-information ... OK
* checking whether 'INDEX' is up-to-date ... NO
* use '--force' to overwrite the existing 'INDEX'
* installing the package to re-build vignettes
installing R.css in E:/biocbld/bbs-2.1-bioc/tmpdir/Rinst391613513
---------- Making package OLINgui ------------
adding build stamp to DESCRIPTION
installing R files
installing inst files
installing man source files
installing indices
installing help
Note: unmatched right brace in 'OLINgui' on or after line 30
Note: unmatched right brace in 'OLINgui.Rd' on or after line 30
>>> Building/Updating help pages for package 'OLINgui'
Formats: text html latex example chm
OLINgui text html latex chm
Microsoft HTML Help Compiler 4.74.8702
Compiling e:\biocbld\bbs-2.1-bioc\meat\OLINgui\chm\OLINgui.chm
Compile time: 0 minutes, 0 seconds
2 Topics
2 Local links
3 Internet links
1 Graphic
Created e:\biocbld\bbs-2.1-bioc\meat\OLINgui\chm\OLINgui.chm, 17,832 bytes
Compression increased file by 8,509 bytes.
preparing package OLINgui for lazy loading
Loading required package: OLIN
Loading required package: locfit
Loading required package: akima
Loading required package: lattice
Loading required package: Biobase
Loading required package: tools
Welcome to Bioconductor
Vignettes contain introductory material. To view, type
'openVignette()'. To cite Bioconductor, see
'citation("Biobase")' and for packages 'citation(pkgname)'.
Loading required package: marray
Loading required package: limma
adding MD5 sums
* DONE (OLINgui)
* creating vignettes ... OK
* removing junk files
* checking for LF line-endings in source and make files
* checking for empty or unneeded directories
* building 'OLINgui_1.12.0.tar.gz'