Back to the "Multiple platform build/check report"
Package 128/234 | Hostname | OS | Arch | BUILD | CHECK | BUILD BIN |
MantelCorr 1.8.0 Brian Steinmeyer Last Changed Date: 2007-10-02 17:41:09 -0700 Last Changed Rev: 27709 | lamb1 | Linux (SUSE 10.1) | x86_64 | OK | OK | |
wellington | Linux (SUSE 9.2) | i686 | OK | OK | ||
liverpool | Windows Server 2003 R2 (32-bit) | x64 | OK | OK | OK | |
pitt | Mac OS X (10.4.10) | i386 | OK | OK | [ OK ] |
Package: MantelCorr |
Version: 1.8.0 |
Command: /Users/biocbuild/BBS/utils/build-universal.sh MantelCorr_1.8.0.tar.gz /Library/Frameworks/R.framework/Resources/bin/R MantelCorr.buildbin-libdir |
RetCode: 0 |
Time: 3.3 seconds |
Status: OK |
PackageFile: MantelCorr_1.8.0.tgz |
INSTALLATION WITH 'R CMD INSTALL MantelCorr_1.8.0.tar.gz' * Installing to library 'MantelCorr.buildbin-libdir' * Installing *source* package 'MantelCorr' ... ** R ** data ** inst ** help >>> Building/Updating help pages for package 'MantelCorr' Formats: text html latex example ClusterGeneList text html latex example ClusterList text html latex example DistMatrices text html latex example GetClusters text html latex example GolubTrain text html latex example MantelCorrs text html latex example PermutationTest text html latex example ** building package indices ... * DONE (MantelCorr)