Back to the "Multiple platform build/check report"
| Package 139/234 | Hostname | OS | Arch | BUILD | CHECK | BUILD BIN | 
| MLInterfaces 1.12.0 V. Carey Last Changed Date: 2007-10-02 17:41:09 -0700 Last Changed Rev: 27709 | lamb1 | Linux (SUSE 10.1) | x86_64 | OK | OK | |
| wellington | Linux (SUSE 9.2) | i686 | OK | OK | ||
| liverpool | Windows Server 2003 R2 (32-bit) | x64 | OK | [ OK ] | OK | |
| pitt | Mac OS X (10.4.10) | i386 | OK | OK | OK | 
| Package: MLInterfaces | 
| Version: 1.12.0 | 
| Command: E:\biocbld\bbs-2.1-bioc\R\bin\R.exe CMD check MLInterfaces_1.12.0.tar.gz | 
| RetCode: 0 | 
| Time: 230.7 seconds | 
| Status: OK | 
| CheckDir: MLInterfaces.Rcheck | 
| Warnings: 0 | 
* checking for working latex ... OK * using log directory 'E:/biocbld/bbs-2.1-bioc/meat/MLInterfaces.Rcheck' * using R version 2.6.0 (2007-10-03) * checking for file 'MLInterfaces/DESCRIPTION' ... OK * this is package 'MLInterfaces' version '1.12.0' * checking package name space information ... OK * checking package dependencies ... OK * checking if this is a source package ... OK * checking whether package 'MLInterfaces' can be installed ... OK * checking package directory ... OK * checking for portable file names ... OK * checking DESCRIPTION meta-information ... OK * checking top-level files ... OK * checking index information ... OK * checking package subdirectories ... OK * checking R files for non-ASCII characters ... OK * checking R files for syntax errors ... OK * checking whether the package can be loaded ... OK * checking whether the package can be loaded with stated dependencies ... OK * checking whether the name space can be loaded with stated dependencies ... OK * checking for unstated dependencies in R code ... OK * checking S3 generic/method consistency ... OK * checking replacement functions ... OK * checking foreign function calls ... OK * checking R code for possible problems ... OK * checking Rd files ... OK * checking Rd cross-references ... OK * checking for missing documentation entries ... OK * checking for code/documentation mismatches ... OK * checking Rd \usage sections ... OK * creating MLInterfaces-Ex.R ... OK * checking examples ... OK * checking package vignettes in 'inst/doc' ... OK * creating MLInterfaces-manual.tex ... OK * checking MLInterfaces-manual.tex ... OK
MLInterfaces.Rcheck/00install.out:
installing R.css in E:/biocbld/bbs-2.1-bioc/meat/MLInterfaces.Rcheck
---------- Making package MLInterfaces ------------
  adding build stamp to DESCRIPTION
  installing NAMESPACE file and metadata
  installing R files
  installing inst files
  preparing package MLInterfaces for lazy loading
Loading required package: Biobase
Loading required package: tools
Welcome to Bioconductor
  Vignettes contain introductory material. To view, type
  'openVignette()'. To cite Bioconductor, see
  'citation("Biobase")' and for packages 'citation(pkgname)'.
Loading required package: MASS
Loading required package: genefilter
Loading required package: survival
Loading required package: splines
Loading required package: rpart
Loading required package: rda
  installing man source files
  installing indices
  installing help
 >>> Building/Updating help pages for package 'MLInterfaces'
     Formats: text html latex example chm 
  Kfold                             text    html    latex   example chm
  MLIclust                          text    html    latex   example chm
  MLIntInternals                    text    html    latex   example chm
  MLearn-methods                    text    html    latex   example chm
  MLearn-new                        text    html    latex   example chm
  RAB                               text    html    latex   example chm
  SOMB                              text    html    latex   example chm
  balKfold.xvspec                   text    html    latex   example chm
  classifOutput-class               text    html    latex   example chm
  classifierOutput-class            text    html    latex   example chm
  clustOutput-class                 text    html    latex   example chm
  confuMat-methods                  text    html    latex   example chm
  knnB                              text    html    latex   example chm
  learnerSchema-class               text    html    latex   example chm
  planarPlot-methods                text    html    latex   example chm
  raboostCont-class                 text    html    latex   example chm
  varImpStruct-class                text    html    latex   example chm
  xval-methods                      text    html    latex   example chm
  xvalLoop-methods                  text    html    latex           chm
  xvalLoop                          text    html    latex   example chm
Microsoft HTML Help Compiler 4.74.8702
Compiling e:\biocbld\bbs-2.1-bioc\meat\MLInterfaces.Rcheck\00_pkg_src\MLInterfaces\chm\MLInterfaces.chm
Compile time: 0 minutes, 0 seconds
21	Topics
301	Local links
0	Internet links
1	Graphic
Created e:\biocbld\bbs-2.1-bioc\meat\MLInterfaces.Rcheck\00_pkg_src\MLInterfaces\chm\MLInterfaces.chm, 62,581 bytes
Compression decreased file by 112,999 bytes.
  adding MD5 sums
* DONE (MLInterfaces)