Back to the "Multiple platform build/check report"
| Package 117/234 | Hostname | OS | Arch | BUILD | CHECK | BUILD BIN | 
| LPE 1.12.0 Nitin Jain Last Changed Date: 2007-10-02 17:41:09 -0700 Last Changed Rev: 27709  | lamb1 | Linux (SUSE 10.1) | x86_64 | OK | OK | |
| wellington | Linux (SUSE 9.2) | i686 | OK | OK | ||
| liverpool | Windows Server 2003 R2 (32-bit) | x64 | OK | OK | [ OK ] | |
| pitt | Mac OS X (10.4.10) | i386 | OK | OK | OK | 
| Package: LPE | 
| Version: 1.12.0 | 
| Command: E:\biocbld\bbs-2.1-bioc\R\bin\R.exe CMD INSTALL --build --library=LPE.buildbin-libdir LPE_1.12.0.tar.gz | 
| RetCode: 0 | 
| Time: 23.0 seconds | 
| Status: OK | 
| PackageFile: LPE_1.12.0.zip | 
installing R.css in E:/biocbld/bbs-2.1-bioc/meat/LPE.buildbin-libdir
Using auto-selected zip options 'LPE-ZIPDATA=zip'
---------- Making package LPE ------------
  adding build stamp to DESCRIPTION
  installing R files
  installing inst files
  installing data files
  installing man source files
  installing indices
  zipping data
  installing help
 >>> Building/Updating help pages for package 'LPE'
     Formats: text html latex example chm 
  Ley                               text    html    latex           chm
  am.trans                          text    html    latex   example chm
  baseOlig.error                    text    html    latex   example chm
  baseOlig.error.step1              text    html    latex   example chm
  baseOlig.error.step2              text    html    latex   example chm
  fdr.adjust                        text    html    latex   example chm
  fixbounds.predict.smooth.spline   text    html    latex   example chm
  iqr                               text    html    latex   example chm
  lowess.normalize                  text    html    latex   example chm
  lpe                               text    html    latex   example chm
  mt.rawp2adjp                      text    html    latex   example chm
  n.genes.adaptive.int              text    html    latex   example chm
  permute                           text    html    latex   example chm
  preprocess                        text    html    latex   example chm
  quan.norm                         text    html    latex   example chm
  quartile.normalize                text    html    latex   example chm
  resamp.adj                        text    html    latex   example chm
Microsoft HTML Help Compiler 4.74.8702
Compiling e:\biocbld\bbs-2.1-bioc\meat\R.INSTALL.4328\LPE\chm\LPE.chm
Compile time: 0 minutes, 0 seconds
18	Topics
46	Local links
2	Internet links
1	Graphic
Created e:\biocbld\bbs-2.1-bioc\meat\R.INSTALL.4328\LPE\chm\LPE.chm, 41,510 bytes
Compression decreased file by 30,118 bytes.
  preparing package LPE for lazy loading
  adding MD5 sums
packaged installation of package 'LPE' as LPE_1.12.0.zip
* DONE (LPE)