Back to the "Multiple platform build/check report"
| Package 112/234 | Hostname | OS | Arch | BUILD | CHECK | BUILD BIN | 
| LBE 1.6.0 Cyril Dalmasso Last Changed Date: 2007-10-02 17:41:09 -0700 Last Changed Rev: 27709 | lamb1 | Linux (SUSE 10.1) | x86_64 | OK | OK | |
| wellington | Linux (SUSE 9.2) | i686 | OK | OK | ||
| liverpool | Windows Server 2003 R2 (32-bit) | x64 | [ OK ] | OK | OK | |
| pitt | Mac OS X (10.4.10) | i386 | OK | OK | OK | 
| Package: LBE | 
| Version: 1.6.0 | 
| Command: E:\biocbld\bbs-2.1-bioc\R\bin\R.exe CMD build LBE | 
| RetCode: 0 | 
| Time: 22.3 seconds | 
| Status: OK | 
| PackageFile: LBE_1.6.0.tar.gz | 
* checking for file 'LBE/DESCRIPTION' ... OK
* preparing 'LBE':
* checking DESCRIPTION meta-information ... OK
* installing the package to re-build vignettes
installing R.css in E:/biocbld/bbs-2.1-bioc/tmpdir/Rinst217273278
---------- Making package LBE ------------
  adding build stamp to DESCRIPTION
  installing R files
  installing inst files
  installing data files
  installing man source files
  installing indices
  not zipping data
  installing help
Note: unmatched right brace in 'LBE-package' on or after line 10
Note: unmatched right brace in 'LBE-package' on or after line 11
Note: unmatched right brace in 'LBE-package.Rd' on or after line 10
Note: unmatched right brace in 'LBE-package.Rd' on or after line 11
 >>> Building/Updating help pages for package 'LBE'
     Formats: text html latex example chm 
  LBE-package                       text    html    latex           chm
  LBE                               text    html    latex   example chm
  LBEa                              text    html    latex   example chm
  LBEplot                           text    html    latex   example chm
  LBEsummary                        text    html    latex   example chm
  LBEwrite                          text    html    latex   example chm
  golub.pval                        text    html    latex           chm
  hedenfalk.pval                    text    html    latex           chm
Microsoft HTML Help Compiler 4.74.8702
Compiling e:\biocbld\bbs-2.1-bioc\meat\LBE\chm\LBE.chm
Compile time: 0 minutes, 0 seconds
9	Topics
36	Local links
0	Internet links
1	Graphic
Created e:\biocbld\bbs-2.1-bioc\meat\LBE\chm\LBE.chm, 26,702 bytes
Compression decreased file by 3,841 bytes.
  adding MD5 sums
* DONE (LBE)
* creating vignettes ... OK
* removing junk files
* checking for LF line-endings in source and make files
* checking for empty or unneeded directories
* building 'LBE_1.6.0.tar.gz'