Back to the "Multiple platform build/check report"
| Package 110/234 | Hostname | OS | Arch | BUILD | CHECK | BUILD BIN |
| KEGGSOAP 1.12.0 Robert Gentleman Last Changed Date: 2007-10-02 17:41:09 -0700 Last Changed Rev: 27709 | lamb1 | Linux (SUSE 10.1) | x86_64 | OK | OK | |
| wellington | Linux (SUSE 9.2) | i686 | OK | OK | ||
| liverpool | Windows Server 2003 R2 (32-bit) | x64 | OK | WARNINGS | OK | |
| pitt | Mac OS X (10.4.10) | i386 | OK | OK | [ OK ] |
| Package: KEGGSOAP |
| Version: 1.12.0 |
| Command: /Users/biocbuild/BBS/utils/build-universal.sh KEGGSOAP_1.12.0.tar.gz /Library/Frameworks/R.framework/Resources/bin/R KEGGSOAP.buildbin-libdir |
| RetCode: 0 |
| Time: 6.3 seconds |
| Status: OK |
| PackageFile: KEGGSOAP_1.12.0.tgz |
INSTALLATION WITH 'R CMD INSTALL KEGGSOAP_1.12.0.tar.gz'
* Installing to library 'KEGGSOAP.buildbin-libdir'
* Installing *source* package 'KEGGSOAP' ...
** R
** preparing package for lazy loading
Loading required package: XML
Loading required package: SSOAP
Loading required package: RCurl
** help
>>> Building/Updating help pages for package 'KEGGSOAP'
Formats: text html latex example
KEGGserver text html latex
bget text html latex example
get.genes.by.motifs text html latex example
get.genes.by.organism text html latex example
get.genes.by.pathway text html latex example
get.motifs.by.gene text html latex example
get.paralogs.by.gene text html latex example
get.pathways.by.genes text html latex example
getBestNeighbors text html latex example
list.organisms text html latex example
mark.pathway.by.objects text html latex example
search.compounds.by.name text html latex example
search.glycans.by.name text html latex example
** building package indices ...
* DONE (KEGGSOAP)