Back to the "Multiple platform build/check report"
| Package 86/234 | Hostname | OS | Arch | BUILD | CHECK | BUILD BIN |
| GeneTS 2.16.0 Korbinian Strimmer Last Changed Date: 2007-10-02 17:41:09 -0700 Last Changed Rev: 27709 | lamb1 | Linux (SUSE 10.1) | x86_64 | OK | OK | |
| wellington | Linux (SUSE 9.2) | i686 | OK | OK | ||
| liverpool | Windows Server 2003 R2 (32-bit) | x64 | OK | OK | OK | |
| pitt | Mac OS X (10.4.10) | i386 | OK | OK | [ OK ] |
| Package: GeneTS |
| Version: 2.16.0 |
| Command: /Users/biocbuild/BBS/utils/build-universal.sh GeneTS_2.16.0.tar.gz /Library/Frameworks/R.framework/Resources/bin/R GeneTS.buildbin-libdir |
| RetCode: 0 |
| Time: 1.8 seconds |
| Status: OK |
| PackageFile: GeneTS_2.16.0.tgz |
INSTALLATION WITH 'R CMD INSTALL GeneTS_2.16.0.tar.gz'
* Installing to library 'GeneTS.buildbin-libdir'
* Installing *source* package 'GeneTS' ...
** R
No man pages found in package 'GeneTS'
** building package indices ...
* DONE (GeneTS)