Back to the "Multiple platform build/check report"
| Package 82/234 | Hostname | OS | Arch | BUILD | CHECK | BUILD BIN |
| GeneSpring 2.12.0 Thon de Boer Last Changed Date: 2007-10-02 17:41:09 -0700 Last Changed Rev: 27709 | lamb1 | Linux (SUSE 10.1) | x86_64 | OK | OK | |
| wellington | Linux (SUSE 9.2) | i686 | OK | OK | ||
| liverpool | Windows Server 2003 R2 (32-bit) | x64 | OK | OK | [ OK ] | |
| pitt | Mac OS X (10.4.10) | i386 | OK | OK | OK |
| Package: GeneSpring |
| Version: 2.12.0 |
| Command: E:\biocbld\bbs-2.1-bioc\R\bin\R.exe CMD INSTALL --build --library=GeneSpring.buildbin-libdir GeneSpring_2.12.0.tar.gz |
| RetCode: 0 |
| Time: 16.0 seconds |
| Status: OK |
| PackageFile: GeneSpring_2.12.0.zip |
installing R.css in E:/biocbld/bbs-2.1-bioc/meat/GeneSpring.buildbin-libdir
Using auto-selected zip options ''
---------- Making package GeneSpring ------------
adding build stamp to DESCRIPTION
installing R files
installing inst files
preparing package GeneSpring for lazy loading
Loading required package: Biobase
Loading required package: tools
Welcome to Bioconductor
Vignettes contain introductory material. To view, type
'openVignette()'. To cite Bioconductor, see
'citation("Biobase")' and for packages 'citation(pkgname)'.
installing man source files
installing indices
installing help
Note: unmatched right brace in 'GSload.exp' on or after line 76
Note: unmatched right brace in 'GSload.exp.Rd' on or after line 76
>>> Building/Updating help pages for package 'GeneSpring'
Formats: text html latex example chm
GSint text html latex example chm
GSint2BC text html latex example chm
GSload.exp text html latex example chm
GSload.genelist text html latex example chm
GSload.int text html latex example chm
GSsave.exp text html latex example chm
Microsoft HTML Help Compiler 4.74.8702
Compiling e:\biocbld\bbs-2.1-bioc\meat\R.INSTALL.5724\GeneSpring\chm\GeneSpring.chm
Compile time: 0 minutes, 0 seconds
7 Topics
40 Local links
6 Internet links
1 Graphic
Created e:\biocbld\bbs-2.1-bioc\meat\R.INSTALL.5724\GeneSpring\chm\GeneSpring.chm, 31,099 bytes
Compression decreased file by 11,004 bytes.
adding MD5 sums
packaged installation of package 'GeneSpring' as GeneSpring_2.12.0.zip
* DONE (GeneSpring)