Back to the "Multiple platform build/check report"
| Package 97/234 | Hostname | OS | Arch | BUILD | CHECK | BUILD BIN |
| GSEABase 1.0.1 Biocore Team c/o BioC user list Last Changed Date: 2007-10-05 12:41:11 -0700 Last Changed Rev: 27791 | lamb1 | Linux (SUSE 10.1) | x86_64 | OK | OK | |
| wellington | Linux (SUSE 9.2) | i686 | OK | OK | ||
| liverpool | Windows Server 2003 R2 (32-bit) | x64 | [ OK ] | WARNINGS | OK | |
| pitt | Mac OS X (10.4.10) | i386 | OK | OK | OK |
| Package: GSEABase |
| Version: 1.0.1 |
| Command: E:\biocbld\bbs-2.1-bioc\R\bin\R.exe CMD build GSEABase |
| RetCode: 0 |
| Time: 50.2 seconds |
| Status: OK |
| PackageFile: GSEABase_1.0.1.tar.gz |
* checking for file 'GSEABase/DESCRIPTION' ... OK
* preparing 'GSEABase':
* checking DESCRIPTION meta-information ... OK
* installing the package to re-build vignettes
installing R.css in E:/biocbld/bbs-2.1-bioc/tmpdir/Rinst159641677
---------- Making package GSEABase ------------
adding build stamp to DESCRIPTION
installing NAMESPACE file and metadata
installing R files
installing inst files
preparing package GSEABase for lazy loading
Loading required package: Biobase
Loading required package: tools
Welcome to Bioconductor
Vignettes contain introductory material. To view, type
'openVignette()'. To cite Bioconductor, see
'citation("Biobase")' and for packages 'citation(pkgname)'.
Loading required package: AnnotationDbi
Loading required package: DBI
Loading required package: RSQLite
installing man source files
installing indices
installing help
>>> Building/Updating help pages for package 'GSEABase'
Formats: text html latex example chm
CollectionType-class text html latex example chm
CollectionType-constructors text html latex example chm
GSEABase-package text html latex example chm
GeneColorSet-class text html latex example chm
GeneColorSet-methods text html latex chm
GeneIdentifierType-class text html latex example chm
GeneIdentifierType-constructors text html latex example chm
GeneSet-class text html latex example chm
GeneSet-methods text html latex example chm
GeneSetCollection-class text html latex example chm
GeneSetCollection-methods text html latex example chm
details-methods text html latex chm
getBroadSets text html latex example chm
incidence-methods text html latex example chm
mapIdentifiers-methods text html latex chm
Microsoft HTML Help Compiler 4.74.8702
Compiling e:\biocbld\bbs-2.1-bioc\meat\GSEABase\chm\GSEABase.chm
Compile time: 0 minutes, 1 second
16 Topics
300 Local links
1 Internet link
1 Graphic
Created e:\biocbld\bbs-2.1-bioc\meat\GSEABase\chm\GSEABase.chm, 54,131 bytes
Compression decreased file by 113,379 bytes.
adding MD5 sums
* DONE (GSEABase)
* creating vignettes ... OK
* removing junk files
* checking for LF line-endings in source and make files
* checking for empty or unneeded directories
* building 'GSEABase_1.0.1.tar.gz'