Back to the "Multiple platform build/check report"
| Package 87/234 | Hostname | OS | Arch | BUILD | CHECK | BUILD BIN |
| GEOquery 2.2.0 Sean Davis Last Changed Date: 2007-10-02 17:41:09 -0700 Last Changed Rev: 27709 | lamb1 | Linux (SUSE 10.1) | x86_64 | [ OK ] | OK | |
| wellington | Linux (SUSE 9.2) | i686 | ERROR | skipped | ||
| liverpool | Windows Server 2003 R2 (32-bit) | x64 | OK | OK | OK | |
| pitt | Mac OS X (10.4.10) | i386 | ERROR | skipped | skipped |
| Package: GEOquery |
| Version: 2.2.0 |
| Command: /home/biocbuild/bbs-2.1-bioc/R/bin/R CMD build GEOquery |
| RetCode: 0 |
| Time: 228.7 seconds |
| Status: OK |
| PackageFile: GEOquery_2.2.0.tar.gz |
* checking for file 'GEOquery/DESCRIPTION' ... OK
* preparing 'GEOquery':
* checking DESCRIPTION meta-information ... OK
* installing the package to re-build vignettes
* Installing *source* package 'GEOquery' ...
** R
** inst
** help
>>> Building/Updating help pages for package 'GEOquery'
Formats: text html latex example
GDS-class text html latex
GDS2MA text html latex example
GEOData-class text html latex
GEODataTable-class text html latex
GPL-class text html latex
GSE-class text html latex
GSM-class text html latex
dataTable text html latex
getGEO text html latex example
getGEOfile text html latex example
gunzip text html latex
parseGEO text html latex
** building package indices ...
* DONE (GEOquery)
* creating vignettes ... OK
* removing junk files
* checking for LF line-endings in source and make files
* checking for empty or unneeded directories
* building 'GEOquery_2.2.0.tar.gz'