Back to the "Multiple platform build/check report"
| Package 50/234 | Hostname | OS | Arch | BUILD | CHECK | BUILD BIN |
| CoCiteStats 1.10.0 R. Gentleman Last Changed Date: 2007-10-02 17:41:09 -0700 Last Changed Rev: 27709 | lamb1 | Linux (SUSE 10.1) | x86_64 | OK | OK | |
| wellington | Linux (SUSE 9.2) | i686 | [ OK ] | OK | ||
| liverpool | Windows Server 2003 R2 (32-bit) | x64 | OK | OK | OK | |
| pitt | Mac OS X (10.4.10) | i386 | OK | OK | OK |
| Package: CoCiteStats |
| Version: 1.10.0 |
| Command: /loc/biocbuild/bbs-2.1-bioc/R/bin/R CMD build CoCiteStats |
| RetCode: 0 |
| Time: 0.8 seconds |
| Status: OK |
| PackageFile: CoCiteStats_1.10.0.tar.gz |
* checking for file 'CoCiteStats/DESCRIPTION' ... OK * preparing 'CoCiteStats': * checking DESCRIPTION meta-information ... OK * removing junk files * checking for LF line-endings in source and make files * checking for empty or unneeded directories * building 'CoCiteStats_1.10.0.tar.gz'