Back to the "Multiple platform build/check report"
| Package 48/234 | Hostname | OS | Arch | BUILD | CHECK | BUILD BIN |
| ChromoViz 1.10.0 Jihoon Kim Last Changed Date: 2007-10-02 17:41:09 -0700 Last Changed Rev: 27709 | lamb1 | Linux (SUSE 10.1) | x86_64 | OK | WARNINGS | |
| wellington | Linux (SUSE 9.2) | i686 | OK | WARNINGS | ||
| liverpool | Windows Server 2003 R2 (32-bit) | x64 | OK | WARNINGS | OK | |
| pitt | Mac OS X (10.4.10) | i386 | OK | WARNINGS | [ OK ] |
| Package: ChromoViz |
| Version: 1.10.0 |
| Command: /Users/biocbuild/BBS/utils/build-universal.sh ChromoViz_1.10.0.tar.gz /Library/Frameworks/R.framework/Resources/bin/R ChromoViz.buildbin-libdir |
| RetCode: 0 |
| Time: 5.0 seconds |
| Status: OK |
| PackageFile: ChromoViz_1.10.0.tgz |
INSTALLATION WITH 'R CMD INSTALL ChromoViz_1.10.0.tar.gz'
* Installing to library 'ChromoViz.buildbin-libdir'
* Installing *source* package 'ChromoViz' ...
** R
** data
** help
>>> Building/Updating help pages for package 'ChromoViz'
Formats: text html latex example
cViz text html latex example
cViz.addAnnoNodes2SVG text html latex
cViz.addZeroToTheSingleDigit text html latex
cViz.distinctNames text html latex
cViz.drawChr text html latex
cViz.drawFeature text html latex
cViz.getHeightOfPolylinePoints text html latex
cViz.incPolylineAttrValue text html latex
cViz.incSVGviewBoxValue text html latex
cViz.incSingleAttrValue text html latex
cViz.incTextAttrValue text html latex
cViz.insertNewAttrValue text html latex
cViz.loadFiles text html latex
cViz.makeChromWrapperHtml text html latex
cViz.makeFrameHtml text html latex
cViz.makeHeaderHtml text html latex
cViz.mergeSVG text html latex
exprKnockout text html latex example
exprStemcell text html latex example
humanBand text html latex example
mouseBand text html latex example
svgControl text html latex
** building package indices ...
* DONE (ChromoViz)