Back to the "Multiple platform build/check report"
| Package 54/234 | Hostname | OS | Arch | BUILD | CHECK | BUILD BIN |
| CORREP 1.4.0 Dongxiao Zhu Last Changed Date: 2007-10-02 17:41:09 -0700 Last Changed Rev: 27709 | lamb1 | Linux (SUSE 10.1) | x86_64 | OK | OK | |
| wellington | Linux (SUSE 9.2) | i686 | OK | OK | ||
| liverpool | Windows Server 2003 R2 (32-bit) | x64 | OK | OK | OK | |
| pitt | Mac OS X (10.4.10) | i386 | OK | OK | [ OK ] |
| Package: CORREP |
| Version: 1.4.0 |
| Command: /Users/biocbuild/BBS/utils/build-universal.sh CORREP_1.4.0.tar.gz /Library/Frameworks/R.framework/Resources/bin/R CORREP.buildbin-libdir |
| RetCode: 0 |
| Time: 3.9 seconds |
| Status: OK |
| PackageFile: CORREP_1.4.0.tgz |
INSTALLATION WITH 'R CMD INSTALL CORREP_1.4.0.tar.gz'
* Installing to library 'CORREP.buildbin-libdir'
* Installing *source* package 'CORREP' ...
** R
** data
** inst
** help
>>> Building/Updating help pages for package 'CORREP'
Formats: text html latex example
CORREP-package text html latex example
cor.LRtest text html latex example
cor.LRtest.std text html latex example
cor.balance text html latex example
cor.bootci text html latex example
cor.unbalance text html latex example
gal_all text html latex example
permutest text html latex example
true.member text html latex example
** building package indices ...
* DONE (CORREP)