Back to the "Multiple platform build/check report"
| IMPORTANT NOTE: R was configured with --enable-strict-barrier on lamb1 |
| Package 243/247 | Hostname | OS | Arch | BUILD | CHECK | BUILD BIN |
weaver1.3.0Seth FalconLast Changed Date: 2007-04-24 11:31:42 -0700 Last Changed Rev: 24217 | lamb1 | Linux (SUSE 10.1) | x86_64 | OK | OK | |
| wellington | Linux (SUSE 9.2) | i686 | OK | OK | ||
| liverpool | Windows Server 2003 R2 (32-bit) | x64 | OK | OK | OK | |
| pitt | Mac OS X (10.4.10) | i386 | OK | OK | [ OK ] |
| Package: weaver |
| Version: 1.3.0 |
| Command: /Users/biocbuild/BBS/utils/build-universal.sh weaver_1.3.0.tar.gz /Library/Frameworks/R.framework/Resources/bin/R weaver.buildbin-libdir |
| RetCode: 0 |
| Time: 5.8 seconds |
| Status: OK |
| PackageFile: weaver_1.3.0.tgz |
INSTALLATION WITH 'R CMD INSTALL weaver_1.3.0.tar.gz'
* Installing to library 'weaver.buildbin-libdir'
* Installing *source* package 'weaver' ...
** R
** inst
** preparing package for lazy loading
Loading required package: digest
Loading required package: tools
Loading required package: codetools
** help
>>> Building/Updating help pages for package 'weaver'
Formats: text html latex example
internal text html latex
weaver text html latex example
** building package indices ...
* DONE (weaver)