Back to the "Multiple platform build/check report"
| IMPORTANT NOTE: R was configured with --enable-strict-barrier on lamb1 | 
| Package 239/247 | Hostname | OS | Arch | BUILD | CHECK | BUILD BIN | 
| twilight1.13.0Stefanie ScheidLast Changed Date: 2007-08-19 06:32:04 -0700 Last Changed Rev: 26505 | lamb1 | Linux (SUSE 10.1) | x86_64 | OK | OK | |
| wellington | Linux (SUSE 9.2) | i686 | OK | OK | ||
| liverpool | Windows Server 2003 R2 (32-bit) | x64 | OK | OK | OK | |
| pitt | Mac OS X (10.4.10) | i386 | OK | OK | [ OK ] | 
| Package: twilight | 
| Version: 1.13.0 | 
| Command: /Users/biocbuild/BBS/utils/build-universal.sh twilight_1.13.0.tar.gz /Library/Frameworks/R.framework/Resources/bin/R twilight.buildbin-libdir | 
| RetCode: 0 | 
| Time: 10.2 seconds | 
| Status: OK | 
| PackageFile: twilight_1.13.0.tgz | 
                    INSTALLATION WITH 'R CMD INSTALL twilight_1.13.0.tar.gz'
* Installing to library 'twilight.buildbin-libdir'
* Installing *source* package 'twilight' ...
** libs
** arch - i386
gcc-4.0 -arch i386 -isysroot /Developer/SDKs/MacOSX10.4u.sdk -no-cpp-precomp -I/Library/Frameworks/R.framework/Resources/include -I/Library/Frameworks/R.framework/Resources/include/i386  -msse3  -D__NO_MATH_INLINES  -fPIC  -g -O2 -Wall -std=gnu99 -march=nocona -c confidence.line.c -o confidence.line.o
gcc-4.0 -arch i386 -isysroot /Developer/SDKs/MacOSX10.4u.sdk -no-cpp-precomp -I/Library/Frameworks/R.framework/Resources/include -I/Library/Frameworks/R.framework/Resources/include/i386  -msse3  -D__NO_MATH_INLINES  -fPIC  -g -O2 -Wall -std=gnu99 -march=nocona -c correlation.c -o correlation.o
gcc-4.0 -arch i386 -isysroot /Developer/SDKs/MacOSX10.4u.sdk -no-cpp-precomp -I/Library/Frameworks/R.framework/Resources/include -I/Library/Frameworks/R.framework/Resources/include/i386  -msse3  -D__NO_MATH_INLINES  -fPIC  -g -O2 -Wall -std=gnu99 -march=nocona -c kstest.c -o kstest.o
gcc-4.0 -arch i386 -isysroot /Developer/SDKs/MacOSX10.4u.sdk -no-cpp-precomp -I/Library/Frameworks/R.framework/Resources/include -I/Library/Frameworks/R.framework/Resources/include/i386  -msse3  -D__NO_MATH_INLINES  -fPIC  -g -O2 -Wall -std=gnu99 -march=nocona -c sep.c -o sep.o
gcc-4.0 -arch i386 -isysroot /Developer/SDKs/MacOSX10.4u.sdk -no-cpp-precomp -I/Library/Frameworks/R.framework/Resources/include -I/Library/Frameworks/R.framework/Resources/include/i386  -msse3  -D__NO_MATH_INLINES  -fPIC  -g -O2 -Wall -std=gnu99 -march=nocona -c twosample.perm.c -o twosample.perm.o
gcc-4.0 -arch i386 -isysroot /Developer/SDKs/MacOSX10.4u.sdk -no-cpp-precomp -I/Library/Frameworks/R.framework/Resources/include -I/Library/Frameworks/R.framework/Resources/include/i386  -msse3  -D__NO_MATH_INLINES  -fPIC  -g -O2 -Wall -std=gnu99 -march=nocona -c twosample.single.c -o twosample.single.o
gcc-4.0 -arch i386 -isysroot /Developer/SDKs/MacOSX10.4u.sdk -dynamiclib -Wl,-macosx_version_min -Wl,10.3 -undefined dynamic_lookup -single_module -multiply_defined suppress -L/usr/local/lib -o twilight.so confidence.line.o correlation.o kstest.o sep.o twosample.perm.o twosample.single.o   -F/Library/Frameworks/R.framework/.. -framework R
** arch - ppc
gcc-4.0 -arch ppc -isysroot /Developer/SDKs/MacOSX10.4u.sdk -std=gnu99 -no-cpp-precomp -I/Library/Frameworks/R.framework/Resources/include -I/Library/Frameworks/R.framework/Resources/include/ppc  -I/usr/local/include    -fPIC  -g -O2 -Wall -c confidence.line.c -o confidence.line.o
gcc-4.0 -arch ppc -isysroot /Developer/SDKs/MacOSX10.4u.sdk -std=gnu99 -no-cpp-precomp -I/Library/Frameworks/R.framework/Resources/include -I/Library/Frameworks/R.framework/Resources/include/ppc  -I/usr/local/include    -fPIC  -g -O2 -Wall -c correlation.c -o correlation.o
gcc-4.0 -arch ppc -isysroot /Developer/SDKs/MacOSX10.4u.sdk -std=gnu99 -no-cpp-precomp -I/Library/Frameworks/R.framework/Resources/include -I/Library/Frameworks/R.framework/Resources/include/ppc  -I/usr/local/include    -fPIC  -g -O2 -Wall -c kstest.c -o kstest.o
gcc-4.0 -arch ppc -isysroot /Developer/SDKs/MacOSX10.4u.sdk -std=gnu99 -no-cpp-precomp -I/Library/Frameworks/R.framework/Resources/include -I/Library/Frameworks/R.framework/Resources/include/ppc  -I/usr/local/include    -fPIC  -g -O2 -Wall -c sep.c -o sep.o
gcc-4.0 -arch ppc -isysroot /Developer/SDKs/MacOSX10.4u.sdk -std=gnu99 -no-cpp-precomp -I/Library/Frameworks/R.framework/Resources/include -I/Library/Frameworks/R.framework/Resources/include/ppc  -I/usr/local/include    -fPIC  -g -O2 -Wall -c twosample.perm.c -o twosample.perm.o
gcc-4.0 -arch ppc -isysroot /Developer/SDKs/MacOSX10.4u.sdk -std=gnu99 -no-cpp-precomp -I/Library/Frameworks/R.framework/Resources/include -I/Library/Frameworks/R.framework/Resources/include/ppc  -I/usr/local/include    -fPIC  -g -O2 -Wall -c twosample.single.c -o twosample.single.o
gcc-4.0 -arch ppc -isysroot /Developer/SDKs/MacOSX10.4u.sdk -std=gnu99 -dynamiclib -Wl,-macosx_version_min -Wl,10.3 -undefined dynamic_lookup -single_module -multiply_defined suppress -L/usr/local/lib -o twilight.so confidence.line.o correlation.o kstest.o sep.o twosample.perm.o twosample.single.o   -F/Library/Frameworks/R.framework/.. -framework R
** R
** data
** inst
** preparing package for lazy loading
Loading required package: splines
Loading required package: Biobase
Loading required package: tools
Welcome to Bioconductor
  Vignettes contain introductory material. To view, type
  'openVignette()'. To cite Bioconductor, see
  'citation("Biobase")' and for packages 'citation(pkgname)'.
** help
 >>> Building/Updating help pages for package 'twilight'
     Formats: text html latex example 
  exfdr                             text    html    latex
  expval                            text    html    latex
  plot.twilight                     text    html    latex   example
  print.twilight                    text    html    latex   example
  twilight                          text    html    latex   example
  twilight.combi                    text    html    latex   example
  twilight.filtering                text    html    latex   example
  twilight.getlambda                text    html    latex
  twilight.getmatrix                text    html    latex
  twilight.permute.pair             text    html    latex
  twilight.permute.unpair           text    html    latex
  twilight.pval                     text    html    latex   example
  twilight.teststat                 text    html    latex   example
** building package indices ...
* DONE (twilight)