Back to the "Multiple platform build/check report"
| IMPORTANT NOTE: R was configured with --enable-strict-barrier on lamb1 | 
| Package 232/247 | Hostname | OS | Arch | BUILD | CHECK | BUILD BIN | 
| ssize1.9.0Gregory R. WarnesLast Changed Date: 2007-04-24 11:31:42 -0700 Last Changed Rev: 24217 | lamb1 | Linux (SUSE 10.1) | x86_64 | OK | [ OK ] | |
| wellington | Linux (SUSE 9.2) | i686 | OK | OK | ||
| liverpool | Windows Server 2003 R2 (32-bit) | x64 | OK | OK | OK | |
| pitt | Mac OS X (10.4.10) | i386 | OK | OK | OK | 
| Package: ssize | 
| Version: 1.9.0 | 
| Command: /home/biocbuild/bbs-2.1-bioc/R/bin/R CMD check ssize_1.9.0.tar.gz | 
| RetCode: 0 | 
| Time: 33.5 seconds | 
| Status: OK | 
| CheckDir: ssize.Rcheck | 
| Warnings: 0 | 
* checking for working latex ... OK * using log directory '/home/biocbuild/bbs-2.1-bioc/meat/ssize.Rcheck' * using R version 2.6.0 Under development (unstable) (2007-08-06 r42439) * checking for file 'ssize/DESCRIPTION' ... OK * this is package 'ssize' version '1.9.0' * checking package dependencies ... OK * checking if this is a source package ... OK * checking whether package 'ssize' can be installed ... OK * checking package directory ... OK * checking for portable file names ... OK * checking for sufficient/correct file permissions ... OK * checking DESCRIPTION meta-information ... OK * checking top-level files ... OK * checking index information ... OK * checking package subdirectories ... OK * checking R files for non-ASCII characters ... OK * checking R files for syntax errors ... OK * checking whether the package can be loaded ... OK * checking whether the package can be loaded with stated dependencies ... OK * checking for unstated dependencies in R code ... OK * checking S3 generic/method consistency ... OK * checking replacement functions ... OK * checking foreign function calls ... OK * checking R code for possible problems ... OK * checking Rd files ... OK * checking Rd cross-references ... OK * checking for missing documentation entries ... OK * checking for code/documentation mismatches ... OK * checking Rd \usage sections ... OK * checking data for non-ASCII characters ... OK * creating ssize-Ex.R ... OK * checking examples ... OK * checking package vignettes in 'inst/doc' ... OK * creating ssize-manual.tex ... OK * checking ssize-manual.tex ... OK
ssize.Rcheck/00install.out:
* Installing *source* package 'ssize' ...
** R
** data
** inst
** help
 >>> Building/Updating help pages for package 'ssize'
     Formats: text html latex example 
  exp.sd                            text    html    latex   example
  pow                               text    html    latex   example
** building package indices ...
* DONE (ssize)