Back to the "Multiple platform build/check report"
| IMPORTANT NOTE: R was configured with --enable-strict-barrier on lamb1 |
| Package 227/247 | Hostname | OS | Arch | BUILD | CHECK | BUILD BIN |
spikeLI1.5.0Enrico CarlonLast Changed Date: 2007-04-24 11:31:42 -0700 Last Changed Rev: 24217 | lamb1 | Linux (SUSE 10.1) | x86_64 | OK | OK | |
| wellington | Linux (SUSE 9.2) | i686 | OK | OK | ||
| liverpool | Windows Server 2003 R2 (32-bit) | x64 | OK | OK | OK | |
| pitt | Mac OS X (10.4.10) | i386 | OK | OK | [ OK ] |
| Package: spikeLI |
| Version: 1.5.0 |
| Command: /Users/biocbuild/BBS/utils/build-universal.sh spikeLI_1.5.0.tar.gz /Library/Frameworks/R.framework/Resources/bin/R spikeLI.buildbin-libdir |
| RetCode: 0 |
| Time: 3.9 seconds |
| Status: OK |
| PackageFile: spikeLI_1.5.0.tgz |
INSTALLATION WITH 'R CMD INSTALL spikeLI_1.5.0.tar.gz'
* Installing to library 'spikeLI.buildbin-libdir'
* Installing *source* package 'spikeLI' ...
** R
** data
** demo
** inst
** help
>>> Building/Updating help pages for package 'spikeLI'
Formats: text html latex example
IvsDG text html latex example
Ivsc text html latex example
SPIKE_IN text html latex example
SPIKE_IN95 text html latex example
SPIKE_INA text html latex example
SPIKE_INB text html latex example
SPIKE_INH text html latex example
collapse text html latex example
conc133 text html latex example
conc95 text html latex example
hgu text html latex example
spikeLI.package text html latex
** building package indices ...
* DONE (spikeLI)