Back to the "Multiple platform build/check report"
| IMPORTANT NOTE: R was configured with --enable-strict-barrier on lamb1 |
| Package 217/247 | Hostname | OS | Arch | BUILD | CHECK | BUILD BIN |
seqLogo1.3.1Oliver BembomLast Changed Date: 2007-08-14 20:43:51 -0700 Last Changed Rev: 26413 | lamb1 | Linux (SUSE 10.1) | x86_64 | OK | [ OK ] | |
| wellington | Linux (SUSE 9.2) | i686 | OK | OK | ||
| liverpool | Windows Server 2003 R2 (32-bit) | x64 | OK | OK | OK | |
| pitt | Mac OS X (10.4.10) | i386 | OK | OK | OK |
| Package: seqLogo |
| Version: 1.3.1 |
| Command: /home/biocbuild/bbs-2.1-bioc/R/bin/R CMD check seqLogo_1.3.1.tar.gz |
| RetCode: 0 |
| Time: 19.5 seconds |
| Status: OK |
| CheckDir: seqLogo.Rcheck |
| Warnings: 0 |
* checking for working latex ... OK * using log directory '/home/biocbuild/bbs-2.1-bioc/meat/seqLogo.Rcheck' * using R version 2.6.0 Under development (unstable) (2007-08-06 r42439) * checking for file 'seqLogo/DESCRIPTION' ... OK * this is package 'seqLogo' version '1.3.1' * checking package name space information ... OK * checking package dependencies ... OK * checking if this is a source package ... OK * checking whether package 'seqLogo' can be installed ... OK * checking package directory ... OK * checking for portable file names ... OK * checking for sufficient/correct file permissions ... OK * checking DESCRIPTION meta-information ... OK * checking top-level files ... OK * checking index information ... OK * checking package subdirectories ... OK * checking R files for non-ASCII characters ... OK * checking R files for syntax errors ... OK * checking whether the package can be loaded ... OK * checking whether the package can be loaded with stated dependencies ... OK * checking whether the name space can be loaded with stated dependencies ... OK * checking for unstated dependencies in R code ... OK * checking S3 generic/method consistency ... OK * checking replacement functions ... OK * checking foreign function calls ... OK * checking R code for possible problems ... OK * checking Rd files ... OK * checking Rd cross-references ... OK * checking for missing documentation entries ... OK * checking for code/documentation mismatches ... OK * checking Rd \usage sections ... OK * creating seqLogo-Ex.R ... OK * checking examples ... OK * checking package vignettes in 'inst/doc' ... OK * creating seqLogo-manual.tex ... OK * checking seqLogo-manual.tex ... OK
seqLogo.Rcheck/00install.out:
* Installing *source* package 'seqLogo' ...
** R
** inst
** preparing package for lazy loading
Loading required package: grid
Creating a new generic function for "plot" in "seqLogo"
Creating a new generic function for "summary" in "seqLogo"
Creating a new generic function for "print" in "seqLogo"
** help
>>> Building/Updating help pages for package 'seqLogo'
Formats: text html latex example
makePWM text html latex example
pwm-class text html latex example
seqLogo text html latex example
** building package indices ...
* DONE (seqLogo)