Back to the "Multiple platform build/check report"
| IMPORTANT NOTE: R was configured with --enable-strict-barrier on lamb1 |
| Package 198/247 | Hostname | OS | Arch | BUILD | CHECK | BUILD BIN |
rHVDM1.3.0Martino BarencoLast Changed Date: 2007-07-23 04:30:40 -0700 Last Changed Rev: 25927 | lamb1 | Linux (SUSE 10.1) | x86_64 | OK | OK | |
| wellington | Linux (SUSE 9.2) | i686 | OK | OK | ||
| liverpool | Windows Server 2003 R2 (32-bit) | x64 | OK | OK | OK | |
| pitt | Mac OS X (10.4.10) | i386 | OK | OK | [ OK ] |
| Package: rHVDM |
| Version: 1.3.0 |
| Command: /Users/biocbuild/BBS/utils/build-universal.sh rHVDM_1.3.0.tar.gz /Library/Frameworks/R.framework/Resources/bin/R rHVDM.buildbin-libdir |
| RetCode: 0 |
| Time: 6.3 seconds |
| Status: OK |
| PackageFile: rHVDM_1.3.0.tgz |
INSTALLATION WITH 'R CMD INSTALL rHVDM_1.3.0.tar.gz'
* Installing to library 'rHVDM.buildbin-libdir'
* Installing *source* package 'rHVDM' ...
** R
** data
** inst
** preparing package for lazy loading
Loading required package: R2HTML
Loading required package: affy
Loading required package: Biobase
Loading required package: tools
Welcome to Bioconductor
Vignettes contain introductory material. To view, type
'openVignette()'. To cite Bioconductor, see
'citation("Biobase")' and for packages 'citation(pkgname)'.
Loading required package: affyio
Loading required package: preprocessCore
Loading required package: minpack.lm
** help
>>> Building/Updating help pages for package 'rHVDM'
Formats: text html latex example
HVDMcheck text html latex example
HVDMreport text html latex example
fitgene text html latex example
fiveGyMAS5 text html latex
genestoscreen text html latex
p53traingenes text html latex
screening text html latex example
training text html latex example
** building package indices ...
* DONE (rHVDM)