Back to the "Multiple platform build/check report"
| IMPORTANT NOTE: R was configured with --enable-strict-barrier on lamb1 |
| Package 184/247 | Hostname | OS | Arch | BUILD | CHECK | BUILD BIN |
qvalue1.11.0John D. StoreyLast Changed Date: 2007-04-24 11:31:42 -0700 Last Changed Rev: 24217 | lamb1 | Linux (SUSE 10.1) | x86_64 | OK | WARNINGS | |
| wellington | Linux (SUSE 9.2) | i686 | [ OK ] | WARNINGS | ||
| liverpool | Windows Server 2003 R2 (32-bit) | x64 | OK | WARNINGS | OK | |
| pitt | Mac OS X (10.4.10) | i386 | OK | WARNINGS | OK |
| Package: qvalue |
| Version: 1.11.0 |
| Command: /loc/biocbuild/bbs-2.1-bioc/R/bin/R CMD build qvalue |
| RetCode: 0 |
| Time: 16.4 seconds |
| Status: OK |
| PackageFile: qvalue_1.11.0.tar.gz |
* checking for file 'qvalue/DESCRIPTION' ... OK
* preparing 'qvalue':
* checking DESCRIPTION meta-information ... OK
* checking whether 'INDEX' is up-to-date ... NO
* use '--force' to overwrite the existing 'INDEX'
* installing the package to re-build vignettes
* Installing *source* package 'qvalue' ...
** R
** data
** inst
** preparing package for lazy loading
** help
>>> Building/Updating help pages for package 'qvalue'
Formats: text html latex example
hedenfalk text html latex
qplot text html latex example
qsummary text html latex example
qvalue.gui text html latex example
qvalue text html latex example
qwrite text html latex example
** building package indices ...
* DONE (qvalue)
* creating vignettes ... OK
* removing junk files
* checking for LF line-endings in source files
* checking for empty or unneeded directories
* building 'qvalue_1.11.0.tar.gz'