Back to the "Multiple platform build/check report"
| IMPORTANT NOTE: R was configured with --enable-strict-barrier on lamb1 |
| Package 173/247 | Hostname | OS | Arch | BUILD | CHECK | BUILD BIN |
pickgene1.9.0Brian S. YandellLast Changed Date: 2007-04-24 11:31:42 -0700 Last Changed Rev: 24217 | lamb1 | Linux (SUSE 10.1) | x86_64 | [ OK ] | OK | |
| wellington | Linux (SUSE 9.2) | i686 | OK | OK | ||
| liverpool | Windows Server 2003 R2 (32-bit) | x64 | OK | OK | OK | |
| pitt | Mac OS X (10.4.10) | i386 | OK | OK | OK |
| Package: pickgene |
| Version: 1.9.0 |
| Command: /home/biocbuild/bbs-2.1-bioc/R/bin/R CMD build pickgene |
| RetCode: 0 |
| Time: 3.5 seconds |
| Status: OK |
| PackageFile: pickgene_1.9.0.tar.gz |
* checking for file 'pickgene/DESCRIPTION' ... OK
* preparing 'pickgene':
* checking DESCRIPTION meta-information ... OK
* checking whether 'INDEX' is up-to-date ... NO
* use '--force' to overwrite the existing 'INDEX'
* installing the package to re-build vignettes
* Installing *source* package 'pickgene' ...
** R
** inst
** preparing package for lazy loading
Loading required package: MASS
** help
>>> Building/Updating help pages for package 'pickgene'
Formats: text html latex example
Simulation.pickgene text html latex example
em.ggb text html latex example
model.pickgene text html latex example
oddsplot text html latex example
pickgene-internal text html latex
pickgene text html latex example
robustscale text html latex example
** building package indices ...
* DONE (pickgene)
* creating vignettes ... OK
* removing junk files
* checking for LF line-endings in source files
* checking for empty or unneeded directories
* building 'pickgene_1.9.0.tar.gz'