Back to the "Multiple platform build/check report"
| IMPORTANT NOTE: R was configured with --enable-strict-barrier on lamb1 |
| Package 172/247 | Hostname | OS | Arch | BUILD | CHECK | BUILD BIN |
pgUtils1.9.0Johannes RainerLast Changed Date: 2007-04-25 16:23:45 -0700 Last Changed Rev: 24290 | lamb1 | Linux (SUSE 10.1) | x86_64 | OK | OK | |
| wellington | Linux (SUSE 9.2) | i686 | OK | OK | ||
| liverpool | Windows Server 2003 R2 (32-bit) | x64 | N O T S U P P O R T E D | |||
| pitt | Mac OS X (10.4.10) | i386 | OK | ERROR | [ ERROR ] | |
| Package: pgUtils |
| Version: 1.9.0 |
| Command: /Users/biocbuild/BBS/utils/build-universal.sh pgUtils_1.9.0.tar.gz /Library/Frameworks/R.framework/Resources/bin/R pgUtils.buildbin-libdir |
| RetCode: 1 |
| Time: 1.9 seconds |
| Status: ERROR |
| PackageFile: None |
INSTALLATION WITH 'R CMD INSTALL pgUtils_1.9.0.tar.gz'
* Installing to library 'pgUtils.buildbin-libdir'
* Installing *source* package 'pgUtils' ...
** R
** inst
** preparing package for lazy loading
Loading required package: Rdbi
Error: package 'RdbiPgSQL' required by 'pgUtils' could not be found
Execution halted
ERROR: lazy loading failed for package 'pgUtils'
** Removing '/Users/biocbuild/bbs-2.1-bioc/meat/pgUtils.buildbin-libdir/pgUtils'