Back to the "Multiple platform build/check report"
| IMPORTANT NOTE: R was configured with --enable-strict-barrier on lamb1 | 
| Package 165/247 | Hostname | OS | Arch | BUILD | CHECK | BUILD BIN | 
| panp1.7.1Peter WarrenLast Changed Date: 2007-06-19 20:27:02 -0700 Last Changed Rev: 25486 | lamb1 | Linux (SUSE 10.1) | x86_64 | OK | OK | |
| wellington | Linux (SUSE 9.2) | i686 | OK | OK | ||
| liverpool | Windows Server 2003 R2 (32-bit) | x64 | OK | OK | OK | |
| pitt | Mac OS X (10.4.10) | i386 | [ OK ] | OK | OK | 
| Package: panp | 
| Version: 1.7.1 | 
| Command: /Library/Frameworks/R.framework/Resources/bin/R CMD build panp | 
| RetCode: 0 | 
| Time: 13.2 seconds | 
| Status: OK | 
| PackageFile: panp_1.7.1.tar.gz | 
* checking for file 'panp/DESCRIPTION' ... OK
* preparing 'panp':
* checking DESCRIPTION meta-information ... OK
* installing the package to re-build vignettes
* Installing *source* package 'panp' ...
** R
** data
** inst
** help
 >>> Building/Updating help pages for package 'panp'
     Formats: text html latex example 
  NSMPnames.hgu133a                 text    html    latex
  NSMPnames.hgu133plus2             text    html    latex
  gcrma.ExpressionSet               text    html    latex
  pa.calls                          text    html    latex   example
** building package indices ...
* DONE (panp)
* creating vignettes ... OK
* removing junk files
* checking for LF line-endings in source and make files
* checking for empty or unneeded directories
* building 'panp_1.7.1.tar.gz'