Back to the "Multiple platform build/check report"
| IMPORTANT NOTE: R was configured with --enable-strict-barrier on lamb1 |
| Package 154/247 | Hostname | OS | Arch | BUILD | CHECK | BUILD BIN |
occugene0.1.0Oliver WillLast Changed Date: 2006-11-16 20:17:51 -0800 Last Changed Rev: 21166 | lamb1 | Linux (SUSE 10.1) | x86_64 | OK | WARNINGS | |
| wellington | Linux (SUSE 9.2) | i686 | OK | WARNINGS | ||
| liverpool | Windows Server 2003 R2 (32-bit) | x64 | OK | WARNINGS | OK | |
| pitt | Mac OS X (10.4.10) | i386 | [ OK ] | WARNINGS | OK |
| Package: occugene |
| Version: 0.1.0 |
| Command: /Library/Frameworks/R.framework/Resources/bin/R CMD build occugene |
| RetCode: 0 |
| Time: 10.8 seconds |
| Status: OK |
| PackageFile: occugene_0.1.0.tar.gz |
* checking for file 'occugene/DESCRIPTION' ... OK
* preparing 'occugene':
* checking DESCRIPTION meta-information ... OK
* installing the package to re-build vignettes
* Installing *source* package 'occugene' ...
** R
** data
** inst
** preparing package for lazy loading
** help
Note: unmatched right brace in 'fCumul' on or after line 6
>>> Building/Updating help pages for package 'occugene'
Formats: text html latex example
binHist text html latex example
binInsert text html latex example
binInsertHist text html latex example
checkFormat text html latex example
delta0 text html latex example
eMult text html latex example
etDelta text html latex example
fCumul text html latex example
fFit text html latex example
loadAnnotation text html latex example
loadInsertions text html latex example
occup2Negenes text html latex example
sampleAnnotation text html latex
sampleInsertions text html latex
unbiasB0 text html latex example
unbiasDelta0 text html latex example
varMult text html latex example
** building package indices ...
* DONE (occugene)
* creating vignettes ... OK
* removing junk files
* checking for LF line-endings in source and make files
* checking for empty or unneeded directories
* building 'occugene_0.1.0.tar.gz'