Back to the "Multiple platform build/check report"
| IMPORTANT NOTE: R was configured with --enable-strict-barrier on lamb1 |
| Package 152/247 | Hostname | OS | Arch | BUILD | CHECK | BUILD BIN |
nnNorm2.1.0Adi Laurentiu TarcaLast Changed Date: 2007-04-24 11:31:42 -0700 Last Changed Rev: 24217 | lamb1 | Linux (SUSE 10.1) | x86_64 | OK | OK | |
| wellington | Linux (SUSE 9.2) | i686 | [ OK ] | OK | ||
| liverpool | Windows Server 2003 R2 (32-bit) | x64 | OK | OK | OK | |
| pitt | Mac OS X (10.4.10) | i386 | OK | OK | OK |
| Package: nnNorm |
| Version: 2.1.0 |
| Command: /loc/biocbuild/bbs-2.1-bioc/R/bin/R CMD build nnNorm |
| RetCode: 0 |
| Time: 307.0 seconds |
| Status: OK |
| PackageFile: nnNorm_2.1.0.tar.gz |
* checking for file 'nnNorm/DESCRIPTION' ... OK
* preparing 'nnNorm':
* checking DESCRIPTION meta-information ... OK
* checking whether 'INDEX' is up-to-date ... NO
* use '--force' to overwrite the existing 'INDEX'
* installing the package to re-build vignettes
* Installing *source* package 'nnNorm' ...
** R
** inst
** help
Note: unmatched right brace in 'detectSpatialBias' on or after line 32
Note: unmatched right brace in 'maNormNN' on or after line 52
>>> Building/Updating help pages for package 'nnNorm'
Formats: text html latex example
compNorm text html latex example
detectSpatialBias text html latex example
maNormNN text html latex example
** building package indices ...
* DONE (nnNorm)
* creating vignettes ... OK
* removing junk files
* checking for LF line-endings in source files
* checking for empty or unneeded directories
* building 'nnNorm_2.1.0.tar.gz'