Back to the "Multiple platform build/check report"
| IMPORTANT NOTE: R was configured with --enable-strict-barrier on lamb1 | 
| Package 151/247 | Hostname | OS | Arch | BUILD | CHECK | BUILD BIN | 
| nem1.7.0Florian MarkowetzLast Changed Date: 2007-04-24 11:31:42 -0700 Last Changed Rev: 24217 | lamb1 | Linux (SUSE 10.1) | x86_64 | OK | OK | |
| wellington | Linux (SUSE 9.2) | i686 | OK | OK | ||
| liverpool | Windows Server 2003 R2 (32-bit) | x64 | OK | OK | OK | |
| pitt | Mac OS X (10.4.10) | i386 | [ OK ] | OK | OK | 
| Package: nem | 
| Version: 1.7.0 | 
| Command: /Library/Frameworks/R.framework/Resources/bin/R CMD build nem | 
| RetCode: 0 | 
| Time: 18.4 seconds | 
| Status: OK | 
| PackageFile: nem_1.7.0.tar.gz | 
* checking for file 'nem/DESCRIPTION' ... OK
* preparing 'nem':
* checking DESCRIPTION meta-information ... OK
* installing the package to re-build vignettes
* Installing *source* package 'nem' ...
** R
** data
** inst
** preparing package for lazy loading
Loading required package: e1071
Loading required package: class
Loading required package: graph
Loading required package: Rgraphviz
Loading required package: RBGL
Attaching package: 'RBGL'
	The following object(s) are masked from package:e1071 :
	 extractPath 
Loading required package: time
** help
 >>> Building/Updating help pages for package 'nem'
     Formats: text html latex example 
  BFSlevel                          text    html    latex   example
  BoutrosRNAi2002                   text    html    latex   example
  FULLmLL                           text    html    latex   example
  SCCgraph                          text    html    latex   example
  enumerate.models                  text    html    latex   example
  local.model.prior                 text    html    latex   example
  mLL                               text    html    latex   example
  moduleNetwork                     text    html    latex   example
  nem                               text    html    latex   example
  nem.cont.preprocess               text    html    latex   example
  nem.discretize                    text    html    latex   example
  nemModelSelection                 text    html    latex   example
  network.AIC                       text    html    latex   example
  pairwise.posterior                text    html    latex   example
  plot.effects                      text    html    latex   example
  plot.nem                          text    html    latex
  score                             text    html    latex   example
  subsets                           text    html    latex   example
  transitive.closure                text    html    latex   example
  transitive.reduction              text    html    latex   example
  triples.posterior                 text    html    latex   example
** building package indices ...
* DONE (nem)
* creating vignettes ... OK
* removing junk files
* checking for LF line-endings in source and make files
* checking for empty or unneeded directories
* building 'nem_1.7.0.tar.gz'