Back to the "Multiple platform build/check report"
| IMPORTANT NOTE: R was configured with --enable-strict-barrier on lamb1 |
| Package 133/247 | Hostname | OS | Arch | BUILD | CHECK | BUILD BIN |
makecdfenv1.15.3James W. MacDonaldLast Changed Date: 2007-06-13 07:59:32 -0700 Last Changed Rev: 25344 | lamb1 | Linux (SUSE 10.1) | x86_64 | OK | [ OK ] | |
| wellington | Linux (SUSE 9.2) | i686 | OK | OK | ||
| liverpool | Windows Server 2003 R2 (32-bit) | x64 | OK | OK | OK | |
| pitt | Mac OS X (10.4.10) | i386 | OK | OK | OK |
| Package: makecdfenv |
| Version: 1.15.3 |
| Command: /home/biocbuild/bbs-2.1-bioc/R/bin/R CMD check makecdfenv_1.15.3.tar.gz |
| RetCode: 0 |
| Time: 55.6 seconds |
| Status: OK |
| CheckDir: makecdfenv.Rcheck |
| Warnings: 0 |
* checking for working latex ... OK * using log directory '/home/biocbuild/bbs-2.1-bioc/meat/makecdfenv.Rcheck' * using R version 2.6.0 Under development (unstable) (2007-08-06 r42439) * checking for file 'makecdfenv/DESCRIPTION' ... OK * this is package 'makecdfenv' version '1.15.3' * checking package name space information ... OK * checking package dependencies ... OK * checking if this is a source package ... OK * checking whether package 'makecdfenv' can be installed ... OK * checking package directory ... OK * checking for portable file names ... OK * checking for sufficient/correct file permissions ... OK * checking DESCRIPTION meta-information ... OK * checking top-level files ... OK * checking index information ... OK * checking package subdirectories ... OK * checking R files for non-ASCII characters ... OK * checking R files for syntax errors ... OK * checking whether the package can be loaded ... OK * checking whether the package can be loaded with stated dependencies ... OK * checking whether the name space can be loaded with stated dependencies ... OK * checking for unstated dependencies in R code ... OK * checking S3 generic/method consistency ... OK * checking replacement functions ... OK * checking foreign function calls ... OK * checking R code for possible problems ... OK * checking Rd files ... OK * checking Rd cross-references ... OK * checking for missing documentation entries ... OK * checking for code/documentation mismatches ... OK * checking Rd \usage sections ... OK * checking line endings in C/C++/Fortran sources/headers ... OK * checking line endings in Makefiles ... OK * checking for portable compilation flags in Makevars ... OK * checking for portable use of $BLAS_LIBS ... OK * creating makecdfenv-Ex.R ... OK * checking examples ... OK * checking package vignettes in 'inst/doc' ... OK * creating makecdfenv-manual.tex ... OK * checking makecdfenv-manual.tex ... OK
makecdfenv.Rcheck/00install.out:
* Installing *source* package 'makecdfenv' ...
creating cache ./config.cache
checking how to run the C preprocessor... cc -E
checking for main in -lz... yes
checking for zlib.h... yes
checking if zlib version >= 1.1.3... yes
updating cache ./config.cache
creating ./config.status
creating src/Makevars
** libs
gcc -std=gnu99 -I/home/biocbuild/bbs-2.1-bioc/R/include -I/home/biocbuild/bbs-2.1-bioc/R/include -DHAVE_ZLIB=1 -I/usr/local/include -fpic -g -O2 -Wall -c read_cdffile.c -o read_cdffile.o
gcc -std=gnu99 -shared -L/usr/local/lib64 -o makecdfenv.so read_cdffile.o -lz -L/home/biocbuild/bbs-2.1-bioc/R/lib -lR
** R
** inst
** preparing package for lazy loading
Loading required package: Biobase
Loading required package: tools
Welcome to Bioconductor
Vignettes contain introductory material. To view, type
'openVignette()'. To cite Bioconductor, see
'citation("Biobase")' and for packages 'citation(pkgname)'.
Loading required package: affy
Loading required package: affyio
Loading required package: preprocessCore
** help
>>> Building/Updating help pages for package 'makecdfenv'
Formats: text html latex example
Cdf-class text html latex
getInfoInAffyFile text html latex
make.cdf.env text html latex example
make.cdf.package text html latex example
pmormm text html latex
read.cdffile text html latex example
** building package indices ...
* DONE (makecdfenv)