Back to the "Multiple platform build/check report"
| IMPORTANT NOTE: R was configured with --enable-strict-barrier on lamb1 |
| Package 128/247 | Hostname | OS | Arch | BUILD | CHECK | BUILD BIN |
maanova1.7.0Lei WuLast Changed Date: 2007-06-10 10:22:32 -0700 Last Changed Rev: 25301 | lamb1 | Linux (SUSE 10.1) | x86_64 | OK | WARNINGS | |
| wellington | Linux (SUSE 9.2) | i686 | OK | WARNINGS | ||
| liverpool | Windows Server 2003 R2 (32-bit) | x64 | OK | WARNINGS | OK | |
| pitt | Mac OS X (10.4.10) | i386 | OK | WARNINGS | [ OK ] |
| Package: maanova |
| Version: 1.7.0 |
| Command: /Users/biocbuild/BBS/utils/build-universal.sh maanova_1.7.0.tar.gz /Library/Frameworks/R.framework/Resources/bin/R maanova.buildbin-libdir |
| RetCode: 0 |
| Time: 15.2 seconds |
| Status: OK |
| PackageFile: maanova_1.7.0.tgz |
INSTALLATION WITH 'R CMD INSTALL maanova_1.7.0.tar.gz'
* Installing to library 'maanova.buildbin-libdir'
* Installing *source* package 'maanova' ...
** libs
** arch - i386
make: `maanova.so' is up to date.
** R
** data
** demo
** inst
** preparing package for lazy loading
** help
>>> Building/Updating help pages for package 'maanova'
Formats: text html latex example
Rmaanova.version text html latex example
abf1 text html latex example
adjPval text html latex example
arrayview text html latex example
consensus text html latex example
createData text html latex example
dyeswapfilter text html latex example
exprSet2Rawdata text html latex
fill.missing text html latex example
fitmaanova text html latex example
fom text html latex example
geneprofile text html latex example
gridcheck text html latex example
kidney text html latex example
maanova-internal text html latex example
macluster text html latex example
makeModel text html latex example
matest text html latex example
paigen text html latex example
read.madata text html latex example
resiplot text html latex example
riplot text html latex example
subset.madata text html latex example
transform.madata text html latex example
varplot text html latex example
volcano text html latex example
write.madata text html latex example
** building package indices ...
* DONE (maanova)
INSTALLATION OF ppc LIBS WITH 'R_ARCH=/ppc R CMD INSTALL --libs-only maanova_1.7.0.tar.gz'
* Installing to library 'maanova.buildbin-libdir'
* Installing *source* package 'maanova' ...
** libs
** arch - ppc
make: `maanova.so' is up to date.
* DONE (maanova)