Back to the "Multiple platform build/check report"
| IMPORTANT NOTE: R was configured with --enable-strict-barrier on lamb1 | 
| Package 118/247 | Hostname | OS | Arch | BUILD | CHECK | BUILD BIN | 
keggorth0.0-4VJ CareyLast Changed Date: 2007-07-11 11:33:52 -0700 Last Changed Rev: 25745  | lamb1 | Linux (SUSE 10.1) | x86_64 | [ OK ] | OK | |
| wellington | Linux (SUSE 9.2) | i686 | OK | OK | ||
| liverpool | Windows Server 2003 R2 (32-bit) | x64 | OK | WARNINGS | OK | |
| pitt | Mac OS X (10.4.10) | i386 | OK | OK | OK | 
| Package: keggorth | 
| Version: 0.0-4 | 
| Command: /home/biocbuild/bbs-2.1-bioc/R/bin/R CMD build keggorth | 
| RetCode: 0 | 
| Time: 4.5 seconds | 
| Status: OK | 
| PackageFile: keggorth_0.0-4.tar.gz | 
* checking for file 'keggorth/DESCRIPTION' ... OK
* preparing 'keggorth':
* checking DESCRIPTION meta-information ... OK
* installing the package to re-build vignettes
* Installing *source* package 'keggorth' ...
** R
** data
** inst
** help
 >>> Building/Updating help pages for package 'keggorth'
     Formats: text html latex example 
  getKOprobes                       text    html    latex   example
  keggDF2graph                      text    html    latex   example
** building package indices ...
* DONE (keggorth)
* creating vignettes ... OK
* removing junk files
* checking for LF line-endings in source files
* checking for empty or unneeded directories
* building 'keggorth_0.0-4.tar.gz'