Back to the "Multiple platform build/check report"
| IMPORTANT NOTE: R was configured with --enable-strict-barrier on lamb1 |
| Package 112/247 | Hostname | OS | Arch | BUILD | CHECK | BUILD BIN |
hypergraph1.9.1Seth FalconLast Changed Date: 2007-07-12 07:40:26 -0700 Last Changed Rev: 25769 | lamb1 | Linux (SUSE 10.1) | x86_64 | OK | OK | |
| wellington | Linux (SUSE 9.2) | i686 | OK | OK | ||
| liverpool | Windows Server 2003 R2 (32-bit) | x64 | OK | OK | OK | |
| pitt | Mac OS X (10.4.10) | i386 | OK | OK | [ OK ] |
| Package: hypergraph |
| Version: 1.9.1 |
| Command: /Users/biocbuild/BBS/utils/build-universal.sh hypergraph_1.9.1.tar.gz /Library/Frameworks/R.framework/Resources/bin/R hypergraph.buildbin-libdir |
| RetCode: 0 |
| Time: 6.0 seconds |
| Status: OK |
| PackageFile: hypergraph_1.9.1.tgz |
INSTALLATION WITH 'R CMD INSTALL hypergraph_1.9.1.tar.gz'
* Installing to library 'hypergraph.buildbin-libdir'
* Installing *source* package 'hypergraph' ...
** R
** inst
** preparing package for lazy loading
Loading required package: graph
** help
>>> Building/Updating help pages for package 'hypergraph'
Formats: text html latex example
DirectedHyperedge-class text html latex example
DirectedHyperedge text html latex
Hyperedge-class text html latex example
Hyperedge text html latex
Hypergraph-class text html latex example
Hypergraph text html latex
kCores text html latex example
l2hel text html latex example
vCover text html latex example
** building package indices ...
* DONE (hypergraph)