Back to the "Multiple platform build/check report"
| IMPORTANT NOTE: R was configured with --enable-strict-barrier on lamb1 |
| Package 84/247 | Hostname | OS | Arch | BUILD | CHECK | BUILD BIN |
geneplotter1.15.6Biocore Team c/o BioC user listLast Changed Date: 2007-08-20 09:33:20 -0700 Last Changed Rev: 26527 | lamb1 | Linux (SUSE 10.1) | x86_64 | OK | OK | |
| wellington | Linux (SUSE 9.2) | i686 | [ OK ] | OK | ||
| liverpool | Windows Server 2003 R2 (32-bit) | x64 | OK | OK | OK | |
| pitt | Mac OS X (10.4.10) | i386 | OK | OK | OK |
| Package: geneplotter |
| Version: 1.15.6 |
| Command: /loc/biocbuild/bbs-2.1-bioc/R/bin/R CMD build geneplotter |
| RetCode: 0 |
| Time: 47.1 seconds |
| Status: OK |
| PackageFile: geneplotter_1.15.6.tar.gz |
* checking for file 'geneplotter/DESCRIPTION' ... OK
* preparing 'geneplotter':
* checking DESCRIPTION meta-information ... OK
* installing the package to re-build vignettes
* Installing *source* package 'geneplotter' ...
** R
** data
** inst
** preparing package for lazy loading
Loading required package: annotate
Loading required package: Biobase
Loading required package: tools
Welcome to Bioconductor
Vignettes contain introductory material. To view, type
'openVignette()'. To cite Bioconductor, see
'citation("Biobase")' and for packages 'citation(pkgname)'.
Loading required package: AnnotationDbi
Loading required package: DBI
Loading required package: RSQLite
Loading required package: lattice
KernSmooth 2.22 installed
Copyright M. P. Wand 1997
** help
>>> Building/Updating help pages for package 'geneplotter'
Formats: text html latex example
GetColor text html latex example
Makesense text html latex example
alongChrom text html latex example
amplicon.plot text html latex example
cColor text html latex example
cPlot text html latex example
cScale text html latex example
classes text html latex
eset133a text html latex example
histStack text html latex example
identifyLines text html latex example
imageMap text html latex example
make.chromOrd text html latex example
multiecdf text html latex example
openHtmlPage text html latex example
panel.smoothScatter text html latex example
plotChr text html latex example
plotExpressionGraph text html latex example
savepng text html latex example
smoothscatter text html latex example
** building package indices ...
* DONE (geneplotter)
* creating vignettes ... OK
* removing junk files
* checking for LF line-endings in source files
* checking for empty or unneeded directories
* building 'geneplotter_1.15.6.tar.gz'