Back to the "Multiple platform build/check report"
| IMPORTANT NOTE: R was configured with --enable-strict-barrier on lamb1 |
| Package 76/247 | Hostname | OS | Arch | BUILD | CHECK | BUILD BIN |
flowQ0.2.3N. Le MeurLast Changed Date: 2007-04-04 17:34:24 -0700 Last Changed Rev: 23625 | lamb1 | Linux (SUSE 10.1) | x86_64 | OK | WARNINGS | |
| wellington | Linux (SUSE 9.2) | i686 | OK | WARNINGS | ||
| liverpool | Windows Server 2003 R2 (32-bit) | x64 | OK | WARNINGS | OK | |
| pitt | Mac OS X (10.4.10) | i386 | OK | WARNINGS | [ OK ] |
| Package: flowQ |
| Version: 0.2.3 |
| Command: /Users/biocbuild/BBS/utils/build-universal.sh flowQ_0.2.3.tar.gz /Library/Frameworks/R.framework/Resources/bin/R flowQ.buildbin-libdir |
| RetCode: 0 |
| Time: 3.9 seconds |
| Status: OK |
| PackageFile: flowQ_0.2.3.tgz |
INSTALLATION WITH 'R CMD INSTALL flowQ_0.2.3.tar.gz'
* Installing to library 'flowQ.buildbin-libdir'
* Installing *source* package 'flowQ' ...
** R
** help
>>> Building/Updating help pages for package 'flowQ'
Formats: text html latex example
flowQ-package text html latex example
outlier-class text html latex example
missing link(s): ~~fun~~ CLASSNAME-class
outlierResult-class text html latex example
missing link(s): ~~fun~~ CLASSNAME-class
outliers-methods text html latex
** building package indices ...
* DONE (flowQ)