Back to the "Multiple platform build/check report"
| IMPORTANT NOTE: R was configured with --enable-strict-barrier on lamb1 |
| Package 46/247 | Hostname | OS | Arch | BUILD | CHECK | BUILD BIN |
cellHTS1.7.13Ligia BrasLast Changed Date: 2007-08-23 04:38:33 -0700 Last Changed Rev: 26606 | lamb1 | Linux (SUSE 10.1) | x86_64 | OK | OK | |
| wellington | Linux (SUSE 9.2) | i686 | OK | OK | ||
| liverpool | Windows Server 2003 R2 (32-bit) | x64 | OK | OK | OK | |
| pitt | Mac OS X (10.4.10) | i386 | OK | OK | [ OK ] |
| Package: cellHTS |
| Version: 1.7.13 |
| Command: /Users/biocbuild/BBS/utils/build-universal.sh cellHTS_1.7.13.tar.gz /Library/Frameworks/R.framework/Resources/bin/R cellHTS.buildbin-libdir |
| RetCode: 0 |
| Time: 11.8 seconds |
| Status: OK |
| PackageFile: cellHTS_1.7.13.tgz |
INSTALLATION WITH 'R CMD INSTALL cellHTS_1.7.13.tar.gz'
* Installing to library 'cellHTS.buildbin-libdir'
* Installing *source* package 'cellHTS' ...
** R
** data
** inst
** preparing package for lazy loading
Loading required package: prada
Loading required package: Biobase
Loading required package: tools
Welcome to Bioconductor
Vignettes contain introductory material. To view, type
'openVignette()'. To cite Bioconductor, see
'citation("Biobase")' and for packages 'citation(pkgname)'.
Loading required package: RColorBrewer
Loading required package: grid
Scalable Robust Estimators with High Breakdown Point (version 0.3-06)
KernSmooth 2.22 installed
Copyright M. P. Wand 1997
Loading required package: genefilter
Loading required package: survival
Loading required package: splines
** help
>>> Building/Updating help pages for package 'cellHTS'
Formats: text html latex example
Bscore text html latex example
ROC text html latex example
annotate text html latex example
bdgpbiomart text html latex example
configure text html latex example
data-KcViab text html latex example
data-KcViabSmall text html latex example
getLibraryPlate text html latex example
getMatrix text html latex example
imageScreen text html latex example
normalizeChannels text html latex example
normalizePlates text html latex example
oneRowPerId text html latex example
plotPlateLibrary text html latex example
plotSpatialEffects text html latex example
print.cellHTS text html latex example
readPlateData text html latex example
screenMatch text html latex example
summarizeChannels text html latex example
summarizeReplicates text html latex example
write.tabdel text html latex example
writeReport text html latex example
writeTab text html latex example
** building package indices ...
* DONE (cellHTS)