Back to the "Multiple platform build/check report"
| IMPORTANT NOTE: R was configured with --enable-strict-barrier on lamb1 |
| Package 35/247 | Hostname | OS | Arch | BUILD | CHECK | BUILD BIN |
biocViews1.5.3Seth FalconLast Changed Date: 2007-08-24 12:10:31 -0700 Last Changed Rev: 26633 | lamb1 | Linux (SUSE 10.1) | x86_64 | OK | OK | |
| wellington | Linux (SUSE 9.2) | i686 | OK | OK | ||
| liverpool | Windows Server 2003 R2 (32-bit) | x64 | OK | OK | OK | |
| pitt | Mac OS X (10.4.10) | i386 | OK | OK | [ OK ] |
| Package: biocViews |
| Version: 1.5.3 |
| Command: /Users/biocbuild/BBS/utils/build-universal.sh biocViews_1.5.3.tar.gz /Library/Frameworks/R.framework/Resources/bin/R biocViews.buildbin-libdir |
| RetCode: 0 |
| Time: 6.8 seconds |
| Status: OK |
| PackageFile: biocViews_1.5.3.tgz |
INSTALLATION WITH 'R CMD INSTALL biocViews_1.5.3.tar.gz'
* Installing to library 'biocViews.buildbin-libdir'
* Installing *source* package 'biocViews' ...
** R
** data
** inst
** preparing package for lazy loading
Loading required package: tools
Loading required package: graph
Loading required package: RBGL
Loading required package: XML
Attaching package: 'XML'
The following object(s) are masked from package:graph :
addNode
** help
>>> Building/Updating help pages for package 'biocViews'
Formats: text html latex example
BiocView-class text html latex
Htmlized-class text html latex
PackageDetail-class text html latex example
RepositoryDetail-class text html latex
biocViewsVocab text html latex example
extractVignettes text html latex
genReposControlFiles text html latex
getBiocSubViews text html latex example
getBiocViews text html latex example
getPacksAndViews text html latex
getSubTerms text html latex example
htmlDoc text html latex
htmlFilename text html latex
htmlValue text html latex
writeBiocViews text html latex
writeHtmlDoc text html latex
writePackageDetailHtml text html latex
writeRepositoryHtml text html latex
writeTopLevelView text html latex
write_REPOSITORY text html latex
write_SYMBOLS text html latex
write_VIEWS text html latex
** building package indices ...
* DONE (biocViews)