Back to the "Multiple platform build/check report"
| IMPORTANT NOTE: R was configured with --enable-strict-barrier on lamb1 |
| Package 31/247 | Hostname | OS | Arch | BUILD | CHECK | BUILD BIN |
bgx1.1.4Ernest TurroLast Changed Date: 2007-07-23 12:20:22 -0700 Last Changed Rev: 25937 | lamb1 | Linux (SUSE 10.1) | x86_64 | OK | WARNINGS | |
| wellington | Linux (SUSE 9.2) | i686 | OK | WARNINGS | ||
| liverpool | Windows Server 2003 R2 (32-bit) | x64 | OK | ERROR | OK | |
| pitt | Mac OS X (10.4.10) | i386 | [ ERROR ] | skipped | skipped |
| Package: bgx |
| Version: 1.1.4 |
| Command: /Library/Frameworks/R.framework/Resources/bin/R CMD build bgx |
| RetCode: 1 |
| Time: 4.8 seconds |
| Status: ERROR |
| PackageFile: None |
* checking for file 'bgx/DESCRIPTION' ... OK
* preparing 'bgx':
* checking DESCRIPTION meta-information ... OK
* cleaning src
* checking whether 'INDEX' is up-to-date ... OK
* installing the package to re-build vignettes
* Installing *source* package 'bgx' ...
checking for gcc... gcc-4.0 -arch i386 -isysroot /Developer/SDKs/MacOSX10.4u.sdk
checking for C compiler default output file name... a.out
checking whether the C compiler works... yes
checking whether we are cross compiling... no
checking for suffix of executables...
checking for suffix of object files... o
checking whether we are using the GNU C compiler... yes
checking whether gcc-4.0 -arch i386 -isysroot /Developer/SDKs/MacOSX10.4u.sdk accepts -g... yes
checking for gcc-4.0 -arch i386 -isysroot /Developer/SDKs/MacOSX10.4u.sdk option to accept ISO C89... none needed
checking for C compiler vendor... gnu
checking whether C compiler accepts -ffast-math... yes
checking whether C compiler accepts -O3... yes
checking build system type... i386-apple-darwin8.10.2
checking host system type... i386-apple-darwin8.10.2
checking for gcc architecture flag...
checking for x86 cpuid 0 output... unknown
checking for x86 cpuid 1 output... unknown
checking for gcc architecture flag... unknown
checking for gcc-4.0 -arch i386 -isysroot /Developer/SDKs/MacOSX10.4u.sdk option to accept ISO C99... -std=gnu99
checking for main in -lm... yes
checking whether we are using the GNU C++ compiler... yes
checking whether g++-4.0 -arch i386 -isysroot /Developer/SDKs/MacOSX10.4u.sdk accepts -g... yes
checking build system type... (cached) i386-apple-darwin8.10.2
checking for boostlib >= 1.31.0... no (0)
configure: error: We could not detect the boost libraries (version 1.31 or higher). If you have a staged boost library (still not installed) please specify $BOOST_ROOT in your environment and do not give a PATH to --with-boost option. If you are sure you have boost installed, then check your version number looking in <boost/version.hpp>. See http://randspringer.de/boost for more documentation. To install the boost libraries, visit http://boost.org or:
- Debian/Ubuntu users: `sudo apt-get install libboost-dev`.
- Fedora users: `sudo yum install boost-devel`.
- Mac OS X users: install Macports from macports.org and `sudo port install boost`.
ERROR: configuration failed for package 'bgx'
** Removing '/private/tmp/Rinst1993851330/bgx'
ERROR
Installation failed.
Removing '/tmp/Rinst1993851330'