Back to the "Multiple platform build/check report"
| IMPORTANT NOTE: R was configured with --enable-strict-barrier on lamb1 |
| Package 23/247 | Hostname | OS | Arch | BUILD | CHECK | BUILD BIN |
aroma.light1.5.2Henrik BengtssonLast Changed Date: 2007-08-10 20:16:51 -0700 Last Changed Rev: 26322 | lamb1 | Linux (SUSE 10.1) | x86_64 | [ OK ] | OK | |
| wellington | Linux (SUSE 9.2) | i686 | OK | OK | ||
| liverpool | Windows Server 2003 R2 (32-bit) | x64 | OK | OK | OK | |
| pitt | Mac OS X (10.4.10) | i386 | OK | OK | OK |
| Package: aroma.light |
| Version: 1.5.2 |
| Command: /home/biocbuild/bbs-2.1-bioc/R/bin/R CMD build aroma.light |
| RetCode: 0 |
| Time: 1.5 seconds |
| Status: OK |
| PackageFile: aroma.light_1.5.2.tar.gz |
* checking for file 'aroma.light/DESCRIPTION' ... OK * preparing 'aroma.light': * checking DESCRIPTION meta-information ... OK * removing junk files * checking for LF line-endings in source files * checking for empty or unneeded directories * building 'aroma.light_1.5.2.tar.gz'