Back to the "Multiple platform build/check report"
| IMPORTANT NOTE: R was configured with --enable-strict-barrier on lamb1 |
| Package 5/247 | Hostname | OS | Arch | BUILD | CHECK | BUILD BIN |
affxparser1.9.4Kasper Daniel HansenLast Changed Date: 2007-08-25 23:19:09 -0700 Last Changed Rev: 26652 | lamb1 | Linux (SUSE 10.1) | x86_64 | OK | OK | |
| wellington | Linux (SUSE 9.2) | i686 | OK | OK | ||
| liverpool | Windows Server 2003 R2 (32-bit) | x64 | OK | ERROR | ERROR | |
| pitt | Mac OS X (10.4.10) | i386 | [ OK ] | OK | OK |
| Package: affxparser |
| Version: 1.9.4 |
| Command: /Library/Frameworks/R.framework/Resources/bin/R CMD build affxparser |
| RetCode: 0 |
| Time: 2.8 seconds |
| Status: OK |
| PackageFile: affxparser_1.9.4.tar.gz |
* checking for file 'affxparser/DESCRIPTION' ... OK * preparing 'affxparser': * checking DESCRIPTION meta-information ... OK * cleaning src * removing junk files * checking for LF line-endings in source and make files * checking for empty or unneeded directories * building 'affxparser_1.9.4.tar.gz'