Back to the "Multiple platform build/check report"
| IMPORTANT NOTE: R was configured with --enable-strict-barrier on lamb1 |
| Package 216/247 | Hostname | OS | Arch | BUILD | CHECK | BUILD BIN |
SemSim1.3.0Xiang GuoLast Changed Date: 2007-04-24 11:31:42 -0700 Last Changed Rev: 24217 | lamb1 | Linux (SUSE 10.1) | x86_64 | OK | OK | |
| wellington | Linux (SUSE 9.2) | i686 | OK | OK | ||
| liverpool | Windows Server 2003 R2 (32-bit) | x64 | OK | OK | OK | |
| pitt | Mac OS X (10.4.10) | i386 | OK | [ OK ] | OK |
| Package: SemSim |
| Version: 1.3.0 |
| Command: /Library/Frameworks/R.framework/Resources/bin/R CMD check SemSim_1.3.0.tar.gz |
| RetCode: 0 |
| Time: 531.3 seconds |
| Status: OK |
| CheckDir: SemSim.Rcheck |
| Warnings: 0 |
* checking for working latex ... OK * using log directory '/Users/biocbuild/bbs-2.1-bioc/meat/SemSim.Rcheck' * using R version 2.6.0 Under development (unstable) (2007-08-10 r42465) * checking for file 'SemSim/DESCRIPTION' ... OK * checking extension type ... Package * this is package 'SemSim' version '1.3.0' * checking package dependencies ... OK * checking if this is a source package ... OK * checking whether package 'SemSim' can be installed ... OK * checking package directory ... OK * checking for portable file names ... OK * checking for sufficient/correct file permissions ... OK * checking DESCRIPTION meta-information ... OK * checking top-level files ... OK * checking index information ... OK * checking package subdirectories ... OK * checking R files for non-ASCII characters ... OK * checking R files for syntax errors ... OK * checking whether the package can be loaded ... OK * checking whether the package can be loaded with stated dependencies ... OK * checking for unstated dependencies in R code ... OK * checking S3 generic/method consistency ... OK * checking replacement functions ... OK * checking foreign function calls ... OK * checking R code for possible problems ... NOTE Found possibly global 'T' or 'F' in the following function: mtermSim * checking Rd files ... OK * checking Rd cross-references ... OK * checking for missing documentation entries ... OK * checking for code/documentation mismatches ... OK * checking Rd \usage sections ... OK * checking data for non-ASCII characters ... OK * creating SemSim-Ex.R ... OK * checking examples ... OK * checking package vignettes in 'inst/doc' ... OK * creating SemSim-manual.tex ... OK * checking SemSim-manual.tex ... OK
SemSim.Rcheck/00install.out:
* Installing *source* package 'SemSim' ...
** R
** data
** inst
** help
>>> Building/Updating help pages for package 'SemSim'
Formats: text html latex example
GOCount text html latex
Schreiber text html latex example
SemSim-internal text html latex
SemSim-package text html latex
geneSim text html latex example
mgeneSim text html latex example
mtermSim text html latex example
termSim text html latex example
** building package indices ...
* DONE (SemSim)