Back to the "Multiple platform build/check report"
| IMPORTANT NOTE: R was configured with --enable-strict-barrier on lamb1 |
| Package 224/247 | Hostname | OS | Arch | BUILD | CHECK | BUILD BIN |
SMAP1.1.7Robin AnderssonLast Changed Date: 2007-08-20 08:21:46 -0700 Last Changed Rev: 26522 | lamb1 | Linux (SUSE 10.1) | x86_64 | OK | OK | |
| wellington | Linux (SUSE 9.2) | i686 | OK | OK | ||
| liverpool | Windows Server 2003 R2 (32-bit) | x64 | OK | OK | OK | |
| pitt | Mac OS X (10.4.10) | i386 | OK | OK | [ OK ] |
| Package: SMAP |
| Version: 1.1.7 |
| Command: /Users/biocbuild/BBS/utils/build-universal.sh SMAP_1.1.7.tar.gz /Library/Frameworks/R.framework/Resources/bin/R SMAP.buildbin-libdir |
| RetCode: 0 |
| Time: 10.9 seconds |
| Status: OK |
| PackageFile: SMAP_1.1.7.tgz |
INSTALLATION WITH 'R CMD INSTALL SMAP_1.1.7.tar.gz'
* Installing to library 'SMAP.buildbin-libdir'
* Installing *source* package 'SMAP' ...
** libs
** arch - i386
gcc-4.0 -arch i386 -isysroot /Developer/SDKs/MacOSX10.4u.sdk -no-cpp-precomp -I/Library/Frameworks/R.framework/Resources/include -I/Library/Frameworks/R.framework/Resources/include/i386 -msse3 -D__NO_MATH_INLINES -fPIC -g -O2 -Wall -std=gnu99 -march=nocona -c gradient.c -o gradient.o
gradient.c: In function 'hmm_update':
gradient.c:247: warning: unused variable 'tmp'
gcc-4.0 -arch i386 -isysroot /Developer/SDKs/MacOSX10.4u.sdk -no-cpp-precomp -I/Library/Frameworks/R.framework/Resources/include -I/Library/Frameworks/R.framework/Resources/include/i386 -msse3 -D__NO_MATH_INLINES -fPIC -g -O2 -Wall -std=gnu99 -march=nocona -c init.c -o init.o
gcc-4.0 -arch i386 -isysroot /Developer/SDKs/MacOSX10.4u.sdk -no-cpp-precomp -I/Library/Frameworks/R.framework/Resources/include -I/Library/Frameworks/R.framework/Resources/include/i386 -msse3 -D__NO_MATH_INLINES -fPIC -g -O2 -Wall -std=gnu99 -march=nocona -c overlap.c -o overlap.o
gcc-4.0 -arch i386 -isysroot /Developer/SDKs/MacOSX10.4u.sdk -no-cpp-precomp -I/Library/Frameworks/R.framework/Resources/include -I/Library/Frameworks/R.framework/Resources/include/i386 -msse3 -D__NO_MATH_INLINES -fPIC -g -O2 -Wall -std=gnu99 -march=nocona -c prob.c -o prob.o
gcc-4.0 -arch i386 -isysroot /Developer/SDKs/MacOSX10.4u.sdk -no-cpp-precomp -I/Library/Frameworks/R.framework/Resources/include -I/Library/Frameworks/R.framework/Resources/include/i386 -msse3 -D__NO_MATH_INLINES -fPIC -g -O2 -Wall -std=gnu99 -march=nocona -c viterbi.c -o viterbi.o
gcc-4.0 -arch i386 -isysroot /Developer/SDKs/MacOSX10.4u.sdk -dynamiclib -Wl,-macosx_version_min -Wl,10.3 -undefined dynamic_lookup -single_module -multiply_defined suppress -L/usr/local/lib -o SMAP.so gradient.o init.o overlap.o prob.o viterbi.o -F/Library/Frameworks/R.framework/.. -framework R
** arch - ppc
gcc-4.0 -arch ppc -isysroot /Developer/SDKs/MacOSX10.4u.sdk -std=gnu99 -no-cpp-precomp -I/Library/Frameworks/R.framework/Resources/include -I/Library/Frameworks/R.framework/Resources/include/ppc -I/usr/local/include -fPIC -g -O2 -Wall -c gradient.c -o gradient.o
gradient.c: In function 'hmm_update':
gradient.c:247: warning: unused variable 'tmp'
gcc-4.0 -arch ppc -isysroot /Developer/SDKs/MacOSX10.4u.sdk -std=gnu99 -no-cpp-precomp -I/Library/Frameworks/R.framework/Resources/include -I/Library/Frameworks/R.framework/Resources/include/ppc -I/usr/local/include -fPIC -g -O2 -Wall -c init.c -o init.o
gcc-4.0 -arch ppc -isysroot /Developer/SDKs/MacOSX10.4u.sdk -std=gnu99 -no-cpp-precomp -I/Library/Frameworks/R.framework/Resources/include -I/Library/Frameworks/R.framework/Resources/include/ppc -I/usr/local/include -fPIC -g -O2 -Wall -c overlap.c -o overlap.o
gcc-4.0 -arch ppc -isysroot /Developer/SDKs/MacOSX10.4u.sdk -std=gnu99 -no-cpp-precomp -I/Library/Frameworks/R.framework/Resources/include -I/Library/Frameworks/R.framework/Resources/include/ppc -I/usr/local/include -fPIC -g -O2 -Wall -c prob.c -o prob.o
gcc-4.0 -arch ppc -isysroot /Developer/SDKs/MacOSX10.4u.sdk -std=gnu99 -no-cpp-precomp -I/Library/Frameworks/R.framework/Resources/include -I/Library/Frameworks/R.framework/Resources/include/ppc -I/usr/local/include -fPIC -g -O2 -Wall -c viterbi.c -o viterbi.o
gcc-4.0 -arch ppc -isysroot /Developer/SDKs/MacOSX10.4u.sdk -std=gnu99 -dynamiclib -Wl,-macosx_version_min -Wl,10.3 -undefined dynamic_lookup -single_module -multiply_defined suppress -L/usr/local/lib -o SMAP.so gradient.o init.o overlap.o prob.o viterbi.o -F/Library/Frameworks/R.framework/.. -framework R
** R
** data
** inst
** preparing package for lazy loading
Creating a new generic function for "plot" in "SMAP"
** help
>>> Building/Updating help pages for package 'SMAP'
Formats: text html latex example
GBM text html latex example
SMAP-internal text html latex
SMAPHMM-class text html latex
SMAPHMM text html latex
SMAPObservations-class text html latex
SMAPObservations text html latex example
SMAPProfile-class text html latex
SMAPProfiles-class text html latex
smap text html latex example
** building package indices ...
* DONE (SMAP)