Back to the "Multiple platform build/check report"
| IMPORTANT NOTE: R was configured with --enable-strict-barrier on lamb1 |
| Package 223/247 | Hostname | OS | Arch | BUILD | CHECK | BUILD BIN |
SLqPCR1.3.0Matthias KohlLast Changed Date: 2007-04-24 11:31:42 -0700 Last Changed Rev: 24217 | lamb1 | Linux (SUSE 10.1) | x86_64 | OK | OK | |
| wellington | Linux (SUSE 9.2) | i686 | OK | OK | ||
| liverpool | Windows Server 2003 R2 (32-bit) | x64 | OK | OK | OK | |
| pitt | Mac OS X (10.4.10) | i386 | OK | OK | [ OK ] |
| Package: SLqPCR |
| Version: 1.3.0 |
| Command: /Users/biocbuild/BBS/utils/build-universal.sh SLqPCR_1.3.0.tar.gz /Library/Frameworks/R.framework/Resources/bin/R SLqPCR.buildbin-libdir |
| RetCode: 0 |
| Time: 3.1 seconds |
| Status: OK |
| PackageFile: SLqPCR_1.3.0.tgz |
INSTALLATION WITH 'R CMD INSTALL SLqPCR_1.3.0.tar.gz'
* Installing to library 'SLqPCR.buildbin-libdir'
* Installing *source* package 'SLqPCR' ...
** R
** data
** inst
** help
>>> Building/Updating help pages for package 'SLqPCR'
Formats: text html latex example
SLqPCR-package text html latex
SLqPCRdata text html latex example
geneStabM text html latex
geomMean text html latex
normPCR text html latex example
relQuantPCR text html latex
selectHKgenes text html latex example
vandesompele text html latex example
** building package indices ...
* DONE (SLqPCR)