Back to the "Multiple platform build/check report"
| IMPORTANT NOTE: R was configured with --enable-strict-barrier on lamb1 |
| Package 191/247 | Hostname | OS | Arch | BUILD | CHECK | BUILD BIN |
RdbiPgSQL1.11.0Jianhua ZhangLast Changed Date: 2007-06-10 10:22:32 -0700 Last Changed Rev: 25301 | lamb1 | Linux (SUSE 10.1) | x86_64 | OK | OK | |
| wellington | Linux (SUSE 9.2) | i686 | OK | OK | ||
| liverpool | Windows Server 2003 R2 (32-bit) | x64 | N O T S U P P O R T E D | |||
| pitt | Mac OS X (10.4.10) | i386 | OK | ERROR | [ ERROR ] | |
| Package: RdbiPgSQL |
| Version: 1.11.0 |
| Command: /Users/biocbuild/BBS/utils/build-universal.sh RdbiPgSQL_1.11.0.tar.gz /Library/Frameworks/R.framework/Resources/bin/R RdbiPgSQL.buildbin-libdir |
| RetCode: 1 |
| Time: 2.0 seconds |
| Status: ERROR |
| PackageFile: None |
INSTALLATION WITH 'R CMD INSTALL RdbiPgSQL_1.11.0.tar.gz'
* Installing to library 'RdbiPgSQL.buildbin-libdir'
* Installing *source* package 'RdbiPgSQL' ...
creating cache ./config.cache
checking for PQconnectdb in -lpq... no
I could not find your PostgreSQL client libraries!
Use --with-pgsql-libraries=PATH; if running R's INSTALL,
use --configure-args='--with-pgsql-libraries=PATH'; or
set PG_LIB_DIR in your environment to the library path,
and rerun the configure/install.
ERROR: configuration failed for package 'RdbiPgSQL'
** Removing '/Users/biocbuild/bbs-2.1-bioc/meat/RdbiPgSQL.buildbin-libdir/RdbiPgSQL'