Back to the "Multiple platform build/check report"
| IMPORTANT NOTE: R was configured with --enable-strict-barrier on lamb1 |
| Package 187/247 | Hostname | OS | Arch | BUILD | CHECK | BUILD BIN |
RbcBook11.5.1Vince CareyLast Changed Date: 2007-08-12 17:30:42 -0700 Last Changed Rev: 26356 | lamb1 | Linux (SUSE 10.1) | x86_64 | OK | OK | |
| wellington | Linux (SUSE 9.2) | i686 | OK | OK | ||
| liverpool | Windows Server 2003 R2 (32-bit) | x64 | OK | OK | OK | |
| pitt | Mac OS X (10.4.10) | i386 | OK | OK | [ OK ] |
| Package: RbcBook1 |
| Version: 1.5.1 |
| Command: /Users/biocbuild/BBS/utils/build-universal.sh RbcBook1_1.5.1.tar.gz /Library/Frameworks/R.framework/Resources/bin/R RbcBook1.buildbin-libdir |
| RetCode: 0 |
| Time: 5.8 seconds |
| Status: OK |
| PackageFile: RbcBook1_1.5.1.tgz |
INSTALLATION WITH 'R CMD INSTALL RbcBook1_1.5.1.tar.gz'
* Installing to library 'RbcBook1.buildbin-libdir'
* Installing *source* package 'RbcBook1' ...
** R
** data
** inst
** help
>>> Building/Updating help pages for package 'RbcBook1'
Formats: text html latex example
bcStangle text html latex example
bcSweave text html latex example
bcr text html latex example
checkVerbatimLines text html latex example
imageSize text html latex example
perf text html latex example
requireAllBook1 text html latex example
rpart2gNEL text html latex example
** building package indices ...
* DONE (RbcBook1)