Back to the "Multiple platform build/check report"
| IMPORTANT NOTE: R was configured with --enable-strict-barrier on lamb1 |
| Package 204/247 | Hostname | OS | Arch | BUILD | CHECK | BUILD BIN |
ROC1.11.0Vince CareyLast Changed Date: 2007-05-11 21:56:41 -0700 Last Changed Rev: 24616 | lamb1 | Linux (SUSE 10.1) | x86_64 | OK | OK | |
| wellington | Linux (SUSE 9.2) | i686 | [ OK ] | OK | ||
| liverpool | Windows Server 2003 R2 (32-bit) | x64 | OK | OK | OK | |
| pitt | Mac OS X (10.4.10) | i386 | OK | OK | OK |
| Package: ROC |
| Version: 1.11.0 |
| Command: /loc/biocbuild/bbs-2.1-bioc/R/bin/R CMD build ROC |
| RetCode: 0 |
| Time: 18.0 seconds |
| Status: OK |
| PackageFile: ROC_1.11.0.tar.gz |
* checking for file 'ROC/DESCRIPTION' ... OK
* preparing 'ROC':
* checking DESCRIPTION meta-information ... OK
* cleaning src
* installing the package to re-build vignettes
* Installing *source* package 'ROC' ...
** libs
g++ -I/loc/biocbuild/bbs-2.1-bioc/R/include -I/loc/biocbuild/bbs-2.1-bioc/R/include -I/usr/local/include -fpic -g -O2 -Wall -c ROC.cc -o ROC.o
g++ -shared -L/usr/local/lib -o ROC.so ROC.o -L/loc/biocbuild/bbs-2.1-bioc/R/lib -lR
** R
** inst
** preparing package for lazy loading
** help
>>> Building/Updating help pages for package 'ROC'
Formats: text html latex example
AUC text html latex example
plot-methods text html latex example
rocc-class text html latex example
rocdemo.sca text html latex example
trapezint text html latex example
** building package indices ...
* DONE (ROC)
* creating vignettes ... OK
* cleaning src
* removing junk files
* checking for LF line-endings in source files
* checking for empty or unneeded directories
* building 'ROC_1.11.0.tar.gz'