Back to the "Multiple platform build/check report"
| IMPORTANT NOTE: R was configured with --enable-strict-barrier on lamb1 |
| Package 171/247 | Hostname | OS | Arch | BUILD | CHECK | BUILD BIN |
PGSEA1.3.2Karl DykemaLast Changed Date: 2007-08-17 07:41:58 -0700 Last Changed Rev: 26477 | lamb1 | Linux (SUSE 10.1) | x86_64 | OK | OK | |
| wellington | Linux (SUSE 9.2) | i686 | OK | OK | ||
| liverpool | Windows Server 2003 R2 (32-bit) | x64 | OK | OK | OK | |
| pitt | Mac OS X (10.4.10) | i386 | OK | OK | [ OK ] |
| Package: PGSEA |
| Version: 1.3.2 |
| Command: /Users/biocbuild/BBS/utils/build-universal.sh PGSEA_1.3.2.tar.gz /Library/Frameworks/R.framework/Resources/bin/R PGSEA.buildbin-libdir |
| RetCode: 0 |
| Time: 5.2 seconds |
| Status: OK |
| PackageFile: PGSEA_1.3.2.tgz |
INSTALLATION WITH 'R CMD INSTALL PGSEA_1.3.2.tar.gz'
* Installing to library 'PGSEA.buildbin-libdir'
* Installing *source* package 'PGSEA' ...
** R
** data
** inst
** help
>>> Building/Updating help pages for package 'PGSEA'
Formats: text html latex example
GOLUBmcs text html latex example
PGSEA text html latex example
VAImcs text html latex example
aggregateExprs text html latex example
convertSmc text html latex example
editSmc text html latex example
go2smc text html latex example
nbEset text html latex example
readGmt text html latex example
readSmc text html latex example
scanSmc text html latex example
smcPlot text html latex example
writeGmt text html latex example
writeSmc text html latex example
** building package indices ...
* DONE (PGSEA)