Back to the "Multiple platform build/check report"
| IMPORTANT NOTE: R was configured with --enable-strict-barrier on lamb1 | 
| Package 145/247 | Hostname | OS | Arch | BUILD | CHECK | BUILD BIN | 
| Mfuzz1.7.1Matthias FutschikLast Changed Date: 2007-04-26 11:09:02 -0700 Last Changed Rev: 24312 | lamb1 | Linux (SUSE 10.1) | x86_64 | OK | OK | |
| wellington | Linux (SUSE 9.2) | i686 | OK | OK | ||
| liverpool | Windows Server 2003 R2 (32-bit) | x64 | OK | OK | OK | |
| pitt | Mac OS X (10.4.10) | i386 | OK | OK | [ OK ] | 
| Package: Mfuzz | 
| Version: 1.7.1 | 
| Command: /Users/biocbuild/BBS/utils/build-universal.sh Mfuzz_1.7.1.tar.gz /Library/Frameworks/R.framework/Resources/bin/R Mfuzz.buildbin-libdir | 
| RetCode: 0 | 
| Time: 3.7 seconds | 
| Status: OK | 
| PackageFile: Mfuzz_1.7.1.tgz | 
                    INSTALLATION WITH 'R CMD INSTALL Mfuzz_1.7.1.tar.gz'
* Installing to library 'Mfuzz.buildbin-libdir'
* Installing *source* package 'Mfuzz' ...
** R
** data
** inst
** help
Note: unmatched right brace in 'standardise2' on or after line 34
 >>> Building/Updating help pages for package 'Mfuzz'
     Formats: text html latex example 
  acore                             text    html    latex   example
  cselection                        text    html    latex   example
  fill.NA                           text    html    latex   example
  filter.NA                         text    html    latex   example
  filter.std                        text    html    latex   example
  kmeans2                           text    html    latex   example
  kmeans2.plot                      text    html    latex   example
  mfuzz                             text    html    latex   example
  mfuzz.plot                        text    html    latex   example
  mfuzz.plot2                       text    html    latex   example
  mfuzzColorBar                     text    html    latex   example
  overlap                           text    html    latex   example
  overlap.plot                      text    html    latex   example
  partcoef                          text    html    latex   example
  randomise                         text    html    latex   example
  standardise                       text    html    latex   example
  standardise2                      text    html    latex   example
  top.count                         text    html    latex   example
  yeast                             text    html    latex
** building package indices ...
* DONE (Mfuzz)