Back to the "Multiple platform build/check report"
| IMPORTANT NOTE: R was configured with --enable-strict-barrier on lamb1 | 
| Package 142/247 | Hostname | OS | Arch | BUILD | CHECK | BUILD BIN | 
MeasurementError.cor1.9.1Beiying DingLast Changed Date: 2007-07-31 11:09:20 -0700 Last Changed Rev: 26074  | lamb1 | Linux (SUSE 10.1) | x86_64 | OK | OK | |
| wellington | Linux (SUSE 9.2) | i686 | [ OK ] | OK | ||
| liverpool | Windows Server 2003 R2 (32-bit) | x64 | OK | OK | OK | |
| pitt | Mac OS X (10.4.10) | i386 | OK | OK | OK | 
| Package: MeasurementError.cor | 
| Version: 1.9.1 | 
| Command: /loc/biocbuild/bbs-2.1-bioc/R/bin/R CMD build MeasurementError.cor | 
| RetCode: 0 | 
| Time: 20.5 seconds | 
| Status: OK | 
| PackageFile: MeasurementError.cor_1.9.1.tar.gz | 
* checking for file 'MeasurementError.cor/DESCRIPTION' ... OK
* preparing 'MeasurementError.cor':
* checking DESCRIPTION meta-information ... OK
* checking whether 'INDEX' is up-to-date ... NO
* use '--force' to overwrite the existing 'INDEX'
* installing the package to re-build vignettes
* Installing *source* package 'MeasurementError.cor' ...
** R
** inst
** help
 >>> Building/Updating help pages for package 'MeasurementError.cor'
     Formats: text html latex example 
  cor.me.matrix                     text    html    latex   example
  cor.me.vector                     text    html    latex   example
** building package indices ...
* DONE (MeasurementError.cor)
* creating vignettes ... OK
* removing junk files
* excluding invalid files from 'MeasurementError.cor'
Subdirectory 'R' contains invalid file names:
  zzz
Subdirectory 'man' contains invalid file names:
  CalcInitials cor.me fcn fcn.uncons gradient gradient.uncons
  TransformCon2Uncon TransformUncon2Con
* checking for LF line-endings in source files
* checking for empty or unneeded directories
* building 'MeasurementError.cor_1.9.1.tar.gz'