Back to the "Multiple platform build/check report"
| IMPORTANT NOTE: R was configured with --enable-strict-barrier on lamb1 | 
| Package 135/247 | Hostname | OS | Arch | BUILD | CHECK | BUILD BIN | 
MANOR1.9.4Pierre NeuvialLast Changed Date: 2007-06-19 07:39:13 -0700 Last Changed Rev: 25474  | lamb1 | Linux (SUSE 10.1) | x86_64 | OK | [ OK ] | |
| wellington | Linux (SUSE 9.2) | i686 | OK | OK | ||
| liverpool | Windows Server 2003 R2 (32-bit) | x64 | OK | OK | OK | |
| pitt | Mac OS X (10.4.10) | i386 | OK | OK | OK | 
| Package: MANOR | 
| Version: 1.9.4 | 
| Command: /home/biocbuild/bbs-2.1-bioc/R/bin/R CMD check MANOR_1.9.4.tar.gz | 
| RetCode: 0 | 
| Time: 40.6 seconds | 
| Status: OK | 
| CheckDir: MANOR.Rcheck | 
| Warnings: 0 | 
* checking for working latex ... OK * using log directory '/home/biocbuild/bbs-2.1-bioc/meat/MANOR.Rcheck' * using R version 2.6.0 Under development (unstable) (2007-08-06 r42439) * checking for file 'MANOR/DESCRIPTION' ... OK * this is package 'MANOR' version '1.9.4' * checking package dependencies ... OK * checking if this is a source package ... OK * checking whether package 'MANOR' can be installed ... OK * checking package directory ... OK * checking for portable file names ... OK * checking for sufficient/correct file permissions ... OK * checking DESCRIPTION meta-information ... OK * checking top-level files ... OK * checking index information ... OK * checking package subdirectories ... OK * checking R files for non-ASCII characters ... OK * checking R files for syntax errors ... OK * checking whether the package can be loaded ... OK * checking whether the package can be loaded with stated dependencies ... OK * checking for unstated dependencies in R code ... OK * checking S3 generic/method consistency ... OK * checking replacement functions ... OK * checking foreign function calls ... OK * checking R code for possible problems ... NOTE getChromosomeArm: no visible binding for global variable 'cytoband' w: no visible binding for global variable 'fh' * checking Rd files ... OK * checking Rd cross-references ... OK * checking for missing documentation entries ... OK * checking for code/documentation mismatches ... OK * checking Rd \usage sections ... NOTE S3 methods shown with full name in documentation object 'arrayTrend': arrayTrend.default arrayTrend.arrayCGH S3 methods shown with full name in documentation object 'detectSB': detectSB.arrayCGH S3 methods shown with full name in documentation object 'flag.summary': flag.summary.arrayCGH flag.summary.default S3 methods shown with full name in documentation object 'genome.plot': genome.plot.arrayCGH genome.plot.default S3 methods shown with full name in documentation object 'html.report': html.report.arrayCGH html.report.default S3 methods shown with full name in documentation object 'nem': nem.default nem.arrayCGH S3 methods shown with full name in documentation object 'report.plot': report.plot.arrayCGH report.plot.default S3 methods shown with full name in documentation object 'sort.arrayCGH': sort.arrayCGH The \usage entries for S3 methods should use the \method markup and not their full name. See the chapter 'Writing R documentation files' in manual 'Writing R Extensions'. * checking data for non-ASCII characters ... OK * checking line endings in C/C++/Fortran sources/headers ... OK * checking line endings in Makefiles ... OK * checking for portable use of $BLAS_LIBS ... OK * creating MANOR-Ex.R ... OK * checking examples ... OK * checking package vignettes in 'inst/doc' ... OK * creating MANOR-manual.tex ... OK * checking MANOR-manual.tex ... OK
MANOR.Rcheck/00install.out:
* Installing *source* package 'MANOR' ...
** libs
gcc -std=gnu99 -I/home/biocbuild/bbs-2.1-bioc/R/include -I/home/biocbuild/bbs-2.1-bioc/R/include  -I/usr/local/include    -fpic  -g -O2 -Wall -c exememo.c -o exememo.o
gcc -std=gnu99 -I/home/biocbuild/bbs-2.1-bioc/R/include -I/home/biocbuild/bbs-2.1-bioc/R/include  -I/usr/local/include    -fpic  -g -O2 -Wall -c lib_io.c -o lib_io.o
lib_io.c: In function 'CountLinesColumns':
lib_io.c:354: warning: 'maxcols' may be used uninitialized in this function
lib_io.c:354: warning: 'mincols' may be used uninitialized in this function
gcc -std=gnu99 -I/home/biocbuild/bbs-2.1-bioc/R/include -I/home/biocbuild/bbs-2.1-bioc/R/include  -I/usr/local/include    -fpic  -g -O2 -Wall -c nem_alg.c -o nem_alg.o
nem_alg.c: In function 'ClassifyByNemOneBeta':
nem_alg.c:1631: warning: 'bestbeta' may be used uninitialized in this function
gcc -std=gnu99 -I/home/biocbuild/bbs-2.1-bioc/R/include -I/home/biocbuild/bbs-2.1-bioc/R/include  -I/usr/local/include    -fpic  -g -O2 -Wall -c nem_hlp.c -o nem_hlp.o
gcc -std=gnu99 -I/home/biocbuild/bbs-2.1-bioc/R/include -I/home/biocbuild/bbs-2.1-bioc/R/include  -I/usr/local/include    -fpic  -g -O2 -Wall -c nem_mod.c -o nem_mod.o
gcc -std=gnu99 -I/home/biocbuild/bbs-2.1-bioc/R/include -I/home/biocbuild/bbs-2.1-bioc/R/include  -I/usr/local/include    -fpic  -g -O2 -Wall -c nem_nei.c -o nem_nei.o
gcc -std=gnu99 -I/home/biocbuild/bbs-2.1-bioc/R/include -I/home/biocbuild/bbs-2.1-bioc/R/include  -I/usr/local/include    -fpic  -g -O2 -Wall -c nem_rnd.c -o nem_rnd.o
gcc -std=gnu99 -I/home/biocbuild/bbs-2.1-bioc/R/include -I/home/biocbuild/bbs-2.1-bioc/R/include  -I/usr/local/include    -fpic  -g -O2 -Wall -c nem_ver.c -o nem_ver.o
gcc -std=gnu99 -I/home/biocbuild/bbs-2.1-bioc/R/include -I/home/biocbuild/bbs-2.1-bioc/R/include  -I/usr/local/include    -fpic  -g -O2 -Wall -c Rnem_arg.c -o Rnem_arg.o
gcc -std=gnu99 -I/home/biocbuild/bbs-2.1-bioc/R/include -I/home/biocbuild/bbs-2.1-bioc/R/include  -I/usr/local/include    -fpic  -g -O2 -Wall -c Rnem_exe.c -o Rnem_exe.o
Rnem_exe.c: In function 'nem':
Rnem_exe.c:178: warning: 'tmpV' is used uninitialized in this function
gcc -std=gnu99 -shared -L/usr/local/lib64 -o MANOR.so exememo.o lib_io.o nem_alg.o nem_hlp.o nem_mod.o nem_nei.o nem_rnd.o nem_ver.o Rnem_arg.o Rnem_exe.o   -L/home/biocbuild/bbs-2.1-bioc/R/lib -lR
** R
** data
** inst
** preparing package for lazy loading
Loading required package: GLAD
Loading required package: aws
Loading required package: tcltk
Loading Tcl/Tk interface ... done
[1] "Have fun with GLAD"
** help
 >>> Building/Updating help pages for package 'MANOR'
     Formats: text html latex example 
  MANOR-internal                    text    html    latex
  arrayTrend                        text    html    latex   example
  detectSB                          text    html    latex   example
  flag                              text    html    latex   example
  flag.arrayCGH                     text    html    latex   example
  flag.summary                      text    html    latex   example
  flags                             text    html    latex   example
  genome.plot                       text    html    latex   example
  html.report                       text    html    latex   example
  import                            text    html    latex   example
  nem                               text    html    latex   example
  norm.arrayCGH                     text    html    latex   example
  qscore                            text    html    latex   example
  qscore.arrayCGH                   text    html    latex   example
  qscore.summary                    text    html    latex   example
  qscores                           text    html    latex   example
  report.plot                       text    html    latex   example
  sort.arrayCGH                     text    html    latex   example
  spatial                           text    html    latex   example
** building package indices ...
* DONE (MANOR)