Back to the "Multiple platform build/check report"
| IMPORTANT NOTE: R was configured with --enable-strict-barrier on lamb1 |
| Package 107/247 | Hostname | OS | Arch | BUILD | CHECK | BUILD BIN |
Harshlight1.5.0Maurizio PellegrinoLast Changed Date: 2007-04-24 11:31:42 -0700 Last Changed Rev: 24217 | lamb1 | Linux (SUSE 10.1) | x86_64 | OK | WARNINGS | |
| wellington | Linux (SUSE 9.2) | i686 | OK | WARNINGS | ||
| liverpool | Windows Server 2003 R2 (32-bit) | x64 | OK | WARNINGS | OK | |
| pitt | Mac OS X (10.4.10) | i386 | OK | WARNINGS | [ OK ] |
| Package: Harshlight |
| Version: 1.5.0 |
| Command: /Users/biocbuild/BBS/utils/build-universal.sh Harshlight_1.5.0.tar.gz /Library/Frameworks/R.framework/Resources/bin/R Harshlight.buildbin-libdir |
| RetCode: 0 |
| Time: 7.4 seconds |
| Status: OK |
| PackageFile: Harshlight_1.5.0.tgz |
INSTALLATION WITH 'R CMD INSTALL Harshlight_1.5.0.tar.gz'
* Installing to library 'Harshlight.buildbin-libdir'
* Installing *source* package 'Harshlight' ...
** libs
** arch - i386
gcc-4.0 -arch i386 -isysroot /Developer/SDKs/MacOSX10.4u.sdk -no-cpp-precomp -I/Library/Frameworks/R.framework/Resources/include -I/Library/Frameworks/R.framework/Resources/include/i386 -msse3 -D__NO_MATH_INLINES -fPIC -g -O2 -Wall -std=gnu99 -march=nocona -c Harshlight.c -o Harshlight.o
gcc-4.0 -arch i386 -isysroot /Developer/SDKs/MacOSX10.4u.sdk -dynamiclib -Wl,-macosx_version_min -Wl,10.3 -undefined dynamic_lookup -single_module -multiply_defined suppress -L/usr/local/lib -o Harshlight.so Harshlight.o -F/Library/Frameworks/R.framework/.. -framework R
** arch - ppc
gcc-4.0 -arch ppc -isysroot /Developer/SDKs/MacOSX10.4u.sdk -std=gnu99 -no-cpp-precomp -I/Library/Frameworks/R.framework/Resources/include -I/Library/Frameworks/R.framework/Resources/include/ppc -I/usr/local/include -fPIC -g -O2 -Wall -c Harshlight.c -o Harshlight.o
gcc-4.0 -arch ppc -isysroot /Developer/SDKs/MacOSX10.4u.sdk -std=gnu99 -dynamiclib -Wl,-macosx_version_min -Wl,10.3 -undefined dynamic_lookup -single_module -multiply_defined suppress -L/usr/local/lib -o Harshlight.so Harshlight.o -F/Library/Frameworks/R.framework/.. -framework R
** R
** data
** inst
** preparing package for lazy loading
Loading required package: affy
Loading required package: Biobase
Loading required package: tools
Welcome to Bioconductor
Vignettes contain introductory material. To view, type
'openVignette()'. To cite Bioconductor, see
'citation("Biobase")' and for packages 'citation(pkgname)'.
Loading required package: affyio
Loading required package: preprocessCore
** help
>>> Building/Updating help pages for package 'Harshlight'
Formats: text html latex example
HarshComp text html latex
HarshExt text html latex
Harshlight text html latex example
sim text html latex
** building package indices ...
* DONE (Harshlight)